Workbook
Name _tmp2009116151651897: #REF!
Name _tmp2009116151651897: #REF!
Name _tmp2009116151651897: #REF!
Name _tmp2009116151651897: #REF!
Name _tmp20096993259669: #REF!
Name _tmp20096993259669: #REF!
Name _tmp20096993259669: #REF!
Name _tmp20096993259669: #REF!
Name _tmp2009828102353322: #REF!
Name _tmp2009828102353322: #REF!
Name _tmp2009828102353322: #REF!
Name _tmp2009828102353322: #REF!
Name a: #REF!
Name a: #REF!
Name a: #REF!
Name Q_01_02: #REF!
Name Q_01_02: #REF!
Name Q_01_02: #REF!
Name Q_01_02: #REF!
Name Q_01_06: #REF!
Name Q_01_06: #REF!
Name Q_01_06: #REF!
Name Q_01_06: #REF!
Name Q_01_06: #REF!
Name Q_01_06: #REF!
Name Q_07_02: #REF!
Name Q_07_02: #REF!
Name Q_07_02: #REF!
Name Q_07_02: #REF!
Name Q_07_02: #REF!
Name Q_07_02: #REF!
Name Q_08_01: #REF!
Name Q_08_01: #REF!
Name Q_08_01: #REF!
Name Q_08_01: #REF!
Name Q_08_01: #REF!
Name Q_08_01: #REF!
Name Q_08_02: #REF!
Name Q_08_02: #REF!
Name Q_08_02: #REF!
Name Q_08_02: #REF!
Name Q_08_02: #REF!
Name Q_08_02: #REF!
Name Q_08_03: #REF!
Name Q_08_03: #REF!
Name Q_08_03: #REF!
Name Q_08_03: #REF!
Name Q_08_03: #REF!
Name Q_08_03: #REF!
Name Q_08_04: #REF!
Name Q_08_04: #REF!
Name Q_08_04: #REF!
Name Q_08_04: #REF!
Name Q_08_04: #REF!
Name Q_08_04: #REF!
Name v: #REF!
Name v: #REF!
Name v: #REF!
Name v: #REF!
Name v: #REF!

Sheet 試算表
A1: 退職手当試算表 | AS1: 行政職 | AT1: 1 | AU1: 定年 | AX1: 有
B2: 職名 | G2: 氏名 | N2: 生年月日 | S2: 年齢 | U2: 給料表 | AA2: 級 | AD2: 号給 | AG2: 給料の調整額 | AS2: 医療職（二） | AT2: 4 | AU2: 応募認定 | AX2: 無
B3: 教諭 | G3: 福利 福子 | N3: 23498 | S3: =DATEDIF(N3,G6,"y") -> 61 | U3: 教育職（一） | AA3: 2 | AD3: 140 | AG3: 無 | AM3: =VLOOKUP(U3,AS1:AT5,2,FALSE) -> 7 | AO3: =IF(OR(AA3="特２",AA3="特二",AA3="特2"),"T2",AA3) -> 2 | AS3: 教育職（一） | AT3: 7 | AU3: 自己都合
AS4: 小・中教育職 | AT4: 8 | AU4: 期限付・任期満了
B5: 採用年月日 | G5: 退職年月日 | L5: 退職事由 | R5: 在職年数 | AA5: 勤続年数（年未満切捨） | AS5: 行政職（会計年度フル） | AT5: 21 | AU5: 会計年度・任期満了
B6: 32599 | G6: 46112 | L6: 60歳到達日以降非違よらず | R6: =AT7 -> 37 | T6: 年 | V6: =AU7 -> 0 | Y6: 月 | AA6: =AT8 -> 37 | AC6: 年 | AE6: =AU8 -> 0 | AH6: 月 | AM6: =IF(AND(G6>=DATE(2020,4,1),G6<=DATE(2021,3,31)),2020,IF(AND(G6>=DATE(2021,4,1),G6<=DATE(2022,3,31)),2021,IF(AND(G6>=DATE(2022,4,1),G6<=DATE(2023,3,31)),2022,IF(AND(G6>=DATE(2023,4,1),G6<=DATE(2024,3,31)),2023,0)))) -> 0 | AS6: =ROUNDUP(DATEDIF(B6,G6,"M")&"."&DATEDIF(B6,G6,"MD"),0) -> 444 | AU6: 60歳到達日以降非違よらず
AS7: =AS6-AF9 -> 444 | AT7: =IF(AS6/12<1,1,ROUNDDOWN(AS6/12,0)) -> 37 | AU7: =IF(AS6/12<1,0,MOD(AS6,12)) -> 0
B8: 休職①年月日 | G8: 休職①復帰日 | N8: 除算対象月数 | AF8: 除算月数 | AM8: =MONTH(G6) -> 3 | AO8: =DATEDIF(N3,AM10,"y") -> #NUM! | AT8: =IF(AS7/12<1,1,ROUNDDOWN(AS7/12,0)) -> 37 | AU8: =IF(AS7/12<1,0,MOD(AS7,12)) -> 0
L9: × | N9: =IF(AS9<AS10,DATEDIF(AS9,AS10+1,"M"),0) -> 0 | R9: 月 | AF9: =AG12+AG18+AG22+AG36+AG30+AG39+AG42+AG45+AG49 -> 0 | AJ9: 月 | AS9: =IF(B9>0,IF(DAY(B9)>1,DATE(YEAR(B9),MONTH(B9)+1,1),B9),"")
AM10: =IF(OR(AM8=1,AM8=2,AM8=3),DATE(AM6,3,31),DATE(AM6+1,3,31)) -> 91 | AS10: =IF(G9>0,(IF(G9-1=DATE(YEAR(G9-1),MONTH(G9-1)+1,0),G9-1,DATE(YEAR(G9-1),MONTH(G9-1),0))),"")
B11: 休職②年月日 | G11: 休職②復帰日
L12: × | N12: =IF(AS12<AS13,DATEDIF(AS12,AS13+1,"M"),0) -> 0 | R12: 月 | W12: =N9+N12+N15 -> 0 | AA12: 月× | AC12: 1/2 | AF12: ＝ | AG12: =W12/2 -> 0 | AJ12: 月 | AS12: =IF(B12>0,IF(DAY(B12)>1,DATE(YEAR(B12),MONTH(B12)+1,1),B12),"")
AS13: =IF(G12>0,(IF(G12-1=DATE(YEAR(G12-1),MONTH(G12-1)+1,0),G12-1,DATE(YEAR(G12-1),MONTH(G12-1),0))),"")
B14: 休職③年月日 | G14: 休職③復帰日
L15: × | N15: =IF(AS15<AS16,DATEDIF(AS15,AS16+1,"M"),0) -> 0 | R15: 月 | AS15: =IF(B15>0,IF(DAY(B15)>1,DATE(YEAR(B15),MONTH(B15)+1,1),B15),"")
AS16: =IF(G15>0,(IF(G15-1=DATE(YEAR(G15-1),MONTH(G15-1)+1,0),G15-1,DATE(YEAR(G15-1),MONTH(G15-1),0))),"")
B17: 育休①年月日 | G17: 育休①復帰日 | L17: 子の誕生日
B18: =IF(R17="","",R17+57) | L18: × | N18: =IF(R17="",0,IF(AS18<AS19,DATEDIF(AS18,AS19+1,"M"),0)) -> 0 | R18: 月 | Y18: =IF(AS18="",0,IF(AS19>AT19,DATEDIF(AS18,AT19,"M")+1,(DATEDIF(AS18,AS19,"M")+1)))+IF(AS21="",0,IF(AS22>AT22,DATEDIF(AS21,AT22,"M")+1,(DATEDIF(AS21,AS22,"M")+1)))+IF(AS24="",0,IF(AS25>AT25,DATEDIF(AS24,AT25,"M")+1,(DATEDIF(AS24,AS25,"M")+1))) -> 0 | AB18: 月× | AD18: 1/3 | AF18: ＝ | AG18: =Y18/3 -> 0 | AJ18: 月 | AR18: 育入り | AS18: =IF(R17>0,IF(DAY(B18)>1,DATE(YEAR(B18),MONTH(B18)+1,1),B18),"")
AR19: 育明け | AS19: =IF(G18>0,(IF(G18-1=DATE(YEAR(G18-1),MONTH(G18-1)+1,0),G18-1,DATE(YEAR(G18-1),MONTH(G18-1),0))),"") | AT19: =IF(R17="","",DATE(YEAR(R17)+1,MONTH(R17)+1,1)-1) | AU19: 1歳まで
B20: 育休②年月日 | G20: 育休②復帰日 | L20: 子の誕生日
B21: =IF(R20="","",R20+57) | L21: × | N21: =IF(R20="",0,IF(AS21<AS22,DATEDIF(AS21,AS22+1,"M"),0)) -> 0 | R21: 月 | AS21: =IF(R20>0,IF(DAY(B21)>1,DATE(YEAR(B21),MONTH(B21)+1,1),B21),"")
Y22: =IF(((IF(AS18="",0,DATEDIF(AS18,AS19+1,"M")))+(IF(AS21="",0,DATEDIF(AS21,AS22+1,"M")))+(IF(AS24="",0,DATEDIF(AS24,AS25+1,"M")))-Y18)<1,0,(IF(AS18="",0,DATEDIF(AS18,AS19+1,"M"))+(IF(AS21="",0,DATEDIF(AS21,AS22+1,"M"))+(IF(AS24="",0,DATEDIF(AS24,AS25+1,"M"))-Y18)))) -> 0 | AB22: 月× | AD22: 1/2 | AF22: ＝ | AG22: =Y22/2 -> 0 | AJ22: 月 | AS22: =IF(G21>0,(IF(G21-1=DATE(YEAR(G21-1),MONTH(G21-1)+1,0),G21-1,DATE(YEAR(G21-1),MONTH(G21-1),0))),"") | AT22: =IF(R20="","",DATE(YEAR(R20)+1,MONTH(R20)+1,1)-1)
B23: 育休③年月日 | G23: 育休③復帰日 | L23: 子の誕生日
B24: =IF(R23="","",R23+57) | L24: × | N24: =IF(R23="",0,IF(AS24<AS25,DATEDIF(AS24,AS25+1,"M"),0)) -> 0 | R24: 月 | AS24: =IF(R23>0,IF(DAY(B24)>1,DATE(YEAR(B24),MONTH(B24)+1,1),B24),"")
AS25: =IF(G24>0,(IF(G24-1=DATE(YEAR(G24-1),MONTH(G24-1)+1,0),G24-1,DATE(YEAR(G24-1),MONTH(G24-1),0))),"") | AT25: =IF(R23="","",DATE(YEAR(R23)+1,MONTH(R23)+1,1)-1)
B26: 育短①年月日 | G26: 育短①年月日
L27: × | N27: =IF(AS27<AS28,DATEDIF(AS27,AS28+1,"M"),0) -> 0 | R27: 月 | AS27: =IF(B27>0,IF(DAY(B27)>1,DATE(YEAR(B27),MONTH(B27)+1,1),B27),"")
AS28: =IF(G27>0,(IF(G27-1=DATE(YEAR(G27-1),MONTH(G27-1)+1,0),G27-1,DATE(YEAR(G27-1),MONTH(G27-1),0))),"")
B29: 育短②年月日 | G29: 育短②年月日
L30: × | N30: =IF(AS30<AS31,DATEDIF(AS30,AS31+1,"M"),0) -> 0 | R30: 月 | W30: =N27+N30+N33 -> 0 | AA30: 月× | AC30: 1/3 | AF30: ＝ | AG30: =W30/3 -> 0 | AJ30: 月 | AS30: =IF(B30>0,IF(DAY(B30)>1,DATE(YEAR(B30),MONTH(B30)+1,1),B30),"")
AS31: =IF(G30>0,(IF(G30-1=DATE(YEAR(G30-1),MONTH(G30-1)+1,0),G30-1,DATE(YEAR(G30-1),MONTH(G30-1),0))),"")
B32: 育短③年月日 | G32: 育短③年月日
L33: × | N33: =IF(AS33<AS34,DATEDIF(AS33,AS34+1,"M"),0) -> 0 | R33: 月 | AS33: =IF(B33>0,IF(DAY(B33)>1,DATE(YEAR(B33),MONTH(B33)+1,1),B33),"")
AS34: =IF(G33>0,(IF(G33-1=DATE(YEAR(G33-1),MONTH(G33-1)+1,0),G33-1,DATE(YEAR(G33-1),MONTH(G33-1),0))),"")
B35: 専従年月日 | G35: 専従復帰日
L36: × | N36: =IF(AS36<AS37,DATEDIF(AS36,AS37+1,"M"),0) -> 0 | R36: 月× | T36: 1/1 | AF36: ＝ | AG36: =N36*1 -> 0 | AJ36: 月 | AS36: =IF(B36>0,IF(DAY(B36)>1,DATE(YEAR(B36),MONTH(B36)+1,1),B36),"")
AS37: =IF(G36>0,(IF(G36-1=DATE(YEAR(G36-1),MONTH(G36-1)+1,0),G36-1,DATE(YEAR(G36-1),MONTH(G36-1),0))),"")
B38: その他休職等（1/2除算分）
L39: × | N39: =IF(AS39<AS40,DATEDIF(AS39,AS40+1,"M"),0) -> 0 | R39: 月× | T39: 1/2 | AF39: ＝ | AG39: =N39/2 -> 0 | AJ39: 月 | AS39: =IF(B39>0,IF(DAY(B39)>1,DATE(YEAR(B39),MONTH(B39)+1,1),B39),"")
AS40: =IF(G39>0,(IF(G39-1=DATE(YEAR(G39-1),MONTH(G39-1)+1,0),G39-1,DATE(YEAR(G39-1),MONTH(G39-1),0))),"")
B41: その他休職等（1/3除算分）
L42: × | N42: =IF(AS42<AS43,DATEDIF(AS42,AS43+1,"M"),0) -> 0 | R42: 月× | T42: 1/3 | AF42: ＝ | AG42: =N42/3 -> 0 | AJ42: 月 | AS42: =IF(B42>0,IF(DAY(B42)>1,DATE(YEAR(B42),MONTH(B42)+1,1),B42),"")
AS43: =IF(G42>0,(IF(G42-1=DATE(YEAR(G42-1),MONTH(G42-1)+1,0),G42-1,DATE(YEAR(G42-1),MONTH(G42-1),0))),"")
B44: その他休職等（1/2除算分）
L45: × | N45: =IF(AS45<AS46,DATEDIF(AS45,AS46+1,"M"),0) -> 0 | R45: 月× | T45: 1/2 | AF45: ＝ | AG45: =N45/2 -> 0 | AJ45: 月 | AS45: =IF(B45>0,IF(DAY(B45)>1,DATE(YEAR(B45),MONTH(B45)+1,1),B45),"")
AS46: =IF(G45>0,(IF(G45-1=DATE(YEAR(G45-1),MONTH(G45-1)+1,0),G45-1,DATE(YEAR(G45-1),MONTH(G45-1),0))),"")
AI48: 除算月数(除算率換算後) 直接入力欄
AJ49: 月 | AS49: =IF(B49>0,IF(DAY(B49)>1,DATE(YEAR(B49),MONTH(B49)+1,1),B49),"")
AS50: =IF(G49>0,(IF(G49-1=DATE(YEAR(G49-1),MONTH(G49-1)+1,0),G49-1,DATE(YEAR(G49-1),MONTH(G49-1),0))),"")
A51: 《給料月額×支給率》
B53: 給料月額 | L53: 給料 | U53: 教職調整額 | AD53: 給料の調整額
B54: =L54+U54+AD54 -> 460635 | H54: 円 | L54: =VLOOKUP(AD3,INDIRECT(AM3&"!"&"$5:$300"),IF(AO3="T2",6,AO3+1),FALSE) -> 438700 | R54: 円 | U54: =IF(OR(AM3=7,AM3=8),IF(OR(AO3=1,AO3=2,AO3="T2"),L54*0.05,"0"),"0") -> 21935 | AA54: 円 | AD54: =ROUNDDOWN(IF(AG3="無",0,IF(L54*0.045<HLOOKUP(AM3,調整基本額!$B:$E,AO54+1,FALSE),L54*0.045,HLOOKUP(AM3,調整基本額!$B:$E,AO54+1,FALSE))),0) -> 0 | AJ54: 円 | AO54: =IF(AO3="T2","10",AA3) -> 2
B57: 特例給料月額 | K57: 応募認定率 | S57: 支給率 | AB57: 給料月額×支給率
B58: =B54*K58 -> 460635 | H58: 円 | K58: =IF(AND(S3>=45,S3<=58,AA6>=20,L6="応募認定"),1+(60-S3)*0.03,IF(AND(S3=59,AA6>=20,L6="応募認定"),1.02,1)) -> 1 | S58: =IF(L6="会計年度・任期満了",VLOOKUP(AA6,'支給率表(退手見直し毎に修正)'!$A$4:$F$48,5,FALSE), IF(L6="期限付・任期満了",VLOOKUP(AA6,'支給率表(退手見直し毎に修正)'!$A$4:$F$48,6,FALSE), IF(L6="自己都合",VLOOKUP(AA6,'支給率表(退手見直し毎に修正)'!$A$4:$F$48,2,FALSE), IF(L6="定年",VLOOKUP(AA6,'支給率表(退手見直し毎に修正)'!$A$4:$F$48,3,FALSE), IF(L6="60歳到達日以降非違よらず",VLOOKUP(AA6,'支給率表(退手見直し毎に修正)'!$A$4:$F$48,3,FALSE), IF(L6="死亡",VLOOKUP(AA6,'支給率表(退手見直し毎に修正)'!$A$4:$F$48,6,FALSE), IF(L6="応募認定", IF(S3>=50, VLOOKUP(AA6,'支給率表(退手見直し毎に修正)'!$A$4:$F$48,3,FALSE), VLOOKUP(AA6,'支給率表(退手見直し毎に修正)'!$A$4:$F$48,4,FALSE))))))))) -> 47.709 | AB58: =IF(L6="応募認定",B58*S58,B54*S58) -> 21976435 | AJ58: 円
A61: 《調整額》
B63: 調整区分
B64: 5 | E64: =IF(B64="",0,VLOOKUP(B64,'調整額(退手見直し毎に修正)'!$A$2:$B$9,2,FALSE)) -> 32500 | I64: × | J64: 60 | M64: 月
E67: =IF(B67="",0,VLOOKUP(B67,'調整額(退手見直し毎に修正)'!$A$2:$B$9,2,FALSE)) -> 0 | I67: × | M67: 月
E70: =IF(B70="",0,VLOOKUP(B70,'調整額(退手見直し毎に修正)'!$A$2:$B$9,2,FALSE)) -> 0 | I70: × | M70: 月
B73: 調整額
B74: =IF(AND(L6="自己都合",AA6<=9),"",IF(AND(L6="自己都合",AA6<=24,AA6>=10),(E64*J64+E67*J67+E70*J70)/2,IF(AND(NOT(L6="自己都合"),AA6<=4),(E64*J64+E67*J67+E70*J70)/2,E64*J64+E67*J67+E70*J70))) -> 1950000 | H74: 円
G79: 《退職手当額》 | Q79: =IF(B74="",ROUNDDOWN(AB58,0),ROUNDDOWN(AB58+B74,0)) -> 23926435 | AA79: 円
Y83: 税法上勤続年数（年未満切上）
B84: 《所得税》 | I84: 《市町村民税》 | P84: 《県民税》 | Z84: =AT85 -> 37 | AB84: 年 | AD84: =AU85 -> 0 | AG84: 月 | AS84: =AS6-AG36 -> 444
AT85: =ROUNDUP(AS84/12,0) -> 37 | AU85: =MOD(AS84,12) -> 0
B86: =IF(OR(L6="死亡",Q79-IF(R6<21,400000*Z84,(Z84-20)*700000+8000000)<0),0,ROUNDDOWN(IF(ROUNDDOWN((Q79-IF(Z84<21,400000*Z84,(Z84-20)*700000+8000000))/2,-3)<=1950000,(ROUNDDOWN((Q79-IF(Z84<21,400000*Z84,(Z84-20)*700000+8000000))/2,-3)*5%*102.1%),IF(ROUNDDOWN((Q79-IF(Z84<21,400000*Z84,(Z84-20)*700000+8000000))/2,-3)<=3300000,((ROUNDDOWN((Q79-IF(Z84<21,400000*Z84,(Z84-20)*700000+8000000))/2,-3)*10%-97500)*102.1%),IF(ROUNDDOWN((Q79-IF(Z84<21,400000*Z84,(Z84-20)*700000+8000000))/2,-3)<=6950000,((ROUNDDOWN((Q79-IF(Z84<21,400000*Z84,(Z84-20)*700000+8000000))/2,-3)*20%-427500)*102.1%),((ROUNDDOWN((Q79-IF(Z84<21,400000*Z84,(Z84-20)*700000+8000000))/2,-3)*23%-636000)*102.1%)))),0)) -> 105979 | I86: =IF(OR(L6="死亡",Q79-IF(Z84<21,400000*Z84,(Z84-20)*700000+8000000)<0),0,ROUNDDOWN(ROUNDDOWN((Q79-IF(Z84<21,400000*Z84,(Z84-20)*700000+8000000))/2,-3)*6%,-2)) -> 120700 | P86: =IF(OR(L6="死亡",Q79-IF(Z84<21,400000*Z84,(Z84-20)*700000+8000000)<0),0,ROUNDDOWN(ROUNDDOWN((Q79-IF(Z84<21,400000*Z84,(Z84-20)*700000+8000000))/2,-3)*4%,-2)) -> 80500
G90: 《差引支給額》 | Q90: =Q79-B86-I86-P86 -> 23619256 | AA90: 円
B94: ※結果は、あくまでも試算であり、その他の要件によって実際と異なる場合があります。

Sheet 試算表(ピーク時特例用)
A1: 退職手当試算表_ピーク時特例適用時 | AS1: 行政職 | AT1: 1 | AU1: 定年 | AX1: 有
B2: 職名 | G2: 氏名 | N2: 生年月日 | S2: 年齢 | U2: 給料表 | AA2: 級 | AD2: 号給 | AG2: 給料の調整額 | AS2: 医療職（二） | AT2: 4 | AU2: 応募認定 | AX2: 無
B3: 教諭 | G3: 福利 福郎 | N3: 23224 | S3: =DATEDIF(N3,G6,"y") -> 62 | U3: 教育職（一） | AA3: 2 | AD3: 132 | AG3: 無 | AM3: =VLOOKUP(U3,AS1:AT5,2,FALSE) -> 7 | AO3: =IF(OR(AA3="特２",AA3="特二",AA3="特2"),"T2",AA3) -> 2 | AS3: 教育職（一） | AT3: 7 | AU3: 自己都合
AS4: 小・中教育職 | AT4: 8 | AU4: 期限付・任期満了
B5: 採用年月日 | G5: 退職年月日 | L5: 退職事由 | R5: 在職年数 | AA5: 勤続年数（年未満切捨） | AS5: 行政職（会計年度フル） | AT5: 21 | AU5: 会計年度・任期満了
B6: 32234 | G6: 46112 | L6: 自己都合 | R6: =AT7 -> 38 | T6: 年 | V6: =AU7 -> 0 | Y6: 月 | AA6: =AT8 -> 38 | AC6: 年 | AE6: =AU8 -> 0 | AH6: 月 | AM6: =IF(AND(G6>=DATE(2020,4,1),G6<=DATE(2021,3,31)),2020,IF(AND(G6>=DATE(2021,4,1),G6<=DATE(2022,3,31)),2021,IF(AND(G6>=DATE(2022,4,1),G6<=DATE(2023,3,31)),2022,IF(AND(G6>=DATE(2023,4,1),G6<=DATE(2024,3,31)),2023,0)))) -> 0 | AS6: =ROUNDUP(DATEDIF(B6,G6,"M")&"."&DATEDIF(B6,G6,"MD"),0) -> 456 | AU6: 60歳到達日以降非違よらず
AS7: =AS6-AF9 -> 456 | AT7: =IF(AS6/12<1,1,ROUNDDOWN(AS6/12,0)) -> 38 | AU7: =IF(AS6/12<1,0,MOD(AS6,12)) -> 0
B8: 休職①年月日 | G8: 休職①復帰日 | N8: 除算対象月数 | AF8: 除算月数 | AM8: =MONTH(G6) -> 3 | AO8: =DATEDIF(N3,AM10,"y") -> #VALUE! | AT8: =IF(AS7/12<1,1,ROUNDDOWN(AS7/12,0)) -> 38 | AU8: =IF(AS7/12<1,0,MOD(AS7,12)) -> 0
L9: × | N9: =IF(AS9<AS10,DATEDIF(AS9,AS10+1,"M"),0) -> 0 | R9: 月 | AF9: =AG12+AG18+AG22+AG36+AG30+AG39+AG42+AG45+AG49 -> 0 | AJ9: 月 | AS9: =IF(B9>0,IF(DAY(B9)>1,DATE(YEAR(B9),MONTH(B9)+1,1),B9),"")
AM10: =IF(OR(AM8=1,AM8=2,AM8=3),DATE(L6,3,31),DATE(L6+1,3,31)) -> #VALUE! | AS10: =IF(G9>0,(IF(G9-1=DATE(YEAR(G9-1),MONTH(G9-1)+1,0),G9-1,DATE(YEAR(G9-1),MONTH(G9-1),0))),"")
B11: 休職②年月日 | G11: 休職②復帰日
L12: × | N12: =IF(AS12<AS13,DATEDIF(AS12,AS13+1,"M"),0) -> 0 | R12: 月 | W12: =N9+N12+N15 -> 0 | AA12: 月× | AC12: 1/2 | AF12: ＝ | AG12: =W12/2 -> 0 | AJ12: 月 | AS12: =IF(B12>0,IF(DAY(B12)>1,DATE(YEAR(B12),MONTH(B12)+1,1),B12),"")
AS13: =IF(G12>0,(IF(G12-1=DATE(YEAR(G12-1),MONTH(G12-1)+1,0),G12-1,DATE(YEAR(G12-1),MONTH(G12-1),0))),"")
B14: 休職③年月日 | G14: 休職③復帰日
L15: × | N15: =IF(AS15<AS16,DATEDIF(AS15,AS16+1,"M"),0) -> 0 | R15: 月 | AS15: =IF(B15>0,IF(DAY(B15)>1,DATE(YEAR(B15),MONTH(B15)+1,1),B15),"")
AS16: =IF(G15>0,(IF(G15-1=DATE(YEAR(G15-1),MONTH(G15-1)+1,0),G15-1,DATE(YEAR(G15-1),MONTH(G15-1),0))),"")
B17: 育休①年月日 | G17: 育休①復帰日 | L17: 子の誕生日
B18: =IF(R17="","",R17+57) | L18: × | N18: =IF(R17="",0,IF(AS18<AS19,DATEDIF(AS18,AS19+1,"M"),0)) -> 0 | R18: 月 | Y18: =IF(AS18="",0,IF(AS19>AT19,DATEDIF(AS18,AT19,"M")+1,(DATEDIF(AS18,AS19,"M")+1)))+IF(AS21="",0,IF(AS22>AT22,DATEDIF(AS21,AT22,"M")+1,(DATEDIF(AS21,AS22,"M")+1)))+IF(AS24="",0,IF(AS25>AT25,DATEDIF(AS24,AT25,"M")+1,(DATEDIF(AS24,AS25,"M")+1))) -> 0 | AB18: 月× | AD18: 1/3 | AF18: ＝ | AG18: =Y18/3 -> 0 | AJ18: 月 | AR18: 育入り | AS18: =IF(R17>0,IF(DAY(B18)>1,DATE(YEAR(B18),MONTH(B18)+1,1),B18),"")
AR19: 育明け | AS19: =IF(G18>0,(IF(G18-1=DATE(YEAR(G18-1),MONTH(G18-1)+1,0),G18-1,DATE(YEAR(G18-1),MONTH(G18-1),0))),"") | AT19: =IF(R17="","",DATE(YEAR(R17)+1,MONTH(R17)+1,1)-1) | AU19: 1歳まで
B20: 育休②年月日 | G20: 育休②復帰日 | L20: 子の誕生日
B21: =IF(R20="","",R20+57) | L21: × | N21: =IF(R20="",0,IF(AS21<AS22,DATEDIF(AS21,AS22+1,"M"),0)) -> 0 | R21: 月 | AS21: =IF(R20>0,IF(DAY(B21)>1,DATE(YEAR(B21),MONTH(B21)+1,1),B21),"")
Y22: =IF(((IF(AS18="",0,DATEDIF(AS18,AS19+1,"M")))+(IF(AS21="",0,DATEDIF(AS21,AS22+1,"M")))+(IF(AS24="",0,DATEDIF(AS24,AS25+1,"M")))-Y18)<1,0,(IF(AS18="",0,DATEDIF(AS18,AS19+1,"M"))+(IF(AS21="",0,DATEDIF(AS21,AS22+1,"M"))+(IF(AS24="",0,DATEDIF(AS24,AS25+1,"M"))-Y18)))) -> 0 | AB22: 月× | AD22: 1/2 | AF22: ＝ | AG22: =Y22/2 -> 0 | AJ22: 月 | AS22: =IF(G21>0,(IF(G21-1=DATE(YEAR(G21-1),MONTH(G21-1)+1,0),G21-1,DATE(YEAR(G21-1),MONTH(G21-1),0))),"") | AT22: =IF(R20="","",DATE(YEAR(R20)+1,MONTH(R20)+1,1)-1)
B23: 育休③年月日 | G23: 育休③復帰日 | L23: 子の誕生日
B24: =IF(R23="","",R23+57) | L24: × | N24: =IF(R23="",0,IF(AS24<AS25,DATEDIF(AS24,AS25+1,"M"),0)) -> 0 | R24: 月 | AS24: =IF(R23>0,IF(DAY(B24)>1,DATE(YEAR(B24),MONTH(B24)+1,1),B24),"")
AS25: =IF(G24>0,(IF(G24-1=DATE(YEAR(G24-1),MONTH(G24-1)+1,0),G24-1,DATE(YEAR(G24-1),MONTH(G24-1),0))),"") | AT25: =IF(R23="","",DATE(YEAR(R23)+1,MONTH(R23)+1,1)-1)
B26: 育短①年月日 | G26: 育短①年月日
L27: × | N27: =IF(AS27<AS28,DATEDIF(AS27,AS28+1,"M"),0) -> 0 | R27: 月 | AS27: =IF(B27>0,IF(DAY(B27)>1,DATE(YEAR(B27),MONTH(B27)+1,1),B27),"")
AS28: =IF(G27>0,(IF(G27-1=DATE(YEAR(G27-1),MONTH(G27-1)+1,0),G27-1,DATE(YEAR(G27-1),MONTH(G27-1),0))),"")
B29: 育短②年月日 | G29: 育短②年月日
L30: × | N30: =IF(AS30<AS31,DATEDIF(AS30,AS31+1,"M"),0) -> 0 | R30: 月 | W30: =N27+N30+N33 -> 0 | AA30: 月× | AC30: 1/3 | AF30: ＝ | AG30: =W30/3 -> 0 | AJ30: 月 | AS30: =IF(B30>0,IF(DAY(B30)>1,DATE(YEAR(B30),MONTH(B30)+1,1),B30),"")
AS31: =IF(G30>0,(IF(G30-1=DATE(YEAR(G30-1),MONTH(G30-1)+1,0),G30-1,DATE(YEAR(G30-1),MONTH(G30-1),0))),"")
B32: 育短③年月日 | G32: 育短③年月日
L33: × | N33: =IF(AS33<AS34,DATEDIF(AS33,AS34+1,"M"),0) -> 0 | R33: 月 | AS33: =IF(B33>0,IF(DAY(B33)>1,DATE(YEAR(B33),MONTH(B33)+1,1),B33),"")
AS34: =IF(G33>0,(IF(G33-1=DATE(YEAR(G33-1),MONTH(G33-1)+1,0),G33-1,DATE(YEAR(G33-1),MONTH(G33-1),0))),"")
B35: 専従年月日 | G35: 専従復帰日
L36: × | N36: =IF(AS36<AS37,DATEDIF(AS36,AS37+1,"M"),0) -> 0 | R36: 月× | T36: 1/1 | AF36: ＝ | AG36: =N36*1 -> 0 | AJ36: 月 | AS36: =IF(B36>0,IF(DAY(B36)>1,DATE(YEAR(B36),MONTH(B36)+1,1),B36),"")
AS37: =IF(G36>0,(IF(G36-1=DATE(YEAR(G36-1),MONTH(G36-1)+1,0),G36-1,DATE(YEAR(G36-1),MONTH(G36-1),0))),"")
B38: その他休職等（1/2除算分）
L39: × | N39: =IF(AS39<AS40,DATEDIF(AS39,AS40+1,"M"),0) -> 0 | R39: 月× | T39: 1/2 | AF39: ＝ | AG39: =N39/2 -> 0 | AJ39: 月 | AS39: =IF(B39>0,IF(DAY(B39)>1,DATE(YEAR(B39),MONTH(B39)+1,1),B39),"")
AS40: =IF(G39>0,(IF(G39-1=DATE(YEAR(G39-1),MONTH(G39-1)+1,0),G39-1,DATE(YEAR(G39-1),MONTH(G39-1),0))),"")
B41: その他休職等（1/3除算分）
L42: × | N42: =IF(AS42<AS43,DATEDIF(AS42,AS43+1,"M"),0) -> 0 | R42: 月× | T42: 1/3 | AF42: ＝ | AG42: =N42/3 -> 0 | AJ42: 月 | AS42: =IF(B42>0,IF(DAY(B42)>1,DATE(YEAR(B42),MONTH(B42)+1,1),B42),"")
AS43: =IF(G42>0,(IF(G42-1=DATE(YEAR(G42-1),MONTH(G42-1)+1,0),G42-1,DATE(YEAR(G42-1),MONTH(G42-1),0))),"")
B44: その他休職等（1/2除算分）
L45: × | N45: =IF(AS45<AS46,DATEDIF(AS45,AS46+1,"M"),0) -> 0 | R45: 月× | T45: 1/2 | AF45: ＝ | AG45: =N45/2 -> 0 | AJ45: 月 | AS45: =IF(B45>0,IF(DAY(B45)>1,DATE(YEAR(B45),MONTH(B45)+1,1),B45),"")
AS46: =IF(G45>0,(IF(G45-1=DATE(YEAR(G45-1),MONTH(G45-1)+1,0),G45-1,DATE(YEAR(G45-1),MONTH(G45-1),0))),"")
AI48: ピーク時までの除算月数(除算率換算後) 直接入力欄
AJ49: 月 | AS49: =IF(B49>0,IF(DAY(B49)>1,DATE(YEAR(B49),MONTH(B49)+1,1),B49),"")
AS50: =IF(G49>0,(IF(G49-1=DATE(YEAR(G49-1),MONTH(G49-1)+1,0),G49-1,DATE(YEAR(G49-1),MONTH(G49-1),0))),"")
A51: 《給料月額×支給率》
B53: 【退職時】
B54: 給料月額 | L54: 給料 | U54: 教職調整額 | AD54: 給料の調整額
B55: =L55+U55+AD55 -> 458535 | H55: 円 | L55: =VLOOKUP(AD3,INDIRECT(AM3&"!"&"$5:$300"),IF(AO3="T2",6,AO3+1),FALSE) -> 436700 | R55: 円 | U55: =IF(OR($AM$3=7,$AM$3=8),IF(OR(AO3=1,AO3=2,AO3="T2"),L55*0.05,"0"),"0") -> 21835 | AA55: 円 | AD55: =ROUNDDOWN(IF(AG3="無",0,IF(L55*0.045<HLOOKUP(AM3,調整基本額!$B:$E,AO55+1,FALSE),L55*0.045,HLOOKUP(AM3,調整基本額!$B:$E,AO55+1,FALSE))),0) -> 0 | AJ55: 円 | AO55: =IF(AO3="T2","10",AA3) -> 2
B58: 【ピーク時】 | AK58: ピーク時以降の除算月数(除算率換算後)
B59: 特定減額日前日 | L59: 特定減額前給料月額（調整額を含む） | AK59: 直接入力欄 | AO59: 始期 | AP59: ～ | AQ59: 終期 | AR59: 在職月数
B60: 45382 | L60: 438048 | R60: 円 | AJ60: 月 | AO60: =B6 -> 32234 | AQ60: =B60 -> 45382 | AR60: =((YEAR(AQ60)-YEAR(AO60))*12)+(MONTH(AQ60)-MONTH(AO60)+1) -> 432
B62: 特例給料月額 | K62: 応募認定率 | S62: 支給率 | AB62: 給料月額×支給率 | AO62: 在職月数 | AP62: ー | AQ62: ピークまでの除算月数 | AS62: 勤続年数 | AT62: ピーク時までの支給率
B63: =B55*K63 -> 458535 | H63: 円 | K63: =IF(AND(S3>=45,S3<=58,AA6>=20,L6="応募認定"),1+(60-S3)*0.03,IF(AND(S3=59,AA6>=20,L6="応募認定"),1.02,1)) -> 1 | S63: =IF(L6="会計年度・任期満了",VLOOKUP(AA6,'支給率表(退手見直し毎に修正)'!$A$4:$F$48,5,FALSE), IF(L6="期限付・任期満了",VLOOKUP(AA6,'支給率表(退手見直し毎に修正)'!$A$4:$F$48,6,FALSE), IF(L6="自己都合",VLOOKUP(AA6,'支給率表(退手見直し毎に修正)'!$A$4:$F$48,2,FALSE), IF(L6="定年",VLOOKUP(AA6,'支給率表(退手見直し毎に修正)'!$A$4:$F$48,3,FALSE), IF(L6="60歳到達日以降非違よらず",VLOOKUP(AA6,'支給率表(退手見直し毎に修正)'!$A$4:$F$48,3,FALSE), IF(L6="死亡",VLOOKUP(AA6,'支給率表(退手見直し毎に修正)'!$A$4:$F$48,6,FALSE), IF(L6="応募認定", IF(S3>=50, VLOOKUP(AA6,'支給率表(退手見直し毎に修正)'!$A$4:$F$48,3,FALSE), VLOOKUP(AA6,'支給率表(退手見直し毎に修正)'!$A$4:$F$48,4,FALSE))))))))) -> 42.7707 | AB63: =IF(L6="応募認定",B63*S63,B55*S63) -> 19611863 | AJ63: 円 | AO63: =AR60 -> 432 | AQ63: =AF9 -> 0 | AR63: =AO63-AQ63 -> 432 | AS63: =ROUNDDOWN(AR63/12,0) -> 36 | AT63: =IF(L6="会計年度・任期満了",VLOOKUP(AS63,'支給率表(退手見直し毎に修正)'!$A$4:$F$48,5,FALSE), IF(L6="期限付・任期満了",VLOOKUP(AS63,'支給率表(退手見直し毎に修正)'!$A$4:$F$48,6,FALSE), IF(L6="自己都合",VLOOKUP(AS63,'支給率表(退手見直し毎に修正)'!$A$4:$F$48,2,FALSE), IF(L6="定年",VLOOKUP(AS63,'支給率表(退手見直し毎に修正)'!$A$4:$F$48,3,FALSE), IF(L6="60歳到達日以降非違よらず",VLOOKUP(AS63,'支給率表(退手見直し毎に修正)'!$A$4:$F$48,3,FALSE), IF(L6="死亡",VLOOKUP(AS63,'支給率表(退手見直し毎に修正)'!$A$4:$F$48,6,FALSE), IF(L6="応募認定", IF(AT3>=50, VLOOKUP(AS63,'支給率表(退手見直し毎に修正)'!$A$4:$F$48,3,FALSE), VLOOKUP(AS63,'支給率表(退手見直し毎に修正)'!$A$4:$F$48,4,FALSE))))))))) -> 40.7619
A66: 《調整額》 | AT66: 退職時支給率とピーク時支給率の差
AO67: 始期 | AP67: ～ | AQ67: 終期 | AR67: 在職月数 | AT67: =AT71-AT63 -> 2.0088
B68: 調整区分 | AO68: =B6 -> 32234 | AQ68: =G6 -> 46112 | AR68: =((YEAR(AQ68)-YEAR(AO68))*12)+(MONTH(AQ68)-MONTH(AO68)+1) -> 456
B69: 5 | E69: =IF(B69="",0,VLOOKUP(B69,'調整額(退手見直し毎に修正)'!$A$2:$B$9,2,FALSE)) -> 32500 | I69: × | J69: 60 | M69: 月
AO70: 在職月数 | AP70: ー | AQ70: ピーク以降の除算月数 | AS70: 勤続年数 | AT70: 退職時までの支給率
AO71: =AR68 -> 456 | AQ71: =AF9+AG60 -> 0 | AR71: =AO71-AQ71 -> 456 | AS71: =ROUNDDOWN(AR71/12,0) -> 38 | AT71: =IF(L6="会計年度・任期満了",VLOOKUP(AS71,'支給率表(退手見直し毎に修正)'!$A$4:$F$48,5,FALSE), IF(L6="期限付・任期満了",VLOOKUP(AS71,'支給率表(退手見直し毎に修正)'!$A$4:$F$48,6,FALSE), IF(L6="自己都合",VLOOKUP(AS71,'支給率表(退手見直し毎に修正)'!$A$4:$F$48,2,FALSE), IF(L6="定年",VLOOKUP(AS71,'支給率表(退手見直し毎に修正)'!$A$4:$F$48,3,FALSE), IF(L6="60歳到達日以降非違よらず",VLOOKUP(AS71,'支給率表(退手見直し毎に修正)'!$A$4:$F$48,3,FALSE), IF(L6="死亡",VLOOKUP(AS71,'支給率表(退手見直し毎に修正)'!$A$4:$F$48,6,FALSE), IF(L6="応募認定", IF(AT11>=50, VLOOKUP(AS71,'支給率表(退手見直し毎に修正)'!$A$4:$F$48,3,FALSE), VLOOKUP(AS71,'支給率表(退手見直し毎に修正)'!$A$4:$F$48,4,FALSE))))))))) -> 42.7707
E72: =IF(B72="",0,VLOOKUP(B72,'調整額(退手見直し毎に修正)'!$A$2:$B$9,2,FALSE)) -> 0 | I72: × | M72: 月
E75: =IF(B75="",0,VLOOKUP(B75,'調整額(退手見直し毎に修正)'!$A$2:$B$9,2,FALSE)) -> 0 | I75: × | M75: 月 | AO75: =L60 -> 438048 | AP75: × | AQ75: =AT63 -> 40.7619 | AR75: ＝ | AS75: =AO75*AQ75 -> 17855669 | AU75: (採用年月日～ピーク時)
AO76: =AU56 -> 0 | AQ76: =AW62 -> 0
AO77: =B55 -> 458535 | AP77: × | AQ77: =AT67 -> 2.0088 | AR77: ＝ | AS77: =AO77*AQ77 -> 921105.11 | AU77: (ピーク時～退職日)
B78: 調整額 | AO78: =AU67 -> 0 | AQ78: =AW67 -> 0
B79: =IF(AND(L6="自己都合",AA6<=9),"",IF(AND(L6="自己都合",AA6<=24,AA6>=10),(E69*J69+E72*J72+E75*J75)/2,IF(AND(NOT(L6="自己都合"),AA6<=4),(E69*J69+E72*J72+E75*J75)/2,E69*J69+E72*J72+E75*J75))) -> 1950000 | H79: 円 | AO79: =E69 -> 32500 | AP79: × | AQ79: 60 | AR79: ＝ | AS79: =B79 -> 1950000 | AU79: (60月の調整額)
AS81: =AS75+AS77+AS79 -> 20726774
AR82: ＝ | AS82: =ROUNDDOWN(AS81,0) -> 20726773 | AT82: (元 | AU82: =ROUNDDOWN((AU66*AW72),0)+AS79 -> 1950000 | AV82: )
G84: 《退職手当額》 | Q84: =AS82 -> 20726773 | AA84: 円
Y88: 税法上勤続年数（年未満切上）
B89: 《所得税》 | I89: 《市町村民税》 | P89: 《県民税》 | Z89: =AT90 -> 38 | AB89: 年 | AD89: =AU90 -> 0 | AG89: 月 | AS89: =AS6-AG36 -> 456
AT90: =ROUNDUP(AS89/12,0) -> 38 | AU90: =MOD(AS89,12) -> 0
B91: =IF(OR(L6="死亡",Q84-IF(R6<21,400000*Z89,(Z89-20)*700000+8000000)<0),0,ROUNDDOWN(IF(ROUNDDOWN((Q84-IF(Z89<21,400000*Z89,(Z89-20)*700000+8000000))/2,-3)<=1950000,(ROUNDDOWN((Q84-IF(Z89<21,400000*Z89,(Z89-20)*700000+8000000))/2,-3)*5%*102.1%),IF(ROUNDDOWN((Q84-IF(Z89<21,400000*Z89,(Z89-20)*700000+8000000))/2,-3)<=3300000,((ROUNDDOWN((Q84-IF(Z89<21,400000*Z89,(Z89-20)*700000+8000000))/2,-3)*10%-97500)*102.1%),IF(ROUNDDOWN((Q84-IF(Z89<21,400000*Z89,(Z89-20)*700000+8000000))/2,-3)<=6950000,((ROUNDDOWN((Q84-IF(Z89<21,400000*Z89,(Z89-20)*700000+8000000))/2,-3)*20%-427500)*102.1%),((ROUNDDOWN((Q84-IF(Z89<21,400000*Z89,(Z89-20)*700000+8000000))/2,-3)*23%-636000)*102.1%)))),0)) -> 3216 | I91: =IF(OR(L6="死亡",Q84-IF(Z89<21,400000*Z89,(Z89-20)*700000+8000000)<0),0,ROUNDDOWN(ROUNDDOWN((Q84-IF(Z89<21,400000*Z89,(Z89-20)*700000+8000000))/2,-3)*6%,-2)) -> 3700 | P91: =IF(OR(L6="死亡",Q84-IF(Z89<21,400000*Z89,(Z89-20)*700000+8000000)<0),0,ROUNDDOWN(ROUNDDOWN((Q84-IF(Z89<21,400000*Z89,(Z89-20)*700000+8000000))/2,-3)*4%,-2)) -> 2500
G95: 《差引支給額》 | Q95: =Q84-B91-I91-P91 -> 20717357 | AA95: 円
B99: ※結果は、あくまでも試算であり、その他の要件によって実際と異なる場合があります。

Sheet 1
A1: 行政職給料表 | C1: 令和７年４月１日以降
A2: 1 | B2: 2 | C2: 3 | D2: 4 | E2: 5 | F2: 6 | G2: 7 | H2: 8 | I2: 9 | J2: 10
A3: 職務の級 | B3: 1 級 | C3: 2 級 | D3: 3 級 | E3: 4 級 | F3: 5 級 | G3: 6 級 | H3: 7 級 | I3: 8 級 | J3: 9 級
A4: 号 給 | B4: 給料月額 | C4: 給料月額 | D4: 給料月額 | E4: 給料月額 | F4: 給料月額 | G4: 給料月額 | H4: 給料月額 | I4: 給料月額 | J4: 給料月額
B5: 円 | C5: 円 | D5: 円 | E5: 円 | F5: 円 | G5: 円 | H5: 円 | I5: 円 | J5: 円 | L5: ※参考：H31改定は、若手（各級の下の号給）中心の改定となったため、改定された最も上の号給を黄色セルで表し、境界線を引いた。
A6: 1 | B6: 202100 | C6: 248300 | D6: 282600 | E6: 316100 | F6: 338900 | G6: 373100 | H6: 427000 | I6: 478200 | J6: 531600
A7: 2 | B7: 203200 | C7: 249600 | D7: 283600 | E7: 317600 | F7: 340700 | G7: 374800 | H7: 428900 | I7: 483500 | J7: 538300
A8: 3 | B8: 204400 | C8: 251000 | D8: 284600 | E8: 319000 | F8: 342500 | G8: 376400 | H8: 430800 | I8: 488400 | J8: 543400
A9: 4 | B9: 205500 | C9: 252400 | D9: 285600 | E9: 320400 | F9: 344200 | G9: 378000 | H9: 432600 | I9: 493000 | J9: 547600
A10: 5 | B10: 206600 | C10: 253800 | D10: 286600 | E10: 321800 | F10: 345900 | G10: 379600 | H10: 434400 | I10: 497000 | J10: 551000
A11: 6 | B11: 208300 | C11: 255200 | D11: 287600 | E11: 322900 | F11: 347600 | G11: 381400 | H11: 436200 | I11: 500400 | J11: 554200
A12: 7 | B12: 209900 | C12: 256600 | D12: 288500 | E12: 323900 | F12: 349300 | G12: 382900 | H12: 438000 | I12: 503300 | J12: 557100
A13: 8 | B13: 211500 | C13: 258000 | D13: 289500 | E13: 325100 | F13: 350900 | G13: 384500 | H13: 439800 | I13: 505800 | J13: 559600
A14: 9 | B14: 213000 | C14: 259400 | D14: 290500 | E14: 326300 | F14: 352500 | G14: 385800 | H14: 441400 | I14: 507800 | J14: 561600
A15: 10 | B15: 214700 | C15: 260600 | D15: 291500 | E15: 327900 | F15: 354200 | G15: 387400 | H15: 442900
A16: 11 | B16: 216300 | C16: 261900 | D16: 292500 | E16: 329500 | F16: 355900 | G16: 389000 | H16: 444400
A17: 12 | B17: 217900 | C17: 263200 | D17: 293500 | E17: 331100 | F17: 357500 | G17: 390500 | H17: 445900
A18: 13 | B18: 219400 | C18: 264400 | D18: 294500 | E18: 332500 | F18: 359000 | G18: 392400 | H18: 447400
A19: 14 | B19: 221100 | C19: 265600 | D19: 295800 | E19: 334100 | F19: 360600 | G19: 394300 | H19: 448700
A20: 15 | B20: 222800 | C20: 266800 | D20: 297100 | E20: 335700 | F20: 362200 | G20: 396200 | H20: 450000
A21: 16 | B21: 224500 | C21: 268000 | D21: 298300 | E21: 337300 | F21: 363700 | G21: 398000 | H21: 451200
A22: 17 | B22: 225700 | C22: 269100 | D22: 299500 | E22: 338700 | F22: 365100 | G22: 399500 | H22: 452400
A23: 18 | B23: 227300 | C23: 270200 | D23: 300800 | E23: 340400 | F23: 366800 | G23: 401300 | H23: 453700
A24: 19 | B24: 228900 | C24: 271300 | D24: 302000 | E24: 342000 | F24: 368400 | G24: 403000 | H24: 455000
A25: 20 | B25: 230400 | C25: 272400 | D25: 303200 | E25: 343600 | F25: 370000 | G25: 404600 | H25: 456200
A26: 21 | B26: 231900 | C26: 273300 | D26: 304200 | E26: 345000 | F26: 371100 | G26: 406300 | H26: 457400
... A50: 45 | B50: 258100 | C50: 292300 | D50: 332700 | E50: 380600 | F50: 398900 | G50: 426100 | H50: 469300
A51: 46 | B51: 258700 | C51: 292900 | D51: 334000 | E51: 381700 | F51: 399600 | G51: 426400
A52: 47 | B52: 259300 | C52: 293600 | D52: 335300 | E52: 382600 | F52: 400300 | G52: 426700
A53: 48 | B53: 259900 | C53: 294200 | D53: 336600 | E53: 383600 | F53: 401000 | G53: 427000
A54: 49 | B54: 260400 | C54: 294900 | D54: 337700 | E54: 384500 | F54: 401500 | G54: 427200
A55: 50 | B55: 261000 | C55: 295500 | D55: 339000 | E55: 385200 | F55: 402100 | G55: 427500
A56: 51 | B56: 261600 | C56: 296200 | D56: 340200 | E56: 385900 | F56: 402700 | G56: 427700
A57: 52 | B57: 262100 | C57: 296900 | D57: 341400 | E57: 386500 | F57: 403400 | G57: 428000
A58: 53 | B58: 262500 | C58: 297400 | D58: 342700 | E58: 386900 | F58: 403800 | G58: 428200
A59: 54 | B59: 262900 | C59: 298000 | D59: 343700 | E59: 387500 | F59: 404400 | G59: 428500
A60: 55 | B60: 263200 | C60: 298600 | D60: 344800 | E60: 388100 | F60: 405000 | G60: 428800
A61: 56 | B61: 263500 | C61: 299300 | D61: 345900 | E61: 388800 | F61: 405500 | G61: 429100
A62: 57 | B62: 263800 | C62: 299900 | D62: 346600 | E62: 389100 | F62: 405900 | G62: 429300
... A78: 73 | B78: 268600 | C78: 308700 | D78: 356700 | E78: 397800 | F78: 412300 | G78: 433300
A79: 74 | B79: 268900 | C79: 309100 | D79: 357200 | E79: 398400 | F79: 412600
A80: 75 | B80: 269200 | C80: 309400 | D80: 357500 | E80: 398800 | F80: 412900
A81: 76 | B81: 269500 | C81: 309700 | D81: 357900 | E81: 399100 | F81: 413100
A82: 77 | B82: 269800 | C82: 309900 | D82: 358300 | E82: 399500 | F82: 413300
A83: 78 | B83: 270100 | C83: 310200 | D83: 358800 | E83: 400000 | F83: 413600
A84: 79 | B84: 270400 | C84: 310400 | D84: 359300 | E84: 400400 | F84: 413900
A85: 80 | B85: 270700 | C85: 310700 | D85: 359800 | E85: 400800 | F85: 414100
A86: 81 | B86: 271000 | C86: 310900 | D86: 360100 | E86: 401200 | F86: 414300
A87: 82 | B87: 271300 | C87: 311100 | D87: 360500 | E87: 401700 | F87: 414600
A88: 83 | B88: 271600 | C88: 311400 | D88: 360900 | E88: 402100 | F88: 414900
A89: 84 | B89: 271900 | C89: 311600 | D89: 361300 | E89: 402500 | F89: 415100
A90: 85 | B90: 272200 | C90: 311900 | D90: 361600 | E90: 402800 | F90: 415300
A91: 86 | B91: 272500 | C91: 312100 | D91: 362000
A92: 87 | B92: 272800 | C92: 312400 | D92: 362400
A93: 88 | B93: 273100 | C93: 312700 | D93: 362800
A94: 89 | B94: 273400 | C94: 313000 | D94: 363000
A95: 90 | B95: 273700 | C95: 313300 | D95: 363400
A96: 91 | B96: 274000 | C96: 313600 | D96: 363800
A97: 92 | B97: 274300 | C97: 313900 | D97: 364200
A98: 93 | B98: 274600 | C98: 314100 | D98: 364400
A99: 94 | C99: 314300 | D99: 364700
A100: 95 | C100: 314600 | D100: 365100
A101: 96 | C101: 315000 | D101: 365400
A102: 97 | C102: 315200 | D102: 365700
A103: 98 | C103: 315500 | D103: 366100
A104: 99 | C104: 315800 | D104: 366500
A105: 100 | C105: 316200 | D105: 366900
A106: 101 | C106: 316400 | D106: 367400
A107: 102 | C107: 316700 | D107: 367800
A108: 103 | C108: 317000 | D108: 368200
A109: 104 | C109: 317300 | D109: 368600
A110: 105 | C110: 317500 | D110: 369100
... A114: 109 | C114: 318600 | D114: 370500
A115: 110 | C115: 318900
A116: 111 | C116: 319300
A117: 112 | C117: 319600
A118: 113 | C118: 319800
A119: 114 | C119: 320000
A120: 115 | C120: 320300
A121: 116 | C121: 320700
A122: 117 | C122: 320900
A123: 118 | C123: 321100
A124: 119 | C124: 321400
A125: 120 | C125: 321700
A126: 121 | C126: 322000
... A130: 125 | C130: 323100
A131: 000 | B131: 206600 | C131: 234100 | D131: 275800 | E131: 296400 | F131: 312000 | G131: 338200 | H131: 381100 | I131: 415500 | J131: 468700
A132: 備考 この表は、他の給料表の適用を受けない全ての職員に適用する。

Sheet 4
A1: 医療職（二） | C1: 令和７年４月１日以降
A2: 1 | B2: 2 | C2: 3 | D2: 4 | E2: 5 | F2: 6 | G2: 7 | H2: 8 | I2: 9
A3: 職務の級 | B3: 1 級 | C3: 2 級 | D3: 3 級 | E3: 4 級 | F3: 5 級 | G3: 6 級 | H3: 7 級 | I3: 8 級
A4: 号 給 | B4: 給料月額 | C4: 給料月額 | D4: 給料月額 | E4: 給料月額 | F4: 給料月額 | G4: 給料月額 | H4: 給料月額 | I4: 給料月額
B5: 円 | C5: 円 | D5: 円 | E5: 円 | F5: 円 | G5: 円 | H5: 円 | I5: 円
A6: 1 | B6: 211600 | C6: 250400 | D6: 285000 | E6: 303900 | F6: 336900 | G6: 382900 | H6: 437800 | I6: 502800
A7: 2 | B7: 213700 | C7: 251700 | D7: 285800 | E7: 304700 | F7: 338300 | G7: 384600 | H7: 439700 | I7: 504200
A8: 3 | B8: 215800 | C8: 253000 | D8: 286500 | E8: 305400 | F8: 339700 | G8: 386200 | H8: 441700 | I8: 505500
A9: 4 | B9: 217900 | C9: 254300 | D9: 287300 | E9: 306100 | F9: 341100 | G9: 387800 | H9: 443500 | I9: 506800
A10: 5 | B10: 219900 | C10: 255500 | D10: 288100 | E10: 306800 | F10: 342500 | G10: 389300 | H10: 445300 | I10: 508100
A11: 6 | B11: 221900 | C11: 256600 | D11: 288900 | E11: 307500 | F11: 344100 | G11: 390900 | H11: 446900 | I11: 509500
A12: 7 | B12: 223900 | C12: 257600 | D12: 289700 | E12: 308200 | F12: 345600 | G12: 392500 | H12: 448500 | I12: 510900
A13: 8 | B13: 225700 | C13: 258500 | D13: 290400 | E13: 308900 | F13: 347100 | G13: 394100 | H13: 450000 | I13: 512100
A14: 9 | B14: 227500 | C14: 259600 | D14: 291100 | E14: 309700 | F14: 348500 | G14: 395700 | H14: 451500 | I14: 513500
A15: 10 | B15: 229400 | C15: 260700 | D15: 291900 | E15: 310400 | F15: 350100 | G15: 397700 | H15: 452800 | I15: 514800
A16: 11 | B16: 231300 | C16: 261800 | D16: 292700 | E16: 311200 | F16: 351600 | G16: 399700 | H16: 454100 | I16: 516200
A17: 12 | B17: 233400 | C17: 263000 | D17: 293500 | E17: 311800 | F17: 353100 | G17: 401700 | H17: 455400 | I17: 517600
... A26: 21 | B26: 247800 | C26: 272900 | D26: 300500 | E26: 321600 | F26: 366600 | G26: 415700 | H26: 466000 | I26: 527200
A27: 22 | B27: 248600 | C27: 273800 | D27: 301400 | E27: 322800 | F27: 368100 | G27: 417000 | H27: 466800
A28: 23 | B28: 249500 | C28: 274600 | D28: 302300 | E28: 324000 | F28: 369600 | G28: 418300 | H28: 467200
A29: 24 | B29: 250300 | C29: 275400 | D29: 303000 | E29: 325100 | F29: 371100 | G29: 419400 | H29: 467900
A30: 25 | B30: 251200 | C30: 276200 | D30: 303700 | E30: 326300 | F30: 372500 | G30: 420500 | H30: 468400
A31: 26 | B31: 252100 | C31: 277000 | D31: 304600 | E31: 327500 | F31: 374000 | G31: 421600 | H31: 468800
A32: 27 | B32: 253000 | C32: 277800 | D32: 305500 | E32: 328600 | F32: 375500 | G32: 422700 | H32: 469200
A33: 28 | B33: 253900 | C33: 278600 | D33: 306200 | E33: 329800 | F33: 376900 | G33: 423800 | H33: 469600
A34: 29 | B34: 254700 | C34: 279300 | D34: 307000 | E34: 331000 | F34: 378300 | G34: 424600 | H34: 470000
A35: 30 | B35: 255500 | C35: 280100 | D35: 308000 | E35: 332200 | F35: 379900 | G35: 425400 | H35: 470400
A36: 31 | B36: 256200 | C36: 280900 | D36: 308900 | E36: 333400 | F36: 381300 | G36: 426100 | H36: 470700
A37: 32 | B37: 257000 | C37: 281700 | D37: 309900 | E37: 334600 | F37: 382800 | G37: 426900 | H37: 471000
A38: 33 | B38: 257700 | C38: 282500 | D38: 310900 | E38: 335700 | F38: 384000 | G38: 427300 | H38: 471300
... A42: 37 | B42: 260400 | C42: 285600 | D42: 314900 | E42: 340400 | F42: 388400 | G42: 429200 | H42: 472500
A43: 38 | B43: 261000 | C43: 286400 | D43: 315900 | E43: 341600 | F43: 389200 | G43: 429400
A44: 39 | B44: 261600 | C44: 287200 | D44: 316900 | E44: 342900 | F44: 390100 | G44: 429700
A45: 40 | B45: 262200 | C45: 287900 | D45: 317900 | E45: 344100 | F45: 391200 | G45: 430000
A46: 41 | B46: 262800 | C46: 288600 | D46: 318800 | E46: 345000 | F46: 392200 | G46: 430300
A47: 42 | B47: 263400 | C47: 289400 | D47: 320000 | E47: 346200 | F47: 393200 | G47: 430600
A48: 43 | B48: 264000 | C48: 290200 | D48: 321100 | E48: 347400 | F48: 394200 | G48: 430900
A49: 44 | B49: 264500 | C49: 290900 | D49: 322200 | E49: 348600 | F49: 395100 | G49: 431200
A50: 45 | B50: 264900 | C50: 291600 | D50: 323200 | E50: 349500 | F50: 395900 | G50: 431400
A51: 46 | B51: 265500 | C51: 292400 | D51: 324300 | E51: 350500 | F51: 396700 | G51: 431700
A52: 47 | B52: 265900 | C52: 293200 | D52: 325400 | E52: 351500 | F52: 397600 | G52: 432000
A53: 48 | B53: 266300 | C53: 293900 | D53: 326400 | E53: 352400 | F53: 398400 | G53: 432300
A54: 49 | B54: 266700 | C54: 294600 | D54: 327500 | E54: 353300 | F54: 398900 | G54: 432500
... A58: 53 | B58: 268500 | C58: 297300 | D58: 331700 | E58: 356600 | F58: 401700 | G58: 433500
A59: 54 | B59: 268800 | C59: 297900 | D59: 332700 | E59: 357500 | F59: 402400
A60: 55 | B60: 269100 | C60: 298600 | D60: 333700 | E60: 358200 | F60: 403100
A61: 56 | B61: 269400 | C61: 299200 | D61: 334700 | E61: 359100 | F61: 403700
A62: 57 | B62: 269700 | C62: 299900 | D62: 335600 | E62: 359800 | F62: 404100
A63: 58 | B63: 270000 | C63: 300600 | D63: 336600 | E63: 360100 | F63: 404600
A64: 59 | B64: 270300 | C64: 301300 | D64: 337600 | E64: 360500 | F64: 405200
A65: 60 | B65: 270600 | C65: 301900 | D65: 338500 | E65: 361100 | F65: 405800
A66: 61 | B66: 270900 | C66: 302400 | D66: 339400 | E66: 361700 | F66: 406200
A67: 62 | B67: 271200 | C67: 303000 | D67: 340100 | E67: 362400 | F67: 406700
A68: 63 | B68: 271500 | C68: 303700 | D68: 340800 | E68: 363100 | F68: 407200
A69: 64 | B69: 271800 | C69: 304300 | D69: 341400 | E69: 363700 | F69: 407700
A70: 65 | B70: 272100 | C70: 304800 | D70: 342000 | E70: 364400 | F70: 408300
... A82: 77 | B82: 275300 | C82: 311300 | D82: 348200 | E82: 370000 | F82: 413800
A83: 78 | B83: 275600 | C83: 311600 | D83: 348700 | E83: 370300
A84: 79 | B84: 275900 | C84: 311800 | D84: 349100 | E84: 370500
A85: 80 | B85: 276100 | C85: 312100 | D85: 349600 | E85: 370800
A86: 81 | B86: 276300 | C86: 312400 | D86: 350100 | E86: 371300
A87: 82 | B87: 276600 | C87: 312600 | D87: 350400 | E87: 371600
A88: 83 | B88: 276900 | C88: 312900 | D88: 350600 | E88: 371900
A89: 84 | B89: 277100 | C89: 313200 | D89: 350900 | E89: 372200
A90: 85 | B90: 277300 | C90: 313400 | D90: 351300 | E90: 372600
A91: 86 | C91: 313600 | D91: 351700 | E91: 372900
A92: 87 | C92: 313800 | D92: 352000 | E92: 373200
A93: 88 | C93: 314000 | D93: 352300 | E93: 373500
A94: 89 | C94: 314400 | D94: 352600 | E94: 373900
A95: 90 | C95: 314600 | D95: 352800 | E95: 374200
A96: 91 | C96: 314800 | D96: 353200 | E96: 374400
A97: 92 | C97: 315000 | D97: 353500 | E97: 374700
A98: 93 | C98: 315400 | D98: 353700 | E98: 375000
A99: 94 | C99: 315600 | D99: 354000 | E99: 375400
A100: 95 | C100: 315800 | D100: 354300 | E100: 375800
A101: 96 | C101: 316100 | D101: 354500 | E101: 376200
A102: 97 | C102: 316400 | D102: 354700 | E102: 376700
... A106: 101 | C106: 317400 | D106: 355700 | E106: 378400
A107: 102 | C107: 317600 | D107: 355900
A108: 103 | C108: 317800 | D108: 356300
A109: 104 | C109: 318100 | D109: 356500
A110: 105 | C110: 318400 | D110: 356700
A111: 106 | D111: 357000
A112: 107 | D112: 357400
A113: 108 | D113: 357800
A114: 109 | D114: 358000
A115: 110
A116: 111
A117: 112
A118: 113
A119: 000 | B119: 211900 | C119: 238500 | D119: 267900 | E119: 281900 | F119: 308400 | G119: 350600 | H119: 394000 | I119: 458200
A120: 備考 この表は、保健所その他人事委員会規則で定めるものに勤務する薬剤師、獣医師、栄養士、診療エックス線技師及び歯科衛生士その他人事委員会規則で定める業務に従事する職員に適用する。

Sheet 7
A1: 教育職給料表（一） | C1: 令和７年４月１日以降
A2: 1 | B2: 2 | C2: 3 | D2: 4 | E2: 5 | F2: 6 | G2: 7
A3: 職務の級 | B3: 1 | C3: 2 | D3: 3級 （11,500円加算） | E3: 4 （3,800円加算） | F3: 特２級 | G3: 3 | H3: 4
A4: 号 給 | B4: 給料月額 | C4: 給料月額 | E4: 給料月額 | F4: 給料月額 | G4: 給料月額 | H4: 給料月額
B5: 円 | C5: 円 | E5: 円 | G5: 円 | H5: 円
A6: 1 | B6: 219600 | C6: 266500 | D6: =G6+11500 -> 407600 | E6: =H6+3800 -> 475200 | F6: 339200 | G6: 396100 | H6: 471400
A7: 2 | B7: 222000 | C7: 267900 | D7: =G7+11500 -> 409100 | E7: =H7+3800 -> 477000 | F7: 341000 | G7: 397600 | H7: 473200
A8: 3 | B8: 224300 | C8: 269300 | D8: =G8+11500 -> 410500 | E8: =H8+3800 -> 478800 | F8: 342800 | G8: 399000 | H8: 475000
A9: 4 | B9: 226600 | C9: 270700 | D9: =G9+11500 -> 411900 | E9: =H9+3800 -> 480600 | F9: 344500 | G9: 400400 | H9: 476800
A10: 5 | B10: 228800 | C10: 272100 | D10: =G10+11500 -> 413300 | E10: =H10+3800 -> 482300 | F10: 346100 | G10: 401800 | H10: 478500
A11: 6 | B11: 231100 | C11: 273300 | D11: =G11+11500 -> 414700 | E11: =H11+3800 -> 484000 | F11: 348000 | G11: 403200 | H11: 480200
A12: 7 | B12: 233300 | C12: 274500 | D12: =G12+11500 -> 416200 | E12: =H12+3800 -> 485900 | F12: 349900 | G12: 404700 | H12: 482100
A13: 8 | B13: 235500 | C13: 275700 | D13: =G13+11500 -> 417600 | E13: =H13+3800 -> 487700 | F13: 351700 | G13: 406100 | H13: 483900
A14: 9 | B14: 237700 | C14: 277000 | D14: =G14+11500 -> 418900 | E14: =H14+3800 -> 489400 | F14: 353500 | G14: 407400 | H14: 485600
A15: 10 | B15: 239900 | C15: 278100 | D15: =G15+11500 -> 420300 | E15: =H15+3800 -> 491000 | F15: 355500 | G15: 408800 | H15: 487200
A16: 11 | B16: 242100 | C16: 279200 | D16: =G16+11500 -> 421800 | E16: =H16+3800 -> 492600 | F16: 357300 | G16: 410300 | H16: 488800
A17: 12 | B17: 244300 | C17: 280400 | D17: =G17+11500 -> 423300 | E17: =H17+3800 -> 494100 | F17: 359000 | G17: 411800 | H17: 490300
... A26: 21 | B26: 261800 | C26: 297100 | D26: =G26+11500 -> 436400 | E26: =H26+3800 -> 503300 | F26: 372000 | G26: 424900 | H26: 499500
A27: 22 | B27: 263100 | C27: 299300 | D27: =G27+11500 -> 437800 | F27: 373600 | G27: 426300
A28: 23 | B28: 264400 | C28: 301500 | D28: =G28+11500 -> 439200 | F28: 375200 | G28: 427700
A29: 24 | B29: 265600 | C29: 303600 | D29: =G29+11500 -> 440500 | F29: 376700 | G29: 429000
A30: 25 | B30: 266800 | C30: 305600 | D30: =G30+11500 -> 442100 | F30: 378100 | G30: 430600
A31: 26 | B31: 268000 | C31: 307500 | D31: =G31+11500 -> 443500 | F31: 379700 | G31: 432000
A32: 27 | B32: 269200 | C32: 309400 | D32: =G32+11500 -> 444800 | F32: 381200 | G32: 433300
A33: 28 | B33: 270400 | C33: 311200 | D33: =G33+11500 -> 446200 | F33: 382700 | G33: 434700
A34: 29 | B34: 271500 | C34: 313000 | D34: =G34+11500 -> 447600 | F34: 384200 | G34: 436100
A35: 30 | B35: 272500 | C35: 314900 | D35: =G35+11500 -> 448900 | F35: 385800 | G35: 437400
A36: 31 | B36: 273600 | C36: 316700 | D36: =G36+11500 -> 450400 | F36: 387400 | G36: 438900
A37: 32 | B37: 274600 | C37: 318400 | D37: =G37+11500 -> 451900 | F37: 388900 | G37: 440400
A38: 33 | B38: 275700 | C38: 320100 | D38: =G38+11500 -> 453500 | F38: 390400 | G38: 442000
... A66: 61 | B66: 300800 | C66: 365600 | D66: =G66+11500 -> 487400 | F66: 429300 | G66: 475900
A67: 62 | B67: 301400 | C67: 367200 | F67: 430700
A68: 63 | B68: 302200 | C68: 368800 | F68: 432100
A69: 64 | B69: 302800 | C69: 370200 | F69: 433400
A70: 65 | B70: 303800 | C70: 371700 | F70: 434600
A71: 66 | B71: 304600 | C71: 373300 | F71: 435800
A72: 67 | B72: 305300 | C72: 374900 | F72: 437100
A73: 68 | B73: 306000 | C73: 376400 | F73: 438500
A74: 69 | B74: 306600 | C74: 377900 | F74: 439800
A75: 70 | B75: 307300 | C75: 379500 | F75: 441000
A76: 71 | B76: 308000 | C76: 381000 | F76: 442000
A77: 72 | B77: 308700 | C77: 382500 | F77: 443200
A78: 73 | B78: 309400 | C78: 384000 | F78: 444400
... A102: 97 | B102: 325600 | C102: 415500 | F102: 459500
A103: 98 | B103: 326300 | C103: 416500
A104: 99 | B104: 327100 | C104: 417500
A105: 100 | B105: 327800 | C105: 418500
A106: 101 | B106: 328600 | C106: 419400
A107: 102 | B107: 329400 | C107: 420400
A108: 103 | B108: 330300 | C108: 421500
A109: 104 | B109: 331100 | C109: 422600
A110: 105 | B110: 331700 | C110: 423300
A111: 106 | B111: 332500 | C111: 424200
A112: 107 | B112: 333300 | C112: 425100
A113: 108 | B113: 334100 | C113: 426000
A114: 109 | B114: 334800 | C114: 426800
... A150: 145 | B150: 347000 | C150: 439900
A151: 146 | B151: 347200
A152: 147 | B152: 347500
A153: 148 | B153: 347800
A154: 149 | B154: 348000
A155: 150 | B155: 348200
A156: 151 | B156: 348500
A157: 152 | B157: 348800
A158: 153 | B158: 349000
A159: 000 | B159: 253900 | C159: 295600 | D159: =G159+7700 -> 362600 | E159: 442700 | F159: 325800 | G159: 354900
A160: 備考
A161: 1 この表は、高等学校及び特別支援学校に勤務する校長、副校長、教頭、主幹教諭、指導教諭、教諭、養護教諭、栄養教諭、講師、助教諭、養護助教諭、実習助手及び寄宿舎指導員並びに中等教育学校に勤務する職員で人事委員会規則で定めるものに適用する。
A162: 2 この表の適用を受ける職員のうち、その職務の級が3級である職員の給料月額は、この表の額に7,700円をそれぞれ加算した額とする。

Sheet 8
A1: 小学校・中学校教育職員給料表・教育職給料表（二） | E1: 令和７年４月１日以降
A2: 1 | B2: 2 | C2: 3 | D2: 4 | E2: 5 | F2: 6 | G2: 7
A3: 職務の級 | B3: 1 | C3: 2 | D3: 3級 （11,500円加算） | E3: 4 （4,000円加算） | F3: 特２級 | G3: 3 | H3: 4
A4: 号 給 | B4: 給料月額 | C4: 給料月額 | E4: 給料月額 | F4: 給料月額 | G4: 給料月額 | H4: 給料月額
B5: 円 | C5: 円 | E5: 円 | G5: 円 | H5: 円
A6: 1 | B6: 219600 | C6: 240700 | D6: =G6+11500 -> 380100 | E6: =H6+4000 -> 458800 | F6: 339200 | G6: 368600 | H6: 454800
A7: 2 | B7: 222000 | C7: 243100 | D7: =G7+11500 -> 381600 | E7: =H7+4000 -> 460100 | F7: 341000 | G7: 370100 | H7: 456100
A8: 3 | B8: 224300 | C8: 245500 | D8: =G8+11500 -> 383100 | E8: =H8+4000 -> 461300 | F8: 342800 | G8: 371600 | H8: 457300
A9: 4 | B9: 226600 | C9: 248000 | D9: =G9+11500 -> 384500 | E9: =H9+4000 -> 462600 | F9: 344500 | G9: 373000 | H9: 458600
A10: 5 | B10: 228800 | C10: 250400 | D10: =G10+11500 -> 385900 | E10: =H10+4000 -> 463700 | F10: 346100 | G10: 374400 | H10: 459700
A11: 6 | B11: 231100 | C11: 252800 | D11: =G11+11500 -> 387200 | E11: =H11+4000 -> 464800 | F11: 348000 | G11: 375700 | H11: 460800
A12: 7 | B12: 233300 | C12: 255200 | D12: =G12+11500 -> 388500 | E12: =H12+4000 -> 466000 | F12: 349900 | G12: 377000 | H12: 462000
A13: 8 | B13: 235500 | C13: 257700 | D13: =G13+11500 -> 389900 | E13: =H13+4000 -> 467200 | F13: 351700 | G13: 378400 | H13: 463200
A14: 9 | B14: 237700 | C14: 260100 | D14: =G14+11500 -> 391300 | E14: =H14+4000 -> 468500 | F14: 353500 | G14: 379800 | H14: 464500
A15: 10 | B15: 239900 | C15: 261700 | D15: =G15+11500 -> 392600 | E15: =H15+4000 -> 469700 | F15: 355500 | G15: 381100 | H15: 465700
A16: 11 | B16: 242100 | C16: 263300 | D16: =G16+11500 -> 393900 | E16: =H16+4000 -> 470800 | F16: 357300 | G16: 382400 | H16: 466800
A17: 12 | B17: 244300 | C17: 264900 | D17: =G17+11500 -> 395100 | E17: =H17+4000 -> 471900 | F17: 359000 | G17: 383600 | H17: 467900
... A26: 21 | B26: 261800 | C26: 277000 | D26: =G26+11500 -> 405500 | E26: =H26+4000 -> 478400 | F26: 372000 | G26: 394000 | H26: 474400
A27: 22 | B27: 263100 | C27: 278100 | D27: =G27+11500 -> 406700 | F27: 373400 | G27: 395200
A28: 23 | B28: 264400 | C28: 279200 | D28: =G28+11500 -> 407900 | F28: 374800 | G28: 396400
A29: 24 | B29: 265600 | C29: 280400 | D29: =G29+11500 -> 409000 | F29: 376100 | G29: 397500
A30: 25 | B30: 266800 | C30: 281700 | D30: =G30+11500 -> 410000 | F30: 377300 | G30: 398500
A31: 26 | B31: 267900 | C31: 283400 | D31: =G31+11500 -> 411200 | F31: 378700 | G31: 399700
A32: 27 | B32: 269000 | C32: 285100 | D32: =G32+11500 -> 412300 | F32: 380000 | G32: 400800
A33: 28 | B33: 270100 | C33: 286800 | D33: =G33+11500 -> 413400 | F33: 381300 | G33: 401900
A34: 29 | B34: 271300 | C34: 288500 | D34: =G34+11500 -> 414500 | F34: 382500 | G34: 403000
A35: 30 | B35: 272400 | C35: 290500 | D35: =G35+11500 -> 415700 | F35: 383900 | G35: 404200
A36: 31 | B36: 273500 | C36: 292700 | D36: =G36+11500 -> 416900 | F36: 385200 | G36: 405400
A37: 32 | B37: 274500 | C37: 294900 | D37: =G37+11500 -> 418000 | F37: 386500 | G37: 406500
A38: 33 | B38: 275600 | C38: 297100 | D38: =G38+11500 -> 419000 | F38: 387800 | G38: 407500
... A86: 81 | B86: 312300 | C86: 376900 | D86: =G86+11500 -> 458000 | F86: 434300 | G86: 446500
A87: 82 | B87: 312800 | C87: 378200 | F87: 434700
A88: 83 | B88: 313400 | C88: 379500 | F88: 435000
A89: 84 | B89: 314000 | C89: 380700 | F89: 435200
A90: 85 | B90: 314400 | C90: 381900 | F90: 435400
A91: 86 | B91: 314800 | C91: 383100 | F91: 435700
A92: 87 | B92: 315300 | C92: 384200 | F92: 436000
A93: 88 | B93: 315800 | C93: 385300 | F93: 436200
A94: 89 | B94: 316200 | C94: 386300 | F94: 436400
A95: 90 | B95: 316700 | C95: 387400 | F95: 436700
A96: 91 | B96: 317100 | C96: 388500 | F96: 437000
A97: 92 | B97: 317600 | C97: 389600 | F97: 437200
A98: 93 | B98: 317900 | C98: 390700 | F98: 437400
... A102: 97 | B102: 319600 | C102: 394900 | F102: 438400
A103: 98 | B103: 320000 | C103: 395900
A104: 99 | B104: 320400 | C104: 396800
A105: 100 | B105: 320800 | C105: 397700
A106: 101 | B106: 321200 | C106: 398500
A107: 102 | B107: 321500 | C107: 399500
A108: 103 | B108: 321800 | C108: 400300
A109: 104 | B109: 322100 | C109: 401200
A110: 105 | B110: 322300 | C110: 402000
A111: 106 | B111: 322600 | C111: 402900
A112: 107 | B112: 322900 | C112: 403800
A113: 108 | B113: 323100 | C113: 404700
A114: 109 | B114: 323300 | C114: 405500
... A130: 125 | B130: 327300 | C130: 417900
A131: 126 | C131: 418600
A132: 127 | C132: 419100
A133: 128 | C133: 419700
A134: 129 | C134: 420300
A135: 130 | C135: 420900
A136: 131 | C136: 421400
A137: 132 | C137: 421900
A138: 133 | C138: 422200
A139: 134 | C139: 422500
A140: 135 | C140: 422700
A141: 136 | C141: 423000
A142: 137 | C142: 423300
... A162: 157 | C162: 428600
A163: 000 | B163: 245100 | C163: 292500 | D163: =G163+7500 -> 355800 | E163: 432300 | F163: 321000 | G163: 348300 | H163: 432300
A164: 備考
A165: 1 この表は、中学校に勤務する校長、副校長、教頭、主幹教諭、指導教諭、教諭、養護教諭、栄養教諭、 講師、助教諭及び養護助教諭並びに中等教育学校に勤務する職員で人事委員会規則で定めるものに適用する。
A166: 2 この表の適用を受ける職員のうち、その職務の級が3級である職員の給料月額は、この表の額に7,500円 をそれぞれ加算した額とする。

Sheet 21
A1: 会計年度任用職員（フルタイム） | E1: 令和７年４月１日以降
A2: 1 | B2: 2
A3: 職務の級 | B3: 1
A4: 号 給 | B4: 給 料 月 額
B5: 円
A6: 1 | B6: 202100

Sheet 支給率表(退手見直し毎に修正)
A1: 退職手当事由別支給率表
A3: 勤続年数 | B3: 自己都合 （59歳以下） | C3: 定年（61歳） 応募認定（50歳以上） 60歳到達日以降非違よらず | D3: 応募認定 （50歳未満） | E3: 傷病（公務外） 任期終了（会計年度任用職員（フルタイム）のみ） | F3: 死亡、通勤災害による 傷病（公務外） 任期終了（会計年度任用職員（フルタイム）以外）
A4: 1 | B4: 0.5022 | C4: 0.837 | D4: 0 | E4: 0.837 | F4: 0.837
A5: 2 | B5: 1.0044 | C5: 1.674 | D5: 0 | E5: 1.674 | F5: 1.674
A6: 3 | B6: 1.5066 | C6: 2.511 | D6: 0 | E6: 2.511 | F6: 2.511
A7: 4 | B7: 2.0088 | C7: 3.348 | D7: 0 | E7: 3.348 | F7: 3.348
A8: 5 | B8: 2.511 | C8: 4.185 | D8: 0 | E8: 4.185 | F8: 4.185
A9: 6 | B9: 3.0132 | C9: 5.022 | D9: 0 | E9: 5.022 | F9: 5.022
A10: 7 | B10: 3.5154 | C10: 5.859 | D10: 0 | E10: 5.859 | F10: 5.859
A11: 8 | B11: 4.0176 | C11: 6.696 | D11: 0 | E11: 6.696 | F11: 6.696
A12: 9 | B12: 4.5198 | C12: 7.533 | D12: 0 | E12: 7.533 | F12: 7.533
A13: 10 | B13: 5.022 | C13: 8.37 | D13: 0 | E13: 8.37 | F13: 8.37
A14: 11 | B14: 7.43256 | C14: 13.93605 | D14: 11.613375 | E14: 9.2907 | F14: 11.613375
A15: 12 | B15: 8.16912 | C15: 15.3171 | D15: 12.76425 | E15: 10.2114 | F15: 12.76425
... A48: 45 | B48: 47.709 | C48: 47.709 | D48: 47.709 | E48: 47.709 | F48: 47.709

Sheet 調整基本額
A1: 職務の級 | B1: 1 | C1: 4 | D1: 7 | E1: 8 | F1: ←給料表コードの頭の０をとった数値
A2: 1 | B2: 6700 | C2: 6300 | D2: 9100 | E2: 8500
A3: 2 | B3: 8600 | C3: 8100 | D3: 11100 | E3: 11000
A4: 3 | B4: 9700 | C4: 9200 | D4: 12300 | E4: 11900
A5: 4 | B5: 10300 | C5: 9800 | D5: 13300 | E5: 12900
A6: 5 | B6: 10700 | C6: 10600
A7: 6 | B7: 11300 | C7: 11400
A8: 7 | B8: 12200 | C8: 12300
A9: 8 | B9: 12800 | C9: 13900
A10: 9 | B10: 14500
A11: 10 | B11: 0 | C11: 0 | D11: 11600 | E11: 11300

Sheet 調整額(退手見直し毎に修正)
A1: 区分 | B1: 月額
A2: 1 | B2: 65000
A3: 2 | B3: 59550
A4: 3 | B4: 54150
A5: 4 | B5: 43350
A6: 5 | B6: 32500
A7: 6 | B7: 27100
A8: 7 | B8: 21700
A9: 8 | B9: 0

Sheet 調整額区分一覧
C3: 区分 | D3: 給料表 月額 | E3: 教育職(一) 小中教育職 | F3: 行政職 | G3: 医療職(二)
C5: 1 | D5: 65000 | F5: 9級
C6: 2 | D6: 59550 | E6: 4級(管理職手当五種・六種) | F6: 8級
C7: 3 | D7: 54150 | E7: 4級(管理職手当七種) | F7: 7級 | G7: 7級
C8: 4 | D8: 43350 | E8: 4級(管理職手当九種) | F8: 6級 | G8: 6級
E9: 3級(管理職手当九種)
C10: 5 | D10: 32500 | E10: 3級(管理職手当十種) | F10: 5級 | G10: 5級
E11: 特2級 | G11: (5級の期間が48月超)
E12: 2級(4大卒経験年数24年以上)
C13: 6 | D13: 27100 | E13: 2級(4大卒経験年数10年以上) | F13: 4級 | G13: 5級(上記以外)
C14: 7 | D14: 21700 | E14: 2級(その他) | F14: 3級 | G14: 4級
E15: 1級(県歴15年以上) | G15: 3級
C16: 8 | D16: 0 | E16: 1級 | F16: 2級 | G16: 2級
F17: 1級 | G17: 1級
C19: ※勤続9年以下の自己都合等退職者は調整額が支給されない。また，勤続4年以下の退職者（自己都合 等退職者を除く）及び勤続10年以上24年以下の自己都合等退職者は調整額が半額になる。 ※会計年度任用職員（フルタイム）は「区分8」となる。
