Workbook

Sheet 入力フォーム
A1: ① | B1: 所属コード | F1: =ASC(UPPER(MID(D1,1,5)))
A2: ② | B2: 組合員証番号 | F2: =ASC(UPPER(MID(D2,1,6)))
A3: ③ | B3: 貸付種別 | F3: =RIGHT(D3,2)
A4: ④ | B4: 貸付番号 | F4: =ASC(UPPER(MID(D4,1,6)))
A5: ⑤ | B5: 借受年月日は平成19年4月1日以降ですか？ | F5: =RIGHT(D5,1)
A6: ⑥ | B6: 給料月額（給料額＋教職調整額）
A7: ⑦ | B7: 償還猶予残額（育休等で償還猶予を受けていた時のみ入力）
A9: ⑧ | D9: 毎 月 | E9: ボーナス
C10: 一般
C11: 住宅災害
C12: 住宅
C13: 介護
C14: 教育
C15: 災害
C16: 医療
C17: 結婚
C18: 葬祭
C19: 償還合計 | D19: =SUM(D10:D18) -> 0 | E19: =SUM(E10:F18) -> 0
C21: 給料による制限 | D21: =計算用!B10 -> 0 | E21: 給料の6/10 | F21: =計算用!B11 -> 0
C23: 一繰後の償還合計 | D23: =SUM(計算用!D23,計算用!B38:B43) -> #VALUE! | E23: =SUM(計算用!E23,計算用!B44:B49) -> #VALUE!
D25: 2027年1月末時点
A26: ⑨ | B26: 1月末時点の残り回数（毎月部分）
A27: ⑩ | B27: 1月末時点の残高（毎月部分）
A28: ⑪ | B28: 1月末時点の残り回数（ﾎﾞｰﾅｽ部分）
A29: ⑫ | B29: 1月末時点の残高（ﾎﾞｰﾅｽ部分）
A31: ⑬ | B31: 一繰後の希望する償還回数（毎月部分） | E31: =計算用!B34
A32: ⑭ | B32: 一部繰上償還額（毎月部分） | E32: =計算用!B33
A33: ⑮ | B33: 一繰後の希望する償還回数（ﾎﾞｰﾅｽ部分） | E33: =計算用!B36
A34: ⑯ | B34: 一部繰上償還額（ﾎﾞｰﾅｽ部分） | E34: =計算用!B35
A36: 申出書に記入する一繰後の毎月償還額 | D36: =SUM(計算用!B38:B43) -> 0 | E36: =計算用!B50 -> #VALUE!
A37: =計算用!B53
A38: 申出書に記入する一繰後のﾎﾞｰﾅｽ償還額 | D38: =SUM(計算用!B44:B49) -> 0 | E38: =計算用!B51 -> #VALUE!
A40: 実際の納付額（ﾎﾞｰﾅｽの経過利息含む） | D40: =計算用!B52 -> #VALUE!

Sheet 一部繰上償還申出書（共済用）
U1: 再 鑑 | X1: 審 査
A4: 一 部 繰 上 償 還 申 出 書
A5: 共済 | C5: カードNo.
A6: 1 | B6: 2 | C6: 3 | E6: 5
A7: 0 | B7: 1 | C7: 5 | D7: 2 | E7: 2 | H7: 所属所コード | M7: 組合員証番号
M8: 7 | R8: 12
H9: =IF(LEN(入力フォーム!$F$1)<4,"",IF(LEN(入力フォーム!$F$1)=4,"",MID(入力フォーム!$F$1,1,1))) | I9: =IF(LEN(入力フォーム!$F$1)<4,"",IF(LEN(入力フォーム!$F$1)=4,MID(入力フォーム!$F$1,1,1),MID(入力フォーム!$F$1,2,1))) | J9: =IF(LEN(入力フォーム!$F$1)<4,"",IF(LEN(入力フォーム!$F$1)=4,MID(入力フォーム!$F$1,2,1),MID(入力フォーム!$F$1,3,1))) | K9: =IF(LEN(入力フォーム!$F$1)<4,"",IF(LEN(入力フォーム!$F$1)=4,MID(入力フォーム!$F$1,3,1),MID(入力フォーム!$F$1,4,1))) | L9: =IF(LEN(入力フォーム!$F$1)<4,"",IF(LEN(入力フォーム!$F$1)=4,MID(入力フォーム!$F$1,4,1),MID(入力フォーム!$F$1,5,1))) | M9: =IF(LEN(入力フォーム!$F$2)<6,"",MID(入力フォーム!$F$2,1,1)) | N9: =IF(LEN(入力フォーム!$F$2)<6,"",MID(入力フォーム!$F$2,2,1)) | O9: =IF(LEN(入力フォーム!$F$2)<6,"",MID(入力フォーム!$F$2,3,1)) | P9: =IF(LEN(入力フォーム!$F$2)<6,"",MID(入力フォーム!$F$2,4,1)) | Q9: =IF(LEN(入力フォーム!$F$2)<6,"",MID(入力フォーム!$F$2,5,1)) | R9: =IF(LEN(入力フォーム!$F$2)<6,"",MID(入力フォーム!$F$2,6,1))
A10: 一部繰上償還する貸付種別 | K10: 種別 | M10: 貸付番号
A11: 11一般 21住宅災害 31住宅 | K11: 14 | L11: 15 | M11: 16 | R11: 21
A12: 41教育 51災害 61医療 | K12: =MID(入力フォーム!$F$3,1,1) | L12: =MID(入力フォーム!$F$3,2,1) | M12: =IF(LEN(入力フォーム!$F$4)<=4,"",IF(LEN(入力フォーム!$F$4)=5,0,MID(入力フォーム!$F$4,1,1))) | N12: =IF(LEN(入力フォーム!$F$4)<=4,"",IF(LEN(入力フォーム!$F$4)=5,MID(入力フォーム!$F$4,1,1),MID(入力フォーム!$F$4,2,1))) | O12: =IF(LEN(入力フォーム!$F$4)<=4,"",IF(LEN(入力フォーム!$F$4)=5,MID(入力フォーム!$F$4,2,1),MID(入力フォーム!$F$4,3,1))) | P12: =IF(LEN(入力フォーム!$F$4)<=4,"",IF(LEN(入力フォーム!$F$4)=5,MID(入力フォーム!$F$4,3,1),MID(入力フォーム!$F$4,4,1))) | Q12: =IF(LEN(入力フォーム!$F$4)<=4,"",IF(LEN(入力フォーム!$F$4)=5,MID(入力フォーム!$F$4,4,1),MID(入力フォーム!$F$4,5,1))) | R12: =IF(LEN(入力フォーム!$F$4)<=4,"",IF(LEN(入力フォーム!$F$4)=5,MID(入力フォーム!$F$4,5,1),MID(入力フォーム!$F$4,6,1)))
A13: 71結婚 72葬祭 81介護構造 | M13: =IF(LEN(入力フォーム!$F$1)<=3,"",IF(LEN(入力フォーム!$F$1)=4,"",MID(入力フォーム!$F$1,1,1))) | N13: =IF(LEN(入力フォーム!$F$1)<=3,"",IF(LEN(入力フォーム!$F$1)=4,"",MID(入力フォーム!$F$1,1,1))) | O13: =IF(LEN(入力フォーム!$F$1)<=3,"",IF(LEN(入力フォーム!$F$1)=4,"",MID(入力フォーム!$F$1,1,1))) | P13: =IF(LEN(入力フォーム!$F$1)<=3,"",IF(LEN(入力フォーム!$F$1)=4,"",MID(入力フォーム!$F$1,1,1))) | Q13: =IF(LEN(入力フォーム!$F$1)<=3,"",IF(LEN(入力フォーム!$F$1)=4,"",MID(入力フォーム!$F$1,1,1))) | R13: =IF(LEN(入力フォーム!$F$1)<=3,"",IF(LEN(入力フォーム!$F$1)=4,"",MID(入力フォーム!$F$1,1,1)))
A14: 区分 | D14: （ 月末現在） | J14: 一部繰上償還額 | R14: 一部繰上償還額後の償還方法
D15: 未償還回数 | G15: 未償還元金 | J15: （未償還元金取崩額） | R15: 回数 | U15: 一回の償還額
A16: 毎月償還 | D16: =入力フォーム!D26 -> 0 | G16: =入力フォーム!D27 -> 0 | J16: 22 | Q16: 29 | R16: 30 | T16: 32 | U16: 33 | AA16: 39
J17: =IF(LEN(入力フォーム!$D$32)<8,0,MID(入力フォーム!$D$32,1,1)) -> 0 | K17: =IF(LEN(入力フォーム!$D$32)<7,0,IF(LEN(入力フォーム!$D$32)=8,MID(入力フォーム!$D$32,2,1),MID(入力フォーム!$D$32,1,1))) -> 0 | L17: =IF(LEN(入力フォーム!$D$32)<6,0,IF(LEN(入力フォーム!$D$32)=8,MID(入力フォーム!$D$32,3,1),IF(LEN(入力フォーム!$D$32)=7,MID(入力フォーム!$D$32,2,1),MID(入力フォーム!$D$32,1,1)))) -> 0 | M17: =IF(LEN(入力フォーム!$D$32)<5,0,IF(LEN(入力フォーム!$D$32)=8,MID(入力フォーム!$D$32,4,1),IF(LEN(入力フォーム!$D$32)=7,MID(入力フォーム!$D$32,3,1),IF(LEN(入力フォーム!$D$32)=6,MID(入力フォーム!$D$32,2,1),MID(入力フォーム!$D$32,1,1))))) -> 0 | N17: =IF(LEN(入力フォーム!$D$32)<4,0,IF(LEN(入力フォーム!$D$32)=8,MID(入力フォーム!$D$32,5,1),IF(LEN(入力フォーム!$D$32)=7,MID(入力フォーム!$D$32,4,1),IF(LEN(入力フォーム!$D$32)=6,MID(入力フォーム!$D$32,3,1),IF(LEN(入力フォーム!$D$32)=5,MID(入力フォーム!$D$32,2,1),MID(入力フォーム!$D$32,1,1)))))) -> 0 | O17: =IF(LEN(入力フォーム!$D$32)<3,0,IF(LEN(入力フォーム!$D$32)=8,MID(入力フォーム!$D$32,6,1),IF(LEN(入力フォーム!$D$32)=7,MID(入力フォーム!$D$32,5,1),IF(LEN(入力フォーム!$D$32)=6,MID(入力フォーム!$D$32,4,1),IF(LEN(入力フォーム!$D$32)=5,MID(入力フォーム!$D$32,3,1),IF(LEN(入力フォーム!$D$32)=4,MID(入力フォーム!$D$32,2,1),MID(入力フォーム!$D$32,1,1))))))) -> 0 | P17: =IF(LEN(入力フォーム!$D$32)<2,0,IF(LEN(入力フォーム!$D$32)=8,MID(入力フォーム!$D$32,7,1),IF(LEN(入力フォーム!$D$32)=7,MID(入力フォーム!$D$32,6,1),IF(LEN(入力フォーム!$D$32)=6,MID(入力フォーム!$D$32,5,1),IF(LEN(入力フォーム!$D$32)=5,MID(入力フォーム!$D$32,4,1),IF(LEN(入力フォーム!$D$32)=4,MID(入力フォーム!$D$32,3,1),IF(LEN(入力フォーム!$D$32)=3,MID(入力フォーム!$D$32,2,1),MID(入力フォーム!$D$32,1,1)))))))) -> 0 | Q17: =IF(AND(入力フォーム!D32=0,入力フォーム!D32=""),0,RIGHT(入力フォーム!D32,1)) -> 0 | R17: =IF(LEN(入力フォーム!D31)<3,0,MID(入力フォーム!D31,1,1)) -> 0 | S17: =IF(LEN(入力フォーム!D31)<2,0,IF(LEN(入力フォーム!D31)=3,MID(入力フォーム!D31,2,1),MID(入力フォーム!D31,1,1))) -> 0 | T17: =IF(AND(入力フォーム!D31=0,入力フォーム!D31=""),0,RIGHT(入力フォーム!D31,1)) -> 0 | U17: 0 | V17: =IF(LEN(入力フォーム!$D$36)<6,0,IF(LEN(入力フォーム!$D$36)=6,MID(入力フォーム!$D$36,1,1),0)) -> 0 | W17: =IF(LEN(入力フォーム!$D$36)<5,0,IF(LEN(入力フォーム!$D$36)=6,MID(入力フォーム!$D$36,2,1),IF(LEN(入力フォーム!$D$36)=5,MID(入力フォーム!$D$36,1,1),0))) -> 0 | X17: =IF(LEN(入力フォーム!$D$36)<4,0,IF(LEN(入力フォーム!$D$36)=6,MID(入力フォーム!$D$36,3,1),IF(LEN(入力フォーム!$D$36)=5,MID(入力フォーム!$D$36,2,1),IF(LEN(入力フォーム!$D$36)=4,MID(入力フォーム!$D$36,1,1),0)))) -> 0 | Y17: =IF(LEN(入力フォーム!$D$36)<3,0,IF(LEN(入力フォーム!$D$36)=6,MID(入力フォーム!$D$36,4,1),IF(LEN(入力フォーム!$D$36)=5,MID(入力フォーム!$D$36,3,1),IF(LEN(入力フォーム!$D$36)=4,MID(入力フォーム!$D$36,2,1),IF(LEN(入力フォーム!$D$36)=3,MID(入力フォーム!$D$36,1,1),0))))) -> 0 | Z17: =IF(LEN(入力フォーム!$D$36)<2,0,IF(LEN(入力フォーム!$D$36)=6,MID(入力フォーム!$D$36,5,1),IF(LEN(入力フォーム!$D$36)=5,MID(入力フォーム!$D$36,4,1),IF(LEN(入力フォーム!$D$36)=4,MID(入力フォーム!$D$36,3,1),IF(LEN(入力フォーム!$D$36)=3,MID(入力フォーム!$D$36,2,1),IF(LEN(入力フォーム!$D$36)=2,MID(入力フォーム!$D$36,1,1),0)))))) -> 0 | AA17: =RIGHT(入力フォーム!$D$36) -> 0
A18: ボーナス償還 | D18: =入力フォーム!D28 -> 0 | G18: =入力フォーム!D29 -> 0 | J18: 40 | Q18: 47 | R18: 48 | T18: 50 | U18: 51 | AA18: 57
J19: 0 | K19: =IF(LEN(入力フォーム!$D$34)<7,0,MID(入力フォーム!$D$34,1,1)) -> 0 | L19: =IF(LEN(入力フォーム!$D$34)<6,0,IF(LEN(入力フォーム!$D$34)=7,MID(入力フォーム!$D$34,2,1),MID(入力フォーム!$D$34,1,1))) -> 0 | M19: =IF(LEN(入力フォーム!$D$34)<5,0,IF(LEN(入力フォーム!$D$34)=7,MID(入力フォーム!$D$34,3,1),IF(LEN(入力フォーム!$D$34)=6,MID(入力フォーム!$D$34,2,1),MID(入力フォーム!$D$34,1,1)))) -> 0 | N19: =IF(LEN(入力フォーム!$D$34)<4,0,IF(LEN(入力フォーム!$D$34)=7,MID(入力フォーム!$D$34,4,1),IF(LEN(入力フォーム!$D$34)=6,MID(入力フォーム!$D$34,3,1),IF(LEN(入力フォーム!$D$34)=5,MID(入力フォーム!$D$34,2,1),MID(入力フォーム!$D$34,1,1))))) -> 0 | O19: =IF(LEN(入力フォーム!$D$34)<3,0,IF(LEN(入力フォーム!$D$34)=7,MID(入力フォーム!$D$34,5,1),IF(LEN(入力フォーム!$D$34)=6,MID(入力フォーム!$D$34,4,1),IF(LEN(入力フォーム!$D$34)=5,MID(入力フォーム!$D$34,3,1),IF(LEN(入力フォーム!$D$34)=4,MID(入力フォーム!$D$34,2,1),MID(入力フォーム!$D$34,1,1)))))) -> 0 | P19: =IF(LEN(入力フォーム!$D$34)<2,0,IF(LEN(入力フォーム!$D$34)=7,MID(入力フォーム!$D$34,6,1),IF(LEN(入力フォーム!$D$34)=6,MID(入力フォーム!$D$34,5,1),IF(LEN(入力フォーム!$D$34)=5,MID(入力フォーム!$D$34,4,1),IF(LEN(入力フォーム!$D$34)=4,MID(入力フォーム!$D$34,3,1),IF(LEN(入力フォーム!$D$34)=3,MID(入力フォーム!$D$34,2,1),MID(入力フォーム!$D$34,1,1))))))) -> 0 | Q19: =IF(AND(入力フォーム!D34=0,入力フォーム!D34=""),0,RIGHT(入力フォーム!D34,1)) -> 0 | R19: 0 | S19: =IF(LEN(入力フォーム!D33)<2,0,MID(入力フォーム!D33,1,1)) -> 0 | T19: =IF(AND(入力フォーム!D33=0,入力フォーム!D33=""),0,RIGHT(入力フォーム!D33,1)) -> 0 | U19: 0 | V19: =IF(LEN(入力フォーム!$D$38)<6,0,MID(入力フォーム!$D$38,1,1)) -> 0 | W19: =IF(LEN(入力フォーム!$D$38)<5,0,IF(LEN(入力フォーム!$D$38)=6,MID(入力フォーム!$D$38,2,1),MID(入力フォーム!$D$38,1,1))) -> 0 | X19: =IF(LEN(入力フォーム!$D$38)<4,0,IF(LEN(入力フォーム!$D$38)=6,MID(入力フォーム!$D$38,3,1),IF(LEN(入力フォーム!$D$38)=5,MID(入力フォーム!$D$38,2,1),MID(入力フォーム!$D$38,1,1)))) -> 0 | Y19: =IF(LEN(入力フォーム!$D$38)<3,0,IF(LEN(入力フォーム!$D$38)=6,MID(入力フォーム!$D$38,4,1),IF(LEN(入力フォーム!$D$38)=5,MID(入力フォーム!$D$38,3,1),IF(LEN(入力フォーム!$D$38)=4,MID(入力フォーム!$D$38,2,1),MID(入力フォーム!$D$38,1,1))))) -> 0 | Z19: =IF(LEN(入力フォーム!$D$38)<2,0,IF(LEN(入力フォーム!$D$38)=6,MID(入力フォーム!$D$38,5,1),IF(LEN(入力フォーム!$D$38)=5,MID(入力フォーム!$D$38,4,1),IF(LEN(入力フォーム!$D$38)=4,MID(入力フォーム!$D$38,3,1),IF(LEN(入力フォーム!$D$38)=3,MID(入力フォーム!$D$38,2,1),MID(入力フォーム!$D$38,1,1)))))) -> 0 | AA19: =RIGHT(入力フォーム!$D$38) -> 0
R20: ※給料月額 | Y20: ※No.
J21: ※印欄は記入しないこと | R21: 58 | X21: 64 | Y21: 78 | AA21: 80
A24: 給料月額 | F24: =入力フォーム!D6 -> 0 | M24: 円 | N24: 一回当たりの償還額 借受中の貸付金の | P24: 貸付種別 | T24: 毎月償還 | X24: ボーナス償還
P25: 一般貸付 | T25: =入力フォーム!D10 -> 0 | W25: 円 | X25: =入力フォーム!E10 -> 0 | AA25: 円
P26: 住宅災害貸付 | T26: =入力フォーム!D11 -> 0 | W26: 円 | X26: =入力フォーム!E11 -> 0 | AA26: 円
A27: 給料月額の １０分の３ | F27: =入力フォーム!D21 -> 0 | M27: 円 | P27: 住宅貸付 | T27: =入力フォーム!D12 -> 0 | W27: 円 | X27: =入力フォーム!E12 -> 0 | AA27: 円
P28: 介護構造貸付 | T28: =入力フォーム!D13 -> 0 | W28: 円 | X28: =入力フォーム!E13 -> 0 | AA28: 円
P29: 教育貸付 | T29: =入力フォーム!D14 -> 0 | W29: 円 | X29: =入力フォーム!E14 -> 0 | AA29: 円
A30: 給料月額の １０分の６ | F30: =入力フォーム!F21 -> 0 | M30: 円 | P30: 災害貸付 | T30: =入力フォーム!D15 -> 0 | W30: 円 | X30: =入力フォーム!E15 -> 0 | AA30: 円
P31: 医療貸付 | T31: =入力フォーム!D16 -> 0 | W31: 円 | X31: =入力フォーム!E16 -> 0 | AA31: 円
P32: 結婚貸付 | T32: =入力フォーム!D17 -> 0 | W32: 円 | X32: =入力フォーム!E17 -> 0 | AA32: 円
A33: 一部繰上償還時 の償還猶予残額 | F33: =入力フォーム!D7 -> 0 | M33: 円 | P33: 葬祭貸付 | T33: =入力フォーム!D18 -> 0 | W33: 円 | X33: =入力フォーム!E18 -> 0 | AA33: 円
P34: 合計 | T34: =入力フォーム!D19 -> 0 | W34: 円 | X34: =入力フォーム!E19 -> 0 | AA34: 円
A37: 公立学校共済組合貸付規程第１６条の規程に基づき,借受中の貸付金を一部繰上償還し,繰上償還
A38: 後の償還回数を上記のとおりにしたいので申し出ます。
A39: なお、ボーナス償還に係る経過利息および償還猶予額残がある場合は,それを加えて償還します。
S40: 年 月 日
A41: 公立学校共済組合岡山支部長 殿
A42: 所属所名 電話番号（ ） －
A43: 現住所 電話番号（ ） －
A44: 職 名
A45: 氏 名

Sheet 計算用
A1: 平成１９年４月１日以降の貸付か？ | B1: =VALUE(入力フォーム!F5) -> #VALUE! | C1: Ｈ１９．４．１以降なら「１」 、でなければ「０」。 ここで、保証料の０．０６％が付くのか付かないのかを判定。
A2: 貸付種別の入力 | B2: =VALUE(入力フォーム!F3) -> #VALUE! | C2: 入力フォームで選択させた貸付種別コードを表示。
A3: 貸付種別の選別 | B3: =IF(OR(B2=11,B2=31,B2=41,B2=61,B2=71,B2=72),1,IF(OR(B2=21,B2=51),2,IF(OR(B2=81),3,"貸付種別を入力してください"))) -> #VALUE! | C3: 一般､住宅､教育､結婚､医療､葬祭…１ 住宅災害､災害…２ 介護構造…３ 貸付種別による賦金率表を選択。
A4: 一繰月の月末時点の未償還回数（毎月償還部分） | B4: =入力フォーム!D26 -> 0 | C4: 入力フォームで入力させた毎月償還の未償還回数を表示。
A5: 一繰月の月末時点の未償還元金（毎月償還部分） | B5: =入力フォーム!D27 -> 0 | C5: 入力フォームで入力させた毎月償還の未償還元金を表示。
A6: 一繰月の月末時点の未償還回数（ボーナス償還部分） | B6: =入力フォーム!D28 -> 0 | C6: =IF(ISERROR(B4/B6<6),"",IF(B4/B6<6,"ボーナス償還は毎月償還の６分の１以内です！","")) | D6: ←左の青枠は、入力ﾌｫｰﾑで入力させたﾎﾞｰﾅｽ償還の未償還回数。右の黄枠はﾎﾞｰﾅｽ償還回数6分の1以内を判定。
A7: 一繰月の月末時点の未償還元金（ボーナス償還部分） | B7: =入力フォーム!D29 -> 0 | C7: 入力フォームで入力させたボーナス償還の未償還元金。
A8: ボーナスあるか（有１ 無０） | B8: =IF(OR(B7=0,B7=""),0,1) -> 0 | C8: ボーナスの未償還元金が、0<「１」、でなければ「０」。
A9: カット後の給料額＋教職調整額 | B9: =入力フォーム!D6 -> 0 | C9: 入力フォームで入力させた掛金の基礎となる給料月額。
A10: 給料月額の10分の３ | B10: =TRUNC(B9*3/10) -> 0 | C10: 給料月額の3/10判定。
A11: 給料月額の10分の6 | B11: =TRUNC(B9*6/10) -> 0 | C11: 給料月額6/10判定。
A12: 育休等猶予残額 | B12: =入力フォーム!D7 -> 0 | C12: 入力フォームで入力させた猶予金残額。
A13: 借受中の貸付金の一回当たりの償還額 | B13: 毎月 (入力用) | C13: ボーナス (入力用) | D13: 毎月 (給料3/10) | E13: ボーナス (給料6/10) | F13: 左の青色の項目は入力フォームで入力させたもの。
A14: 一般11 | B14: =入力フォーム!D10 -> 0 | C14: =入力フォーム!E10 -> 0 | D14: =IF(AND($B$2=11,$B$8=1,200000<=$B$31,$B$29=0),$B14,IF(AND($B$2=11,$B$8=1,0<$B$29),0,IF(AND($B$2=11,$B$8=0),0,$B14))) -> #VALUE! | E14: =IF(AND(B$2=11,B$8=1),0,$C14) -> #VALUE! | F14: 右の黄色の項目は一繰後の償還額を反映させてある。
A15: 住宅災害21 | B15: =入力フォーム!D11 -> 0 | C15: =入力フォーム!E11 -> 0 | D15: =IF(AND($B$2=21,$B$8=1,200000<=$B$31,$B$29=0),$B15,IF(AND($B$2=21,$B$8=1,0<$B$29),0,IF(AND($B$2=21,$B$8=0),0,$B15))) -> #VALUE! | E15: =IF(AND(B$2=21,B$8=1),0,$C15) -> #VALUE! | F15: 一繰後の償還額とその他の償還額の合計が給料の制限を越えていないかを判別させるため区別している。
A16: 住宅31 | B16: =入力フォーム!D12 -> 0 | C16: =入力フォーム!E12 -> 0 | D16: =IF(AND($B$2=31,$B$8=1,200000<=$B$31,$B$29=0),$B16,IF(AND($B$2=31,$B$8=1,0<$B$29),0,IF(AND($B$2=31,$B$8=0),0,$B16))) -> #VALUE! | E16: =IF(AND(B$2=31,B$8=1),0,$C16) -> #VALUE!
A17: 介護81 | B17: =入力フォーム!D13 -> 0 | C17: =入力フォーム!E13 -> 0 | D17: =IF(AND($B$2=81,$B$8=1,200000<=$B$31,$B$29=0),$B17,IF(AND($B$2=81,$B$8=1,0<$B$29),0,IF(AND($B$2=81,$B$8=0),0,$B17))) -> #VALUE! | E17: =IF(AND(B$2=81,B$8=1),0,$C17) -> #VALUE!
A18: 教育41 | B18: =入力フォーム!D14 -> 0 | C18: =入力フォーム!E14 -> 0 | D18: =IF(AND($B$2=41,$B$8=1,200000<=$B$31,$B$29=0),$B18,IF(AND($B$2=41,$B$8=1,0<$B$29),0,IF(AND($B$2=41,$B$8=0),0,$B18))) -> #VALUE! | E18: =IF(AND(B$2=41,B$8=1),0,$C18) -> #VALUE!
A19: 災害51 | B19: =入力フォーム!D15 -> 0 | C19: =入力フォーム!E15 -> 0 | D19: =IF(AND($B$2=51,$B$8=1,200000<=$B$31,$B$29=0),$B19,IF(AND($B$2=51,$B$8=1,0<$B$29),0,IF(AND($B$2=51,$B$8=0),0,$B19))) -> #VALUE! | E19: =IF(AND(B$2=51,B$8=1),0,$C19) -> #VALUE!
A20: 医療61 | B20: =入力フォーム!D16 -> 0 | C20: =入力フォーム!E16 -> 0 | D20: =IF(AND($B$2=61,$B$8=1,200000<=$B$31,$B$29=0),$B20,IF(AND($B$2=61,$B$8=1,0<$B$29),0,IF(AND($B$2=61,$B$8=0),0,$B20))) -> #VALUE! | E20: =IF(AND(B$2=61,B$8=1),0,$C20) -> #VALUE!
A21: 結婚71 | B21: =入力フォーム!D17 -> 0 | C21: =入力フォーム!E17 -> 0 | D21: =IF(AND($B$2=71,$B$8=1,200000<=$B$31,$B$29=0),$B21,IF(AND($B$2=71,$B$8=1,0<$B$29),0,IF(AND($B$2=71,$B$8=0),0,$B21))) -> #VALUE! | E21: =IF(AND(B$2=71,B$8=1),0,$C21) -> #VALUE!
A22: 葬祭72 | B22: =入力フォーム!D18 -> 0 | C22: =入力フォーム!E18 -> 0 | D22: =IF(AND($B$2=72,$B$8=1,200000<=$B$31,$B$29=0),$B22,IF(AND($B$2=72,$B$8=1,0<$B$29),0,IF(AND($B$2=72,$B$8=0),0,$B22))) -> #VALUE! | E22: =IF(AND(B$2=72,B$8=1),0,$C22) -> #VALUE!
A23: 合計 | B23: =SUM(B14:B22) -> 0 | C23: =SUM(C14:C22) -> 0 | D23: =SUM(D14:D22) -> #VALUE! | E23: =SUM(E14:E22) -> #VALUE!
A25: 利率改正後の月利の算出 | B25: =IF(AND(B1=0,B3=1),E38,IF(AND(B1=0,B3=2),E39,IF(AND(B1=0,B3=3),E40,IF(AND(B1=1,B3=1),E41,IF(AND(B1=1,B3=2),E42,IF(AND(B1=1,B3=3),E43,"")))))) -> #VALUE! | C25: =+B25*12 -> #VALUE! | D25: ←左は月利。右は年利。
A26: 一繰月の月末時点の未償還回数（毎月償還部分） | B26: =B4 -> 0 | C26: 一繰月の月末時点の未償還回数
A27: 一繰月の月末時点の未償還元金（毎月償還部分） | B27: =B5 -> 0 | C27: 一繰月の月末時点の未償還元金 | E27: 下のＩＦ文を見やすくするためセルＢ４、５、７をここに表示
A28: 一繰月の月末時点の未償還元金（ボーナス償還部分） | B28: =B7 -> 0 | C28: 一繰月の月末時点のボーナスの未償還元金
A29: 一部繰上償還額（毎月償還部分） | B29: =入力フォーム!D32 -> 0
A30: 希望する償還回数（毎月償還部分） | B30: =入力フォーム!D31 -> 0 | C30: 入力フォームで入力させた、借受人が希望する償還回数と一部繰上償還額。
A31: 一部繰上償還額（ボーナス償還部分） | B31: =入力フォーム!D34 -> 0
A32: 希望する償還回数（ボーナス償還部分） | B32: =入力フォーム!D33 -> 0
A33: 毎月償還額に係る最低額等の判定 | B33: =IF(AND(B29=0,B30=0),"",IF(B27-B29<=0,"未償還元金以内にしてください！",IF(AND(B8=0,B29<100000),"１０万円以上にしてください！",IF(B8=0,"",IF((B29+B31)<200000,"一部繰上償還額の合計を20万円以上にしてください！",IF(B28-B31=0,"",IF((B29+B31)/2<B29,"一部繰上償還額の合計の１／２以上をﾎﾞｰﾅｽ償還に充ててください！",""))))))) | C33: ここで、①毎月償還額の一繰額は未償還元金以内か？②毎月のみで償還（ボーナスのみ完済をしている）借受人の一繰額は１０万円以上か？③ボーナス併用者の一繰額は２０万円以上か？④一部繰上償還額の合計の１／２以上をﾎﾞｰﾅｽ償還に充てているか？ を確認している。
A34: 毎月償還の償還回数等の判定 | B34: =IF(AND(B29=0,B30=0),"",IF(B26<B30,"償還回数は増やせません！",IF(AND(0<B29,B30=0),"償還回数を入力してください！",IF(AND(B29=0,0<B30),"一部繰上償還額(毎月)を入力してください！","")))) | C34: ここで、①毎月償還の償還回数を増やしていないか？②一繰をする毎月償還部分の償還回数を入力してしているか？③毎月償還部分の一部繰上償還額)を入力しているか？ を確認している。
A35: ﾎﾞｰﾅｽ併用償還の最低額等の判定 | B35: =IF(AND(B8=0,0<B31),"ボーナスを併用されていません！",IF(B8=0,"",IF(B28-B31<0,"未償還元金以内にしてください！",IF(B29+B31<200000,"一部繰上償還額の合計を20万円以上にしてください！",IF(B28-B31=0,"",IF(B31<(B29+B31)/2,"一部繰上償還額の合計の１／２以上をﾎﾞｰﾅｽ償還に充ててください！","")))))) | C35: ここで、①ボーナスを併用しているか？②ボーナス併用償還の一繰額は,未償還元金以内か？③ボーナス併用者の一部繰上償還額の合計をは20万円以上か？④一部繰上償還額の合計の１／２以上をﾎﾞｰﾅｽ償還に充てているか？を確認している。
A36: ﾎﾞｰﾅｽの償還回数の判定 | B36: =IF(AND(B8=0,0<B32),"ボーナスを併用されていません！",IF(AND(B28-B31=0,0<B32),"償還回数は０回です！",IF(AND(0<B28-B31,B32=0),"償還回数を入力してください！",IF(AND(B28-B31=0,B32=0),"",IF(AND(200000<=B29+B31,B30=0),"",IF(B6<B32,"償還回数は増やせません！",IF(AND(200000<=B29+B31,B30/6<B32),"毎月償還回数の６分の１以内にしてください！",""))))))) | C36: ここで、①ボーナスを併用しているか？②ボーナスの未償還額が０円なのに償還回数を入力していないか？③一繰りをするボーナス償還部分の償還回数を入力しているか？④ボーナスの償還回数を増やしていないか？⑤一繰後のボーナスの償還回数を毎月償還回数の６分の１以内にしているか？ を確認している。
D37: 年利 | E37: 月利
A38: 一部繰上償還後の毎月償還額 | B38: =IF(B29=0,0,ROUND((B27-B29)*(IF(AND(B1=0,B3=1),VLOOKUP(B30,賦金率表!A5:S364,2,0),0)),0)) -> 0 | C38: Ｂ１＝０かつＢ３＝１ | D38: =賦金率表!B2 -> 0.0126 | E38: =賦金率表!D2 -> 0.00105 | F38: 平成１９年３月３１日以前に借受けた一般､住宅､教育､結婚､医療､葬祭貸付金の一繰後の償還額を算出
B39: =IF(B29=0,0,ROUND((B27-B29)*(IF(AND(B1=0,B3=2),VLOOKUP(B30,賦金率表!A5:S364,8,0),0)),0)) -> 0 | C39: Ｂ１＝０かつＢ３＝２ | D39: =賦金率表!H2 -> 0.0093 | E39: =賦金率表!J2 -> 0.000775 | F39: 平成１９年３月３１日以前に借受けた住宅災害､災害貸付金の一繰後の償還額を算出
B40: =IF(B29=0,0,ROUND((B27-B29)*(IF(AND(B1=0,B3=3),VLOOKUP(B30,賦金率表!A5:S364,14,0),0)),0)) -> 0 | C40: Ｂ１＝０かつＢ３＝３ | D40: =賦金率表!N2 -> 0.01 | E40: =賦金率表!P2 -> 0.000833 | F40: 平成１９年３月３１日以前に借受けた介護貸付金の一繰後の償還額を算出
B41: =IF(B29=0,0,ROUND((B27-B29)*(IF(AND(B1=1,B3=1),VLOOKUP(B30,賦金率表!A5:S364,5,0),0)),0)) -> 0 | C41: Ｂ１＝１かつＢ３＝１ | D41: =賦金率表!E2 -> 0.0132 | E41: =賦金率表!G2 -> 0.0011 | F41: 平成１９年４月１日以降に借受けた一般､住宅､教育､結婚､医療､葬祭貸付金の一繰後の償還額を算出
...

Sheet 賦金率表
B1: 一般・住宅・教育・結婚・医療・葬祭 | H1: 住宅災害・災害 | N1: 介護構造
B2: 0.0126 | C2: 月利 | D2: =ROUNDDOWN(+B2/12,6) -> 0.00105 | E2: =+B2+0.06% -> 0.0132 | F2: 月利 | G2: =ROUNDDOWN(+E2/12,6) -> 0.0011 | H2: 0.0093 | I2: 月利 | J2: =ROUNDDOWN(+H2/12,6) -> 0.000775 | K2: =+H2+0.06% -> 0.0099 | L2: 月利 | M2: =ROUNDDOWN(+K2/12,6) -> 0.000825 | N2: =+B2-0.26% -> 0.01 | O2: 月利 | P2: =ROUNDDOWN(+N2/12,6) -> 0.000833 | Q2: =+N2+0.06% -> 0.0106 | R2: 月利 | S2: =ROUNDDOWN(+Q2/12,6) -> 0.000883
A3: 回数 | B3: 賦金率(毎月) | C3: 1･7貸付月 | D3: 12･6貸付月 | E3: 賦金率(毎月) | F3: 1･7貸付月 | G3: 12･6貸付月 | H3: 賦金率(毎月) | I3: 1･7貸付月 | J3: 12･6貸付月 | K3: 賦金率(毎月) | L3: 1･7貸付月 | M3: 12･6貸付月 | N3: 賦金率(毎月) | O3: 1･7貸付月 | P3: 12･6貸付月 | Q3: 賦金率(毎月) | R3: 1･7貸付月 | S3: 12･6貸付月
C4: 5 | D4: 6 | F4: 5 | G4: 6 | I4: 5 | J4: 6 | L4: 5 | M4: 6 | O4: 5 | P4: 6 | R4: 5 | S4: 6
A5: 1 | B5: =ROUND(D$2*(1+D$2)^$A5/((1+D$2)^$A5-1),10) -> 1.00105 | C5: =ROUND((D$2*6)*(1+D$2*6*C$4/6)*(1+D$2*6)^($A5-1)/((1+D$2*6)^$A5-1),10) -> 1.00525 | D5: =ROUND((D$2*6)*(1+D$2*6*D$4/6)*(1+D$2*6)^($A5-1)/((1+D$2*6)^$A5-1),10) -> 1.0063 | E5: =ROUND(G$2*(1+G$2)^$A5/((1+G$2)^$A5-1),10) -> 1.0011 | F5: =ROUND((G$2*6)*(1+G$2*6*F$4/6)*(1+G$2*6)^($A5-1)/((1+G$2*6)^$A5-1),10) -> 1.0055 | G5: =ROUND((G$2*6)*(1+G$2*6*G$4/6)*(1+G$2*6)^($A5-1)/((1+G$2*6)^$A5-1),10) -> 1.0066 | H5: =ROUND(J$2*(1+J$2)^$A5/((1+J$2)^$A5-1),10) -> 1.000775 | I5: =ROUND((J$2*6)*(1+J$2*6*I$4/6)*(1+J$2*6)^($A5-1)/((1+J$2*6)^$A5-1),10) -> 1.003875 | J5: =ROUND((J$2*6)*(1+J$2*6*J$4/6)*(1+J$2*6)^($A5-1)/((1+J$2*6)^$A5-1),10) -> 1.00465 | K5: =ROUND(M$2*(1+M$2)^$A5/((1+M$2)^$A5-1),10) -> 1.000825 | L5: =ROUND((M$2*6)*(1+M$2*6*L$4/6)*(1+M$2*6)^($A5-1)/((1+M$2*6)^$A5-1),10) -> 1.004125 | M5: =ROUND((M$2*6)*(1+M$2*6*M$4/6)*(1+M$2*6)^($A5-1)/((1+M$2*6)^$A5-1),10) -> 1.00495 | N5: =ROUND(P$2*(1+P$2)^$A5/((1+P$2)^$A5-1),10) -> 1.000833 | O5: =ROUND((P$2*6)*(1+P$2*6*O$4/6)*(1+P$2*6)^($A5-1)/((1+P$2*6)^$A5-1),10) -> 1.004165 | P5: =ROUND((P$2*6)*(1+P$2*6*P$4/6)*(1+P$2*6)^($A5-1)/((1+P$2*6)^$A5-1),10) -> 1.004998 | Q5: =ROUND(S$2*(1+S$2)^$A5/((1+S$2)^$A5-1),10) -> 1.000883 | R5: =ROUND((S$2*6)*(1+S$2*6*R$4/6)*(1+S$2*6)^($A5-1)/((1+S$2*6)^$A5-1),10) -> 1.004415 | S5: =ROUND((S$2*6)*(1+S$2*6*S$4/6)*(1+S$2*6)^($A5-1)/((1+S$2*6)^$A5-1),10) -> 1.005298
A6: 2 | B6: =ROUND(D$2*(1+D$2)^$A6/((1+D$2)^$A6-1),10) -> 0.50078764 | C6: =ROUND((D$2*6)*(1+D$2*6*C$4/6)*(1+D$2*6)^($A6-1)/((1+D$2*6)^$A6-1),10) -> 0.5042033 | D6: =ROUND((D$2*6)*(1+D$2*6*D$4/6)*(1+D$2*6)^($A6-1)/((1+D$2*6)^$A6-1),10) -> 0.50472995 | E6: =ROUND(G$2*(1+G$2)^$A6/((1+G$2)^$A6-1),10) -> 0.50082515 | F6: =ROUND((G$2*6)*(1+G$2*6*F$4/6)*(1+G$2*6)^($A6-1)/((1+G$2*6)^$A6-1),10) -> 0.50440362 | G6: =ROUND((G$2*6)*(1+G$2*6*G$4/6)*(1+G$2*6)^($A6-1)/((1+G$2*6)^$A6-1),10) -> 0.50495543 | H6: =ROUND(J$2*(1+J$2)^$A6/((1+J$2)^$A6-1),10) -> 0.50058132 | I6: =ROUND((J$2*6)*(1+J$2*6*I$4/6)*(1+J$2*6)^($A6-1)/((1+J$2*6)^$A6-1),10) -> 0.5031018 | J6: =ROUND((J$2*6)*(1+J$2*6*J$4/6)*(1+J$2*6)^($A6-1)/((1+J$2*6)^$A6-1),10) -> 0.5034902 | K6: =ROUND(M$2*(1+M$2)^$A6/((1+M$2)^$A6-1),10) -> 0.50061884 | L6: =ROUND((M$2*6)*(1+M$2*6*L$4/6)*(1+M$2*6)^($A6-1)/((1+M$2*6)^$A6-1),10) -> 0.50330204 | M6: =ROUND((M$2*6)*(1+M$2*6*M$4/6)*(1+M$2*6)^($A6-1)/((1+M$2*6)^$A6-1),10) -> 0.50371556 | N6: =ROUND(P$2*(1+P$2)^$A6/((1+P$2)^$A6-1),10) -> 0.50062484 | O6: =ROUND((P$2*6)*(1+P$2*6*O$4/6)*(1+P$2*6)^($A6-1)/((1+P$2*6)^$A6-1),10) -> 0.50333408 | P6: =ROUND((P$2*6)*(1+P$2*6*P$4/6)*(1+P$2*6)^($A6-1)/((1+P$2*6)^$A6-1),10) -> 0.50375161 | Q6: =ROUND(S$2*(1+S$2)^$A6/((1+S$2)^$A6-1),10) -> 0.50066235 | R6: =ROUND((S$2*6)*(1+S$2*6*R$4/6)*(1+S$2*6)^($A6-1)/((1+S$2*6)^$A6-1),10) -> 0.50353433 | S6: =ROUND((S$2*6)*(1+S$2*6*S$4/6)*(1+S$2*6)^($A6-1)/((1+S$2*6)^$A6-1),10) -> 0.503977
A7: 3 | B7: =ROUND(D$2*(1+D$2)^$A7/((1+D$2)^$A7-1),10) -> 0.33403358 | C7: =ROUND((D$2*6)*(1+D$2*6*C$4/6)*(1+D$2*6)^($A7-1)/((1+D$2*6)^$A7-1),10) -> 0.33718993 | D7: =ROUND((D$2*6)*(1+D$2*6*D$4/6)*(1+D$2*6)^($A7-1)/((1+D$2*6)^$A7-1),10) -> 0.33754213 | E7: =ROUND(G$2*(1+G$2)^$A7/((1+G$2)^$A7-1),10) -> 0.33406694 | F7: =ROUND((G$2*6)*(1+G$2*6*F$4/6)*(1+G$2*6)^($A7-1)/((1+G$2*6)^$A7-1),10) -> 0.3373739 | G7: =ROUND((G$2*6)*(1+G$2*6*G$4/6)*(1+G$2*6)^($A7-1)/((1+G$2*6)^$A7-1),10) -> 0.33774298 | H7: =ROUND(J$2*(1+J$2)^$A7/((1+J$2)^$A7-1),10) -> 0.33385013 | I7: =ROUND((J$2*6)*(1+J$2*6*I$4/6)*(1+J$2*6)^($A7-1)/((1+J$2*6)^$A7-1),10) -> 0.33617859 | J7: =ROUND((J$2*6)*(1+J$2*6*J$4/6)*(1+J$2*6)^($A7-1)/((1+J$2*6)^$A7-1),10) -> 0.33643813 | K7: =ROUND(M$2*(1+M$2)^$A7/((1+M$2)^$A7-1),10) -> 0.33388348 | L7: =ROUND((M$2*6)*(1+M$2*6*L$4/6)*(1+M$2*6)^($A7-1)/((1+M$2*6)^$A7-1),10) -> 0.33636241 | M7: =ROUND((M$2*6)*(1+M$2*6*M$4/6)*(1+M$2*6)^($A7-1)/((1+M$2*6)^$A7-1),10) -> 0.33663876 | N7: =ROUND(P$2*(1+P$2)^$A7/((1+P$2)^$A7-1),10) -> 0.33388882 | O7: =ROUND((P$2*6)*(1+P$2*6*O$4/6)*(1+P$2*6)^($A7-1)/((1+P$2*6)^$A7-1),10) -> 0.33639182 | P7: =ROUND((P$2*6)*(1+P$2*6*P$4/6)*(1+P$2*6)^($A7-1)/((1+P$2*6)^$A7-1),10) -> 0.33667087 | Q7: =ROUND(S$2*(1+S$2)^$A7/((1+S$2)^$A7-1),10) -> 0.33392217 | R7: =ROUND((S$2*6)*(1+S$2*6*R$4/6)*(1+S$2*6)^($A7-1)/((1+S$2*6)^$A7-1),10) -> 0.33657566 | S7: =ROUND((S$2*6)*(1+S$2*6*S$4/6)*(1+S$2*6)^($A7-1)/((1+S$2*6)^$A7-1),10) -> 0.33687155
A8: 4 | B8: =ROUND(D$2*(1+D$2)^$A8/((1+D$2)^$A8-1),10) -> 0.25065659 | C8: =ROUND((D$2*6)*(1+D$2*6*C$4/6)*(1+D$2*6)^($A8-1)/((1+D$2*6)^$A8-1),10) -> 0.25368489 | D8: =ROUND((D$2*6)*(1+D$2*6*D$4/6)*(1+D$2*6)^($A8-1)/((1+D$2*6)^$A8-1),10) -> 0.25394986 | E8: =ROUND(G$2*(1+G$2)^$A8/((1+G$2)^$A8-1),10) -> 0.25068788 | F8: =ROUND((G$2*6)*(1+G$2*6*F$4/6)*(1+G$2*6)^($A8-1)/((1+G$2*6)^$A8-1),10) -> 0.25386085 | G8: =ROUND((G$2*6)*(1+G$2*6*G$4/6)*(1+G$2*6)^($A8-1)/((1+G$2*6)^$A8-1),10) -> 0.25413857 | H8: =ROUND(J$2*(1+J$2)^$A8/((1+J$2)^$A8-1),10) -> 0.25048456 | I8: =ROUND((J$2*6)*(1+J$2*6*I$4/6)*(1+J$2*6)^($A8-1)/((1+J$2*6)^$A8-1),10) -> 0.25271789 | J8: =ROUND((J$2*6)*(1+J$2*6*J$4/6)*(1+J$2*6)^($A8-1)/((1+J$2*6)^$A8-1),10) -> 0.25291299 | K8: =ROUND(M$2*(1+M$2)^$A8/((1+M$2)^$A8-1),10) -> 0.25051584 | L8: =ROUND((M$2*6)*(1+M$2*6*L$4/6)*(1+M$2*6)^($A8-1)/((1+M$2*6)^$A8-1),10) -> 0.25289361 | M8: =ROUND((M$2*6)*(1+M$2*6*M$4/6)*(1+M$2*6)^($A8-1)/((1+M$2*6)^$A8-1),10) -> 0.25310139 | N8: =ROUND(P$2*(1+P$2)^$A8/((1+P$2)^$A8-1),10) -> 0.25052084 | O8: =ROUND((P$2*6)*(1+P$2*6*O$4/6)*(1+P$2*6)^($A8-1)/((1+P$2*6)^$A8-1),10) -> 0.25292173 | P8: =ROUND((P$2*6)*(1+P$2*6*P$4/6)*(1+P$2*6)^($A8-1)/((1+P$2*6)^$A8-1),10) -> 0.25313154 | Q8: =ROUND(S$2*(1+S$2)^$A8/((1+S$2)^$A8-1),10) -> 0.25055212 | R8: =ROUND((S$2*6)*(1+S$2*6*R$4/6)*(1+S$2*6)^($A8-1)/((1+S$2*6)^$A8-1),10) -> 0.2530975 | S8: =ROUND((S$2*6)*(1+S$2*6*S$4/6)*(1+S$2*6)^($A8-1)/((1+S$2*6)^$A8-1),10) -> 0.25332
A9: 5 | B9: =ROUND(D$2*(1+D$2)^$A9/((1+D$2)^$A9-1),10) -> 0.20063044 | C9: =ROUND((D$2*6)*(1+D$2*6*C$4/6)*(1+D$2*6)^($A9-1)/((1+D$2*6)^$A9-1),10) -> 0.20358318 | D9: =ROUND((D$2*6)*(1+D$2*6*D$4/6)*(1+D$2*6)^($A9-1)/((1+D$2*6)^$A9-1),10) -> 0.20379583 | E9: =ROUND(G$2*(1+G$2)^$A9/((1+G$2)^$A9-1),10) -> 0.20066048 | F9: =ROUND((G$2*6)*(1+G$2*6*F$4/6)*(1+G$2*6)^($A9-1)/((1+G$2*6)^$A9-1),10) -> 0.20375446 | G9: =ROUND((G$2*6)*(1+G$2*6*G$4/6)*(1+G$2*6)^($A9-1)/((1+G$2*6)^$A9-1),10) -> 0.20397737 | H9: =ROUND(J$2*(1+J$2)^$A9/((1+J$2)^$A9-1),10) -> 0.20046524 | I9: =ROUND((J$2*6)*(1+J$2*6*I$4/6)*(1+J$2*6)^($A9-1)/((1+J$2*6)^$A9-1),10) -> 0.20264219 | J9: =ROUND((J$2*6)*(1+J$2*6*J$4/6)*(1+J$2*6)^($A9-1)/((1+J$2*6)^$A9-1),10) -> 0.20279863 | K9: =ROUND(M$2*(1+M$2)^$A9/((1+M$2)^$A9-1),10) -> 0.20049527 | L9: =ROUND((M$2*6)*(1+M$2*6*L$4/6)*(1+M$2*6)^($A9-1)/((1+M$2*6)^$A9-1),10) -> 0.20281314 | M9: =ROUND((M$2*6)*(1+M$2*6*M$4/6)*(1+M$2*6)^($A9-1)/((1+M$2*6)^$A9-1),10) -> 0.20297978 | N9: =ROUND(P$2*(1+P$2)^$A9/((1+P$2)^$A9-1),10) -> 0.20050008 | O9: =ROUND((P$2*6)*(1+P$2*6*O$4/6)*(1+P$2*6)^($A9-1)/((1+P$2*6)^$A9-1),10) -> 0.2028405 | P9: =ROUND((P$2*6)*(1+P$2*6*P$4/6)*(1+P$2*6)^($A9-1)/((1+P$2*6)^$A9-1),10) -> 0.20300877 | Q9: =ROUND(S$2*(1+S$2)^$A9/((1+S$2)^$A9-1),10) -> 0.20053011 | R9: =ROUND((S$2*6)*(1+S$2*6*R$4/6)*(1+S$2*6)^($A9-1)/((1+S$2*6)^$A9-1),10) -> 0.20301153 | S9: =ROUND((S$2*6)*(1+S$2*6*S$4/6)*(1+S$2*6)^($A9-1)/((1+S$2*6)^$A9-1),10) -> 0.20319
A10: 6 | B10: =ROUND(D$2*(1+D$2)^$A10/((1+D$2)^$A10-1),10) -> 0.1672797 | C10: =ROUND((D$2*6)*(1+D$2*6*C$4/6)*(1+D$2*6)^($A10-1)/((1+D$2*6)^$A10-1),10) -> 0.17018314 | D10: =ROUND((D$2*6)*(1+D$2*6*D$4/6)*(1+D$2*6)^($A10-1)/((1+D$2*6)^$A10-1),10) -> 0.1703609 | E10: =ROUND(G$2*(1+G$2)^$A10/((1+G$2)^$A10-1),10) -> 0.16730892 | F10: =ROUND((G$2*6)*(1+G$2*6*F$4/6)*(1+G$2*6)^($A10-1)/((1+G$2*6)^$A10-1),10) -> 0.17035141 | G10: =ROUND((G$2*6)*(1+G$2*6*G$4/6)*(1+G$2*6)^($A10-1)/((1+G$2*6)^$A10-1),10) -> 0.17053777 | H10: =ROUND(J$2*(1+J$2)^$A10/((1+J$2)^$A10-1),10) -> 0.16711904 | I10: =ROUND((J$2*6)*(1+J$2*6*I$4/6)*(1+J$2*6)^($A10-1)/((1+J$2*6)^$A10-1),10) -> 0.16925898 | J10: =ROUND((J$2*6)*(1+J$2*6*J$4/6)*(1+J$2*6)^($A10-1)/((1+J$2*6)^$A10-1),10) -> 0.16938965 | K10: =ROUND(M$2*(1+M$2)^$A10/((1+M$2)^$A10-1),10) -> 0.16714825 | L10: =ROUND((M$2*6)*(1+M$2*6*L$4/6)*(1+M$2*6)^($A10-1)/((1+M$2*6)^$A10-1),10) -> 0.16942685 | M10: =ROUND((M$2*6)*(1+M$2*6*M$4/6)*(1+M$2*6)^($A10-1)/((1+M$2*6)^$A10-1),10) -> 0.16956605 | N10: =ROUND(P$2*(1+P$2)^$A10/((1+P$2)^$A10-1),10) -> 0.16715292 | O10: =ROUND((P$2*6)*(1+P$2*6*O$4/6)*(1+P$2*6)^($A10-1)/((1+P$2*6)^$A10-1),10) -> 0.16945371 | P10: =ROUND((P$2*6)*(1+P$2*6*P$4/6)*(1+P$2*6)^($A10-1)/((1+P$2*6)^$A10-1),10) -> 0.16959428 | Q10: =ROUND(S$2*(1+S$2)^$A10/((1+S$2)^$A10-1),10) -> 0.16718213 | R10: =ROUND((S$2*6)*(1+S$2*6*R$4/6)*(1+S$2*6)^($A10-1)/((1+S$2*6)^$A10-1),10) -> 0.16962166 | S10: =ROUND((S$2*6)*(1+S$2*6*S$4/6)*(1+S$2*6)^($A10-1)/((1+S$2*6)^$A10-1),10) -> 0.16977078
A11: 7 | B11: =ROUND(D$2*(1+D$2)^$A11/((1+D$2)^$A11-1),10) -> 0.14345777 | C11: =ROUND((D$2*6)*(1+D$2*6*C$4/6)*(1+D$2*6)^($A11-1)/((1+D$2*6)^$A11-1),10) -> 0.14632691 | D11: =ROUND((D$2*6)*(1+D$2*6*D$4/6)*(1+D$2*6)^($A11-1)/((1+D$2*6)^$A11-1),10) -> 0.14647975 | E11: =ROUND(G$2*(1+G$2)^$A11/((1+G$2)^$A11-1),10) -> 0.14348641 | F11: =ROUND((G$2*6)*(1+G$2*6*F$4/6)*(1+G$2*6)^($A11-1)/((1+G$2*6)^$A11-1),10) -> 0.14649312 | G11: =ROUND((G$2*6)*(1+G$2*6*G$4/6)*(1+G$2*6)^($A11-1)/((1+G$2*6)^$A11-1),10) -> 0.14665338 | H11: =ROUND(J$2*(1+J$2)^$A11/((1+J$2)^$A11-1),10) -> 0.14330034 | I11: =ROUND((J$2*6)*(1+J$2*6*I$4/6)*(1+J$2*6)^($A11-1)/((1+J$2*6)^$A11-1),10) -> 0.14541435 | J11: =ROUND((J$2*6)*(1+J$2*6*J$4/6)*(1+J$2*6)^($A11-1)/((1+J$2*6)^$A11-1),10) -> 0.14552661 | K11: =ROUND(M$2*(1+M$2)^$A11/((1+M$2)^$A11-1),10) -> 0.14332896 | L11: =ROUND((M$2*6)*(1+M$2*6*L$4/6)*(1+M$2*6)^($A11-1)/((1+M$2*6)^$A11-1),10) -> 0.14558007 | M11: =ROUND((M$2*6)*(1+M$2*6*M$4/6)*(1+M$2*6)^($A11-1)/((1+M$2*6)^$A11-1),10) -> 0.14569968 | N11: =ROUND(P$2*(1+P$2)^$A11/((1+P$2)^$A11-1),10) -> 0.14333354 | O11: =ROUND((P$2*6)*(1+P$2*6*O$4/6)*(1+P$2*6)^($A11-1)/((1+P$2*6)^$A11-1),10) -> 0.14560659 | P11: =ROUND((P$2*6)*(1+P$2*6*P$4/6)*(1+P$2*6)^($A11-1)/((1+P$2*6)^$A11-1),10) -> 0.14572738 | Q11: =ROUND(S$2*(1+S$2)^$A11/((1+S$2)^$A11-1),10) -> 0.14336216 | R11: =ROUND((S$2*6)*(1+S$2*6*R$4/6)*(1+S$2*6)^($A11-1)/((1+S$2*6)^$A11-1),10) -> 0.14577242 | S11: =ROUND((S$2*6)*(1+S$2*6*S$4/6)*(1+S$2*6)^($A11-1)/((1+S$2*6)^$A11-1),10) -> 0.14590057
A12: 8 | B12: =ROUND(D$2*(1+D$2)^$A12/((1+D$2)^$A12-1),10) -> 0.12559135 | C12: =ROUND((D$2*6)*(1+D$2*6*C$4/6)*(1+D$2*6)^($A12-1)/((1+D$2*6)^$A12-1),10) -> 0.12843556 | D12: =ROUND((D$2*6)*(1+D$2*6*D$4/6)*(1+D$2*6)^($A12-1)/((1+D$2*6)^$A12-1),10) -> 0.12856971 | E12: =ROUND(G$2*(1+G$2)^$A12/((1+G$2)^$A12-1),10) -> 0.12561954 | F12: =ROUND((G$2*6)*(1+G$2*6*F$4/6)*(1+G$2*6)^($A12-1)/((1+G$2*6)^$A12-1),10) -> 0.1286003 | G12: =ROUND((G$2*6)*(1+G$2*6*G$4/6)*(1+G$2*6)^($A12-1)/((1+G$2*6)^$A12-1),10) -> 0.12874099 | H12: =ROUND(J$2*(1+J$2)^$A12/((1+J$2)^$A12-1),10) -> 0.12543633 | I12: =ROUND((J$2*6)*(1+J$2*6*I$4/6)*(1+J$2*6)^($A12-1)/((1+J$2*6)^$A12-1),10) -> 0.12753133 | J12: =ROUND((J$2*6)*(1+J$2*6*J$4/6)*(1+J$2*6)^($A12-1)/((1+J$2*6)^$A12-1),10) -> 0.12762978 | K12: =ROUND(M$2*(1+M$2)^$A12/((1+M$2)^$A12-1),10) -> 0.12546451 | L12: =ROUND((M$2*6)*(1+M$2*6*L$4/6)*(1+M$2*6)^($A12-1)/((1+M$2*6)^$A12-1),10) -> 0.1276955 | M12: =ROUND((M$2*6)*(1+M$2*6*M$4/6)*(1+M$2*6)^($A12-1)/((1+M$2*6)^$A12-1),10) -> 0.12780041 | N12: =ROUND(P$2*(1+P$2)^$A12/((1+P$2)^$A12-1),10) -> 0.12546902 | O12: =ROUND((P$2*6)*(1+P$2*6*O$4/6)*(1+P$2*6)^($A12-1)/((1+P$2*6)^$A12-1),10) -> 0.12772178 | P12: =ROUND((P$2*6)*(1+P$2*6*P$4/6)*(1+P$2*6)^($A12-1)/((1+P$2*6)^$A12-1),10) -> 0.12782773 | Q12: =ROUND(S$2*(1+S$2)^$A12/((1+S$2)^$A12-1),10) -> 0.1254972 | R12: =ROUND((S$2*6)*(1+S$2*6*R$4/6)*(1+S$2*6)^($A12-1)/((1+S$2*6)^$A12-1),10) -> 0.12788607 | S12: =ROUND((S$2*6)*(1+S$2*6*S$4/6)*(1+S$2*6)^($A12-1)/((1+S$2*6)^$A12-1),10) -> 0.1279985
A13: 9 | B13: =ROUND(D$2*(1+D$2)^$A13/((1+D$2)^$A13-1),10) -> 0.11169526 | C13: =ROUND((D$2*6)*(1+D$2*6*C$4/6)*(1+D$2*6)^($A13-1)/((1+D$2*6)^$A13-1),10) -> 0.1145208 | D13: =ROUND((D$2*6)*(1+D$2*6*D$4/6)*(1+D$2*6)^($A13-1)/((1+D$2*6)^$A13-1),10) -> 0.11464042 | E13: =ROUND(G$2*(1+G$2)^$A13/((1+G$2)^$A13-1),10) -> 0.11172312 | F13: =ROUND((G$2*6)*(1+G$2*6*F$4/6)*(1+G$2*6)^($A13-1)/((1+G$2*6)^$A13-1),10) -> 0.11468447 | G13: =ROUND((G$2*6)*(1+G$2*6*G$4/6)*(1+G$2*6)^($A13-1)/((1+G$2*6)^$A13-1),10) -> 0.11480994 | H13: =ROUND(J$2*(1+J$2)^$A13/((1+J$2)^$A13-1),10) -> 0.11154211 | I13: =ROUND((J$2*6)*(1+J$2*6*I$4/6)*(1+J$2*6)^($A13-1)/((1+J$2*6)^$A13-1),10) -> 0.11362271 | J13: =ROUND((J$2*6)*(1+J$2*6*J$4/6)*(1+J$2*6)^($A13-1)/((1+J$2*6)^$A13-1),10) -> 0.11371042 | K13: =ROUND(M$2*(1+M$2)^$A13/((1+M$2)^$A13-1),10) -> 0.11156995 | L13: =ROUND((M$2*6)*(1+M$2*6*L$4/6)*(1+M$2*6)^($A13-1)/((1+M$2*6)^$A13-1),10) -> 0.11378573 | M13: =ROUND((M$2*6)*(1+M$2*6*M$4/6)*(1+M$2*6)^($A13-1)/((1+M$2*6)^$A13-1),10) -> 0.11387922 | N13: =ROUND(P$2*(1+P$2)^$A13/((1+P$2)^$A13-1),10) -> 0.1115744 | O13: =ROUND((P$2*6)*(1+P$2*6*O$4/6)*(1+P$2*6)^($A13-1)/((1+P$2*6)^$A13-1),10) -> 0.11381182 | P13: =ROUND((P$2*6)*(1+P$2*6*P$4/6)*(1+P$2*6)^($A13-1)/((1+P$2*6)^$A13-1),10) -> 0.11390623 | Q13: =ROUND(S$2*(1+S$2)^$A13/((1+S$2)^$A13-1),10) -> 0.11160224 | R13: =ROUND((S$2*6)*(1+S$2*6*R$4/6)*(1+S$2*6)^($A13-1)/((1+S$2*6)^$A13-1),10) -> 0.11397498 | S13: =ROUND((S$2*6)*(1+S$2*6*S$4/6)*(1+S$2*6)^($A13-1)/((1+S$2*6)^$A13-1),10) -> 0.11407518
A14: 10 | B14: =ROUND(D$2*(1+D$2)^$A14/((1+D$2)^$A14-1),10) -> 0.10057841 | C14: =ROUND((D$2*6)*(1+D$2*6*C$4/6)*(1+D$2*6)^($A14-1)/((1+D$2*6)^$A14-1),10) -> 0.10338965 | D14: =ROUND((D$2*6)*(1+D$2*6*D$4/6)*(1+D$2*6)^($A14-1)/((1+D$2*6)^$A14-1),10) -> 0.10349764 | E14: =ROUND(G$2*(1+G$2)^$A14/((1+G$2)^$A14-1),10) -> 0.100606 | F14: =ROUND((G$2*6)*(1+G$2*6*F$4/6)*(1+G$2*6)^($A14-1)/((1+G$2*6)^$A14-1),10) -> 0.10355253 | G14: =ROUND((G$2*6)*(1+G$2*6*G$4/6)*(1+G$2*6)^($A14-1)/((1+G$2*6)^$A14-1),10) -> 0.10366582 | H14: =ROUND(J$2*(1+J$2)^$A14/((1+J$2)^$A14-1),10) -> 0.10042675 | I14: =ROUND((J$2*6)*(1+J$2*6*I$4/6)*(1+J$2*6)^($A14-1)/((1+J$2*6)^$A14-1),10) -> 0.10249617 | J14: =ROUND((J$2*6)*(1+J$2*6*J$4/6)*(1+J$2*6)^($A14-1)/((1+J$2*6)^$A14-1),10) -> 0.1025753 | K14: =ROUND(M$2*(1+M$2)^$A14/((1+M$2)^$A14-1),10) -> 0.10045431 | L14: =ROUND((M$2*6)*(1+M$2*6*L$4/6)*(1+M$2*6)^($A14-1)/((1+M$2*6)^$A14-1),10) -> 0.10265832 | M14: =ROUND((M$2*6)*(1+M$2*6*M$4/6)*(1+M$2*6)^($A14-1)/((1+M$2*6)^$A14-1),10) -> 0.10274266 | N14: =ROUND(P$2*(1+P$2)^$A14/((1+P$2)^$A14-1),10) -> 0.10045872 | O14: =ROUND((P$2*6)*(1+P$2*6*O$4/6)*(1+P$2*6)^($A14-1)/((1+P$2*6)^$A14-1),10) -> 0.10268428 | P14: =ROUND((P$2*6)*(1+P$2*6*P$4/6)*(1+P$2*6)^($A14-1)/((1+P$2*6)^$A14-1),10) -> 0.10276946 | Q14: =ROUND(S$2*(1+S$2)^$A14/((1+S$2)^$A14-1),10) -> 0.10048629 | R14: =ROUND((S$2*6)*(1+S$2*6*R$4/6)*(1+S$2*6)^($A14-1)/((1+S$2*6)^$A14-1),10) -> 0.10284658 | S14: =ROUND((S$2*6)*(1+S$2*6*S$4/6)*(1+S$2*6)^($A14-1)/((1+S$2*6)^$A14-1),10) -> 0.10293699
A15: 11 | B15: =ROUND(D$2*(1+D$2)^$A15/((1+D$2)^$A15-1),10) -> 0.09148282 | C15: =ROUND((D$2*6)*(1+D$2*6*C$4/6)*(1+D$2*6)^($A15-1)/((1+D$2*6)^$A15-1),10) -> 0.09428294 | D15: =ROUND((D$2*6)*(1+D$2*6*D$4/6)*(1+D$2*6)^($A15-1)/((1+D$2*6)^$A15-1),10) -> 0.09438142 | E15: =ROUND(G$2*(1+G$2)^$A15/((1+G$2)^$A15-1),10) -> 0.09151019 | F15: =ROUND((G$2*6)*(1+G$2*6*F$4/6)*(1+G$2*6)^($A15-1)/((1+G$2*6)^$A15-1),10) -> 0.094445236 | G15: =ROUND((G$2*6)*(1+G$2*6*G$4/6)*(1+G$2*6)^($A15-1)/((1+G$2*6)^$A15-1),10) -> 0.094548557 | H15: =ROUND(J$2*(1+J$2)^$A15/((1+J$2)^$A15-1),10) -> 0.091332364 | I15: =ROUND((J$2*6)*(1+J$2*6*I$4/6)*(1+J$2*6)^($A15-1)/((1+J$2*6)^$A15-1),10) -> 0.093392965 | J15: =ROUND((J$2*6)*(1+J$2*6*J$4/6)*(1+J$2*6)^($A15-1)/((1+J$2*6)^$A15-1),10) -> 0.093465065 | K15: =ROUND(M$2*(1+M$2)^$A15/((1+M$2)^$A15-1),10) -> 0.091359709 | L15: =ROUND((M$2*6)*(1+M$2*6*L$4/6)*(1+M$2*6)^($A15-1)/((1+M$2*6)^$A15-1),10) -> 0.093554445 | M15: =ROUND((M$2*6)*(1+M$2*6*M$4/6)*(1+M$2*6)^($A15-1)/((1+M$2*6)^$A15-1),10) -> 0.09363131 | N15: =ROUND(P$2*(1+P$2)^$A15/((1+P$2)^$A15-1),10) -> 0.091364085 | O15: =ROUND((P$2*6)*(1+P$2*6*O$4/6)*(1+P$2*6)^($A15-1)/((1+P$2*6)^$A15-1),10) -> 0.093580295 | P15: =ROUND((P$2*6)*(1+P$2*6*P$4/6)*(1+P$2*6)^($A15-1)/((1+P$2*6)^$A15-1),10) -> 0.093657924 | Q15: =ROUND(S$2*(1+S$2)^$A15/((1+S$2)^$A15-1),10) -> 0.091391436 | R15: =ROUND((S$2*6)*(1+S$2*6*R$4/6)*(1+S$2*6)^($A15-1)/((1+S$2*6)^$A15-1),10) -> 0.093741947 | S15: =ROUND((S$2*6)*(1+S$2*6*S$4/6)*(1+S$2*6)^($A15-1)/((1+S$2*6)^$A15-1),10) -> 0.093824357
A16: 12 | B16: =ROUND(D$2*(1+D$2)^$A16/((1+D$2)^$A16-1),10) -> 0.083903178 | C16: =ROUND((D$2*6)*(1+D$2*6*C$4/6)*(1+D$2*6)^($A16-1)/((1+D$2*6)^$A16-1),10) -> 0.086694566 | D16: =ROUND((D$2*6)*(1+D$2*6*D$4/6)*(1+D$2*6)^($A16-1)/((1+D$2*6)^$A16-1),10) -> 0.08678512 | E16: =ROUND(G$2*(1+G$2)^$A16/((1+G$2)^$A16-1),10) -> 0.083930368 | F16: =ROUND((G$2*6)*(1+G$2*6*F$4/6)*(1+G$2*6)^($A16-1)/((1+G$2*6)^$A16-1),10) -> 0.086856425 | G16: =ROUND((G$2*6)*(1+G$2*6*G$4/6)*(1+G$2*6)^($A16-1)/((1+G$2*6)^$A16-1),10) -> 0.086951444 | H16: =ROUND(J$2*(1+J$2)^$A16/((1+J$2)^$A16-1),10) -> 0.083753721 | I16: =ROUND((J$2*6)*(1+J$2*6*I$4/6)*(1+J$2*6)^($A16-1)/((1+J$2*6)^$A16-1),10) -> 0.085807261 | J16: =ROUND((J$2*6)*(1+J$2*6*J$4/6)*(1+J$2*6)^($A16-1)/((1+J$2*6)^$A16-1),10) -> 0.085873505 | K16: =ROUND(M$2*(1+M$2)^$A16/((1+M$2)^$A16-1),10) -> 0.083780884 | L16: =ROUND((M$2*6)*(1+M$2*6*L$4/6)*(1+M$2*6)^($A16-1)/((1+M$2*6)^$A16-1),10) -> 0.085968222 | M16: =ROUND((M$2*6)*(1+M$2*6*M$4/6)*(1+M$2*6)^($A16-1)/((1+M$2*6)^$A16-1),10) -> 0.086038854 | N16: =ROUND(P$2*(1+P$2)^$A16/((1+P$2)^$A16-1),10) -> 0.08378523 | O16: =ROUND((P$2*6)*(1+P$2*6*O$4/6)*(1+P$2*6)^($A16-1)/((1+P$2*6)^$A16-1),10) -> 0.085993991 | P16: =ROUND((P$2*6)*(1+P$2*6*P$4/6)*(1+P$2*6)^($A16-1)/((1+P$2*6)^$A16-1),10) -> 0.086065327 | Q16: =ROUND(S$2*(1+S$2)^$A16/((1+S$2)^$A16-1),10) -> 0.083812399 | R16: =ROUND((S$2*6)*(1+S$2*6*R$4/6)*(1+S$2*6)^($A16-1)/((1+S$2*6)^$A16-1),10) -> 0.086155141 | S16: =ROUND((S$2*6)*(1+S$2*6*S$4/6)*(1+S$2*6)^($A16-1)/((1+S$2*6)^$A16-1),10) -> 0.086230882
... A64: 60 | B64: =ROUND(D$2*(1+D$2)^$A64/((1+D$2)^$A64-1),10) -> 0.017205924 | C64: =ROUND((D$2*6)*(1+D$2*6*C$4/6)*(1+D$2*6)^($A64-1)/((1+D$2*6)^$A64-1),10) -> 0.020045535 | D64: =ROUND((D$2*6)*(1+D$2*6*D$4/6)*(1+D$2*6)^($A64-1)/((1+D$2*6)^$A64-1),10) -> 0.020066473 | E64: =ROUND(G$2*(1+G$2)^$A64/((1+G$2)^$A64-1),10) -> 0.017231878 | F64: =ROUND((G$2*6)*(1+G$2*6*F$4/6)*(1+G$2*6)^($A64-1)/((1+G$2*6)^$A64-1),10) -> 0.020216013 | G64: =ROUND((G$2*6)*(1+G$2*6*G$4/6)*(1+G$2*6)^($A64-1)/((1+G$2*6)^$A64-1),10) -> 0.020238129 | H64: =ROUND(J$2*(1+J$2)^$A64/((1+J$2)^$A64-1),10) -> 0.017063626 | I64: =ROUND((J$2*6)*(1+J$2*6*I$4/6)*(1+J$2*6)^($A64-1)/((1+J$2*6)^$A64-1),10) -> 0.019123346 | J64: =ROUND((J$2*6)*(1+J$2*6*J$4/6)*(1+J$2*6)^($A64-1)/((1+J$2*6)^$A64-1),10) -> 0.01913811 | K64: =ROUND(M$2*(1+M$2)^$A64/((1+M$2)^$A64-1),10) -> 0.017089442 | L64: =ROUND((M$2*6)*(1+M$2*6*L$4/6)*(1+M$2*6)^($A64-1)/((1+M$2*6)^$A64-1),10) -> 0.019289067 | M64: =ROUND((M$2*6)*(1+M$2*6*M$4/6)*(1+M$2*6)^($A64-1)/((1+M$2*6)^$A64-1),10) -> 0.019304915 | N64: =ROUND(P$2*(1+P$2)^$A64/((1+P$2)^$A64-1),10) -> 0.017093575 | O64: =ROUND((P$2*6)*(1+P$2*6*O$4/6)*(1+P$2*6)^($A64-1)/((1+P$2*6)^$A64-1),10) -> 0.019315662 | P64: =ROUND((P$2*6)*(1+P$2*6*P$4/6)*(1+P$2*6)^($A64-1)/((1+P$2*6)^$A64-1),10) -> 0.019331686 | Q64: =ROUND(S$2*(1+S$2)^$A64/((1+S$2)^$A64-1),10) -> 0.01711942 | R64: =ROUND((S$2*6)*(1+S$2*6*R$4/6)*(1+S$2*6)^($A64-1)/((1+S$2*6)^$A64-1),10) -> 0.01948239 | S64: =ROUND((S$2*6)*(1+S$2*6*S$4/6)*(1+S$2*6)^($A64-1)/((1+S$2*6)^$A64-1),10) -> 0.019499517
A65: 61 | B65: =ROUND(D$2*(1+D$2)^$A65/((1+D$2)^$A65-1),10) -> 0.016932649 | E65: =ROUND(G$2*(1+G$2)^$A65/((1+G$2)^$A65-1),10) -> 0.016958604 | H65: =ROUND(J$2*(1+J$2)^$A65/((1+J$2)^$A65-1),10) -> 0.016790346 | K65: =ROUND(M$2*(1+M$2)^$A65/((1+M$2)^$A65-1),10) -> 0.016816162 | N65: =ROUND(P$2*(1+P$2)^$A65/((1+P$2)^$A65-1),10) -> 0.016820295 | Q65: =ROUND(S$2*(1+S$2)^$A65/((1+S$2)^$A65-1),10) -> 0.016846141
A66: 62 | B66: =ROUND(D$2*(1+D$2)^$A66/((1+D$2)^$A66-1),10) -> 0.016668191 | E66: =ROUND(G$2*(1+G$2)^$A66/((1+G$2)^$A66-1),10) -> 0.016694149 | H66: =ROUND(J$2*(1+J$2)^$A66/((1+J$2)^$A66-1),10) -> 0.016525883 | K66: =ROUND(M$2*(1+M$2)^$A66/((1+M$2)^$A66-1),10) -> 0.016551699 | N66: =ROUND(P$2*(1+P$2)^$A66/((1+P$2)^$A66-1),10) -> 0.016555832 | Q66: =ROUND(S$2*(1+S$2)^$A66/((1+S$2)^$A66-1),10) -> 0.016581679
A67: 63 | B67: =ROUND(D$2*(1+D$2)^$A67/((1+D$2)^$A67-1),10) -> 0.016412132 | E67: =ROUND(G$2*(1+G$2)^$A67/((1+G$2)^$A67-1),10) -> 0.016438093 | H67: =ROUND(J$2*(1+J$2)^$A67/((1+J$2)^$A67-1),10) -> 0.016269818 | K67: =ROUND(M$2*(1+M$2)^$A67/((1+M$2)^$A67-1),10) -> 0.016295634 | N67: =ROUND(P$2*(1+P$2)^$A67/((1+P$2)^$A67-1),10) -> 0.016299767 | Q67: =ROUND(S$2*(1+S$2)^$A67/((1+S$2)^$A67-1),10) -> 0.016325614
A68: 64 | B68: =ROUND(D$2*(1+D$2)^$A68/((1+D$2)^$A68-1),10) -> 0.016164078 | E68: =ROUND(G$2*(1+G$2)^$A68/((1+G$2)^$A68-1),10) -> 0.016190041 | H68: =ROUND(J$2*(1+J$2)^$A68/((1+J$2)^$A68-1),10) -> 0.016021756 | K68: =ROUND(M$2*(1+M$2)^$A68/((1+M$2)^$A68-1),10) -> 0.016047573 | N68: =ROUND(P$2*(1+P$2)^$A68/((1+P$2)^$A68-1),10) -> 0.016051706 | Q68: =ROUND(S$2*(1+S$2)^$A68/((1+S$2)^$A68-1),10) -> 0.016077554
A69: 65 | B69: =ROUND(D$2*(1+D$2)^$A69/((1+D$2)^$A69-1),10) -> 0.015923659 | E69: =ROUND(G$2*(1+G$2)^$A69/((1+G$2)^$A69-1),10) -> 0.015949625 | H69: =ROUND(J$2*(1+J$2)^$A69/((1+J$2)^$A69-1),10) -> 0.015781328 | K69: =ROUND(M$2*(1+M$2)^$A69/((1+M$2)^$A69-1),10) -> 0.015807146 | N69: =ROUND(P$2*(1+P$2)^$A69/((1+P$2)^$A69-1),10) -> 0.015811279 | Q69: =ROUND(S$2*(1+S$2)^$A69/((1+S$2)^$A69-1),10) -> 0.015837128
A70: 66 | B70: =ROUND(D$2*(1+D$2)^$A70/((1+D$2)^$A70-1),10) -> 0.015690528 | E70: =ROUND(G$2*(1+G$2)^$A70/((1+G$2)^$A70-1),10) -> 0.015716498 | H70: =ROUND(J$2*(1+J$2)^$A70/((1+J$2)^$A70-1),10) -> 0.015548188 | K70: =ROUND(M$2*(1+M$2)^$A70/((1+M$2)^$A70-1),10) -> 0.015574006 | N70: =ROUND(P$2*(1+P$2)^$A70/((1+P$2)^$A70-1),10) -> 0.015578139 | Q70: =ROUND(S$2*(1+S$2)^$A70/((1+S$2)^$A70-1),10) -> 0.01560399
A71: 67 | B71: =ROUND(D$2*(1+D$2)^$A71/((1+D$2)^$A71-1),10) -> 0.01546436 | E71: =ROUND(G$2*(1+G$2)^$A71/((1+G$2)^$A71-1),10) -> 0.015490332 | H71: =ROUND(J$2*(1+J$2)^$A71/((1+J$2)^$A71-1),10) -> 0.015322008 | K71: =ROUND(M$2*(1+M$2)^$A71/((1+M$2)^$A71-1),10) -> 0.015347827 | N71: =ROUND(P$2*(1+P$2)^$A71/((1+P$2)^$A71-1),10) -> 0.015351961 | Q71: =ROUND(S$2*(1+S$2)^$A71/((1+S$2)^$A71-1),10) -> 0.015377813
A72: 68 | B72: =ROUND(D$2*(1+D$2)^$A72/((1+D$2)^$A72-1),10) -> 0.015244845 | E72: =ROUND(G$2*(1+G$2)^$A72/((1+G$2)^$A72-1),10) -> 0.015270821 | H72: =ROUND(J$2*(1+J$2)^$A72/((1+J$2)^$A72-1),10) -> 0.015102482 | K72: =ROUND(M$2*(1+M$2)^$A72/((1+M$2)^$A72-1),10) -> 0.015128303 | N72: =ROUND(P$2*(1+P$2)^$A72/((1+P$2)^$A72-1),10) -> 0.015132437 | Q72: =ROUND(S$2*(1+S$2)^$A72/((1+S$2)^$A72-1),10) -> 0.01515829
A73: 69 | B73: =ROUND(D$2*(1+D$2)^$A73/((1+D$2)^$A73-1),10) -> 0.015031697 | E73: =ROUND(G$2*(1+G$2)^$A73/((1+G$2)^$A73-1),10) -> 0.015057676 | H73: =ROUND(J$2*(1+J$2)^$A73/((1+J$2)^$A73-1),10) -> 0.014889321 | K73: =ROUND(M$2*(1+M$2)^$A73/((1+M$2)^$A73-1),10) -> 0.014915143 | N73: =ROUND(P$2*(1+P$2)^$A73/((1+P$2)^$A73-1),10) -> 0.014919277 | Q73: =ROUND(S$2*(1+S$2)^$A73/((1+S$2)^$A73-1),10) -> 0.014945132
A74: 70 | B74: =ROUND(D$2*(1+D$2)^$A74/((1+D$2)^$A74-1),10) -> 0.01482464 | E74: =ROUND(G$2*(1+G$2)^$A74/((1+G$2)^$A74-1),10) -> 0.014850624 | H74: =ROUND(J$2*(1+J$2)^$A74/((1+J$2)^$A74-1),10) -> 0.014682251 | K74: =ROUND(M$2*(1+M$2)^$A74/((1+M$2)^$A74-1),10) -> 0.014708075 | N74: =ROUND(P$2*(1+P$2)^$A74/((1+P$2)^$A74-1),10) -> 0.014712209 | Q74: =ROUND(S$2*(1+S$2)^$A74/((1+S$2)^$A74-1),10) -> 0.014738066
A75: 71 | B75: =ROUND(D$2*(1+D$2)^$A75/((1+D$2)^$A75-1),10) -> 0.014623419 | E75: =ROUND(G$2*(1+G$2)^$A75/((1+G$2)^$A75-1),10) -> 0.014649407 | H75: =ROUND(J$2*(1+J$2)^$A75/((1+J$2)^$A75-1),10) -> 0.014481016 | K75: =ROUND(M$2*(1+M$2)^$A75/((1+M$2)^$A75-1),10) -> 0.014506841 | N75: =ROUND(P$2*(1+P$2)^$A75/((1+P$2)^$A75-1),10) -> 0.014510976 | Q75: =ROUND(S$2*(1+S$2)^$A75/((1+S$2)^$A75-1),10) -> 0.014536835
A76: 72 | B76: =ROUND(D$2*(1+D$2)^$A76/((1+D$2)^$A76-1),10) -> 0.01442779 | E76: =ROUND(G$2*(1+G$2)^$A76/((1+G$2)^$A76-1),10) -> 0.014453782 | H76: =ROUND(J$2*(1+J$2)^$A76/((1+J$2)^$A76-1),10) -> 0.014285372 | K76: =ROUND(M$2*(1+M$2)^$A76/((1+M$2)^$A76-1),10) -> 0.014311199 | N76: =ROUND(P$2*(1+P$2)^$A76/((1+P$2)^$A76-1),10) -> 0.014315334 | Q76: =ROUND(S$2*(1+S$2)^$A76/((1+S$2)^$A76-1),10) -> 0.014341196
... A364: 360 | B364: =ROUND(D$2*(1+D$2)^$A364/((1+D$2)^$A364-1),10) -> 0.0033372151 | E364: =ROUND(G$2*(1+G$2)^$A364/((1+G$2)^$A364-1),10) -> 0.003365491 | H364: =ROUND(J$2*(1+J$2)^$A364/((1+J$2)^$A364-1),10) -> 0.0031843425 | K364: =ROUND(M$2*(1+M$2)^$A364/((1+M$2)^$A364-1),10) -> 0.0032118039 | N364: =ROUND(P$2*(1+P$2)^$A364/((1+P$2)^$A364-1),10) -> 0.0032162115 | Q364: =ROUND(S$2*(1+S$2)^$A364/((1+S$2)^$A364-1),10) -> 0.0032438451
