Workbook

Sheet 基礎情報入力シート
A1: ○介護休業手当金・助成金計算書基礎入力シート
A3: 組合員（会員）基本情報入力（黄色セル入力必須） | S3: 算定計算参照シート
A4: 請求年月 | E4: 令和 | I4: 年 | M4: 月 | O4: 分 | S4: =IF(AND(E5="短期組合員（短時間勤務）",N7="日単位"),"日単位_短時間シート",IF(AND(E5="短期組合員（短時間勤務）",N7="時間単位"),"時間単位_短時間シート",IF(AND(E5<>"短期組合員（短時間勤務）",N7="日単位"),"日単位_フルタイムシート","時間単位_フルタイムシート"))) -> 時間単位_フルタイムシート
A5: 組合員種別 | J5: 雇用保険法の規定による介護休業給付の支給の有無
A6: 組合員番号 | S6: 提出書類
A7: 氏名 | J7: 介護休暇取得単位 | S7: 請求書＿様式P40
A8: 生年月日（西暦入力） | J8: 要勤務日数 | P8: 日 | Q8: （土日除く） | S8: 基礎情報入力シート
A9: 所属コード | J9: 介護休暇取得日数 | P9: 日 | Q9: （土日祝、 年末年始除く） | S9: 控除額の算定表シート
A10: 所属名 | J10: 介護休暇時間数 | P10: 時間 | Q10: 1日あたり 時間数 | S10: =S4 -> 時間単位_フルタイムシート
A12: 給料等の算出基礎情報入力（該当箇所のみ入力） | S12: 掛金等計算項目（自動計算)
A13: 標準報酬月額 | H13: 円 | J13: 単身赴任手当 | Q13: 円 | S13: 短期掛金 | V13: =IFERROR(INT(E13*(VLOOKUP(G4&K4,掛金率等計算シート!A:K,掛金率等計算シート!G1,FALSE)+(VLOOKUP(G4&K4,掛金率等計算シート!A:K,掛金率等計算シート!H1,FALSE)))/1000),"")
A14: 給料月額 | H14: 円 | J14: 月額特殊手当 | Q14: 円 | S14: 厚生年金 | V14: =IFERROR(INT(E13*(VLOOKUP(G4&K4,掛金率等計算シート!A:K,掛金率等計算シート!D1,FALSE))/1000),"")
A15: 管理職手当 | H15: 円 | J15: 日額特殊手当 | Q15: 円 | S15: 退職等年金 | V15: =IFERROR(IF(E5<>"一般組合員",0,INT(E13*(VLOOKUP(G4&K4,掛金率等計算シート!A:K,掛金率等計算シート!E1,FALSE))/1000)),"") -> 0
A16: 給料の調整額 | H16: 円 | J16: 特地へき地手当 | Q16: 円 | S16: 介護掛金 | V16: =IFERROR(IF(W23<40,0,INT(E13*(VLOOKUP(G4&K4,掛金率等計算シート!A:K,掛金率等計算シート!F1,FALSE))/1000)),"")
A17: 初任給調整手当 | H17: 円 | J17: 時間外勤務手当 | Q17: 円 | S17: 子ども・子育て 支援掛金 | V17: =IFERROR(INT(E13*(VLOOKUP(G4&K4,掛金率等計算シート!A:K,掛金率等計算シート!I1,FALSE))/1000),"")
A18: 扶養手当 | H18: 円 | J18: 夜間勤務手当 | Q18: 円 | S18: 互助掛金 | V18: =IFERROR(IF(E5="短期組合員（短時間勤務）",1000,INT((E14+E16+E18+E22)*(VLOOKUP(G4&K4,掛金率等計算シート!A:K,掛金率等計算シート!J1,FALSE))/1000)),"")
A19: 地域手当 | H19: 円 | J19: 休日勤務手当 | Q19: 円 | S19: 手当金給付金上限 | V19: =IFERROR(VLOOKUP(G4&K4,掛金率等計算シート!A:K,掛金率等計算シート!K1,FALSE),"")
A20: 住居手当 | H20: 円 | J20: 宿日直手当 | Q20: 円 | S20: 共済控除額 | V20: =IFERROR(控除額の算定表!P23,"")
A21: 通勤手当 | H21: 円 | J21: 管理職特勤手当 | Q21: 円 | S21: 互助控除額 | V21: =IF(AND(E5="短期組合員（短時間勤務）",E22<=""),200*N9,控除額の算定表!P32) -> 0
A22: 教職調整額 | H22: 円 | J22: 産教手当 | Q22: 円
A23: 教員特別手当 | H23: 円 | J23: 定通手当 | Q23: 円 | S23: 請求年月時点年齢 | W23: =IFERROR(IF(E8="","",DATEDIF((E8-1),DATE((2018+G4),K4,VLOOKUP(K4,掛金率等計算シート!$L$2:$M$14,2,FALSE)),"Y")),"エラー")
A24: 寒冷地手当 | H24: 円 | J24: 普及指導手当 | Q24: 円 | S24: =IF(W23="エラー","生年月日の入力形式が違います","")
A26: 介護休業手当金及び介護助成金計算結果について
A28: 介護休業手当金 | G28: =IFERROR(IF(OR(N7="時間単位",N5="有"),"給付対象外",IF(N7="その他","事前に相談ください",IF(AND(E5="短期組合員（短時間勤務）",N7="日単位"),日単位_短時間!AH20,日単位_フルタイム!AG25))),"") | L28: 円 | M28: 介護助成金 | S28: =IFERROR(IF(OR(N5="有",N7="その他"),"事前に相談ください",IF(AND(E5="短期組合員（短時間勤務）",N7="日単位"),日単位_短時間!Z35,IF(AND(E5="短期組合員（短時間勤務）",N7="時間単位"),時間単位_短時間!S21,IF(AND(E5<>"短期組合員（短時間勤務）",N7="日単位"),日単位_フルタイム!AE39,時間単位_フルタイム!AA33)))),"") | X28: 円
A31: ※留意事項
A32: ・入力された給料等に応じて自動計算されます。給与情報等を確認の上、入力ください。
A33: ・雇用保険法の規定による介護休業給付の支給該当の場合、共済組合の「介護休業手当金」は支給対象外となります。
A34: また互助組合の「介護助成金」は給付調整されます。該当する場合は、事前に相談等の連絡をお願いします。
A35: ・請求月内で、休暇取得形態が異なる場合は、事前に相談等の連絡をお願いします。
A36: 例：日単位と時間単位が混在する。日によって取得時間単位が異なる 等
A37: ・休暇取得形態によっては、出勤及び休暇が確認できる書類（出勤簿の写し等）の提出をお願いする場合があります。

Sheet 控除額の算定表
A1: ◆控除額(共済)の算定表（勤務しなかった期間に支払われた報酬の額）
A2: これは「介護休業手当金請求書」の計算式の◆マークの額を計算するものです。
A3: Ａ | C3: （ | D3: 給料月額 | E3: =基礎情報入力シート!E14+基礎情報入力シート!E16 -> 0 | G3: ＋ | H3: 減額対象の手当 | J3: =基礎情報入力シート!E17+基礎情報入力シート!E19+基礎情報入力シート!N14+基礎情報入力シート!N16 -> 0 | L3: ） | M3: × | N3: 1 | O3: ＝ | P3: =(E3+J3)*1/I4 -> #DIV/0!
D4: 介護休暇を取得した月の要勤務日数 | I4: =基礎情報入力シート!N8 -> 0 | J4: 日
A7: Ｂ | C7: （ | D7: 給料月額 | E7: =基礎情報入力シート!E14+基礎情報入力シート!E16 -> 0 | G7: ＋ | H7: 減額対象の手当 | J7: =基礎情報入力シート!E17+基礎情報入力シート!E19+基礎情報入力シート!N14+基礎情報入力シート!N16 -> 0 | L7: ） | M7: × | N7: 12 | O7: ＝ | P7: =ROUNDUP((E7+J7)*12/1875.5,2) -> 0
C8: （7時間45分×5日） × 52週－（7時間45分×18日）
P9: ※銭未満切上げ
A11: Ｃ | D11: B | F11: （勤務時間１時間当たりの給与額） | I11: × | J11: 7時間45分（１日当たりの勤務時間） | O11: ＝ | P11: =P7*7.75 -> 0
A15: Ｄ | D15: （ | E15: =基礎情報入力シート!E15+基礎情報入力シート!E18+基礎情報入力シート!E20+基礎情報入力シート!E22+基礎情報入力シート!E23+基礎情報入力シート!N13 -> 0 | G15: ） | H15: × | I15: 1 ／ ２２ | O15: ＝ | P15: =(E15)*1/22 -> 0
E17: 減額対象外の手当
A19: Ｅ | D19: A | F19: － | G19: C | I19: ＋ | J19: D | O19: ＝ | P19: =ROUNDDOWN(IF(P3-P11<=0,P15,P3-P11+P15),0) -> #DIV/0!
D21: ※A－Cがマイナスとなった場合は「0」とする | P21: ※円未満切り捨て
A23: 控除額（共済） | D23: E | G23: × | H23: 介護休暇取得日数 | K23: =基礎情報入力シート!N9 -> 0 | L23: 日 | O23: ＝ | P23: =P19*K23 -> #DIV/0!
P25: ◆ 控除額（共済）
A27: １．【B】については、市町村費負担の場合、算定方法が異なる場合がありますので給与事務担当者へご確認ください。
A28: ２．教職調整額については、減額されないため【D】に含めて下さい。
A30: 控除額(互助)の算定表（勤務しなかった期間に支払われた報酬の額）
A32: 控除額（互助） | D32: 教職調整額／２２ | G32: × | H32: 介護休暇取得日数 | K32: =基礎情報入力シート!N9 -> 0 | L32: 日 | O32: ＝ | P32: =ROUNDDOWN((基礎情報入力シート!E22/22),0)*基礎情報入力シート!N9 -> 0
D34: ※円未満切り捨て

Sheet 日単位_フルタイム
A1: 介護休業手当金・助成金計算書
A4: １．給料標準報酬日額・時間当たりの金額
B6: （１）標準報酬日額
C7: =+基礎情報入力シート!E13 -> 0 | G7: 円 | H7: × | I7: 1 | M7: ＝ | N7: =ROUND(C7/22,-1) -> 0 | R7: 円 | U7: =+N7 -> 0 | Y7: 円 | Z7: × | AA7: 0.67 | AE7: ＝ | AF7: =ROUNDDOWN(U7*AA7,0) -> 0 | AJ7: 円 | AL7: A
I8: 22
N9: （10円未満四捨五入） | AF9: （円未満切り捨て）
B11: （２）給料日額
C12: =基礎情報入力シート!E14+基礎情報入力シート!E16+基礎情報入力シート!E22 -> 0 | G12: 円 | H12: × | I12: 1 | M12: ＝ | N12: =ROUND(C12/22,-1) -> 0 | R12: 円 | U12: =+N12 -> 0 | Y12: 円 | Z12: × | AA12: 0.8375 | AE12: ＝ | AF12: =ROUNDDOWN(U12*AA12,0) -> 0 | AJ12: 円 | AL12: B
I13: 22
N14: （10円未満四捨五入） | AF14: （円未満切り捨て）
A16: ２．掛金相当額（１日当たりの金額）
B18: （１）共済掛金相当額（円未満切り捨て） | V18: （２）互助掛金相当額（円未満切り捨て）
C19: =SUM(基礎情報入力シート!V13:X17) -> 0 | G19: 円 | H19: × | I19: 1 | M19: ＝ | N19: =ROUNDDOWN(C19/22,0) -> 0 | S19: C | W19: =基礎情報入力シート!V18 | AA19: 円 | AB19: × | AC19: 1 | AG19: ＝ | AH19: =ROUNDDOWN(W19/22,0) -> #VALUE! | AL19: 円 | AN19: D
I20: 22 | AC20: 22
A22: ３．介護休業手当金（共済組合）：標準報酬日額（【A】又は給付上限額の低い方）及び取得日数から算出。なお、取得期間に支払われた報酬は控除する
B24: （１）介護休業手当金相当額 | U24: （２）支払われた報酬（共済控除額）を控除
C25: =IF(AF7<=基礎情報入力シート!V19,AF7,基礎情報入力シート!V19) -> 0 | G25: 円 | H25: × | I25: =基礎情報入力シート!N9 -> 0 | M25: 日 | N25: ＝ | O25: =C25*I25 -> 0 | S25: 円 | V25: =O25 -> 0 | Z25: 円 | AA25: － | AB25: =基礎情報入力シート!V20 | AF25: ＝ | AG25: =V25-AB25 -> #VALUE! | AK25: 円 | AM25: 介護休業手当金
A28: ４．介護助成金（互助組合）：給料日額（【B】又は給付上限額の低い方）及び取得日数から算出。なお、取得期間に係る掛金相当額を加算し、支払われた報酬は控除する
B30: （１）介護助成金相当額 | U30: （２）支払われた報酬（互助控除額）を控除
C31: =IF(AF12<=基礎情報入力シート!V19,AF12,基礎情報入力シート!V19) -> 0 | G31: 円 | H31: × | I31: =基礎情報入力シート!N9 -> 0 | M31: 日 | N31: ＝ | O31: =C31*I31 -> 0 | S31: 円 | V31: =O31 -> 0 | Z31: 円 | AA31: － | AB31: =基礎情報入力シート!V21 -> 0 | AF31: 円 | AG31: = | AH31: =V31-AB31 -> 0 | AL31: 円 | AN31: E
B34: （３）掛金相当額
C35: （ | D35: C | F35: =N19 -> 0 | J35: 円 | K35: ＋ | L35: D | N35: =AH19 -> #VALUE! | R35: 円 | S35: ） | T35: × | U35: =基礎情報入力シート!N9 -> 0 | Y35: 日 | Z35: ＝ | AA35: =(F35+N35)*U35 -> #VALUE! | AE35: 円 | AG35: F
B38: （４）介護休業手当金が支給される場合は控除する
C39: E | E39: =AH31 -> 0 | I39: 円 | J39: ＋ | K39: F | M39: =AA35 -> #VALUE! | Q39: 円 | R39: － | S39: 介護休業手当金 | Y39: =AG25 -> #VALUE! | AC39: 円 | AD39: = | AE39: =E39+M39-Y39 -> #VALUE! | AI39: 円 | AK39: 介護助成金

Sheet 日単位_短時間
A1: 介護休業手当金・助成金計算書
A4: １．給料標準報酬日額・時間当たりの金額
B6: （１）標準報酬日額
C7: =+基礎情報入力シート!E13 -> 0 | G7: 円 | H7: × | I7: 1 | M7: ＝ | N7: =ROUND(C7/22,-1) -> 0 | R7: 円 | U7: =+N7 -> 0 | Y7: 円 | Z7: × | AA7: 0.67 | AE7: ＝ | AF7: =ROUNDDOWN(U7*AA7,0) -> 0 | AJ7: 円 | AL7: A
I8: 22
N9: （10円未満四捨五入） | AF9: （円未満切り捨て）
A11: ２．掛金相当額（１日当たりの金額）
B13: （１）共済掛金相当額（円未満切り捨て）
C14: =SUM(基礎情報入力シート!V13:X17) -> 0 | G14: × | H14: 1 | L14: ＝ | M14: =ROUNDDOWN(C14/22,0) -> 0 | Q14: 円 | S14: B
H15: 22
A17: ３．介護休業手当金（共済組合）：標準報酬日額（【A】又は給付上限額の低い方）及び取得日数から算出。なお、取得期間に支払われた報酬は控除する
B19: （１）介護休業手当金相当額 | U19: （２）支払われた報酬（共済控除額）を控除
C20: =IF(AF7<=基礎情報入力シート!V19,AF7,基礎情報入力シート!V19) -> 0 | G20: 円 | H20: × | I20: =基礎情報入力シート!N9 -> 0 | M20: 日 | N20: ＝ | O20: =C20*I20 -> 0 | S20: 円 | V20: =O20 -> 0 | Z20: 円 | AA20: － | AB20: =基礎情報入力シート!V20 | AF20: 円 | AG20: ＝ | AH20: =V20-AB20 -> #VALUE! | AL20: 円 | AN20: 介護休業手当金
A23: ４．介護助成金（互助組合）：定額「１，０００円」及び取得日数から算出。また、取得期間に係る掛金相当額を加算し、教職調整額の支給がある場合は、
B24: 1日あたり「２００円」を控除する
B26: （１）介護助成金相当額 | X26: （２）掛金相当額
C27: 1000 | G27: 円 | H27: × | I27: =基礎情報入力シート!N9 -> 0 | M27: 日 | N27: = | O27: =(C27*I27) -> 0 | S27: 円 | U27: C | Y27: =M14 -> 0 | AC27: 円 | AD27: × | AE27: =基礎情報入力シート!N9 -> 0 | AI27: 日 | AJ27: = | AK27: =Y27*AE27 -> 0 | AO27: 円 | AQ27: D
B30: （３）支払われた報酬（教職調整額）を控除
C31: =IF(基礎情報入力シート!E22=0,0,200) -> 0 | G31: 円 | H31: × | I31: =基礎情報入力シート!N9 -> 0 | M31: 日 | N31: ＝ | O31: =(C31*I31) -> 0 | S31: 円 | U31: E
B34: （４）介護助成金
C35: C | E35: =O27 -> 0 | I35: 円 | J35: ＋ | K35: D | M35: =AK27 -> 0 | Q35: 円 | R35: － | S35: E | U35: =O31 -> 0 | Y35: = | Z35: =E35+M35-U35 -> 0 | AD35: 円 | AF35: 介護助成金

Sheet 時間単位_フルタイム
A1: 介護助成金計算書
A4: １．給料標準報酬日額・時間当たりの金額
B6: （１）給料日額
C7: =基礎情報入力シート!E14+基礎情報入力シート!E16+基礎情報入力シート!E22 -> 0 | G7: 円 | H7: × | I7: 1 | M7: ＝ | N7: =ROUND(C7/22,-1) -> 0 | R7: 円 | U7: =+N7 -> 0 | Y7: 円 | Z7: × | AA7: 0.8375 | AE7: ＝ | AF7: =ROUNDDOWN(U7*AA7,0) -> 0 | AJ7: 円 | AL7: A
I8: 22
N9: （10円未満四捨五入） | AF9: （円未満切り捨て）
A11: ２．掛金相当額（１日当たりの金額）
B13: （１）共済掛金相当額（円未満切り捨て） | V13: （２）互助掛金相当額（円未満切り捨て）
C14: =SUM(基礎情報入力シート!V13:X17) -> 0 | G14: 円 | H14: × | I14: 1 | M14: ＝ | N14: =ROUNDDOWN(C14/22,0) -> 0 | S14: B | W14: =基礎情報入力シート!V18 | AA14: 円 | AB14: × | AC14: 1 | AG14: ＝ | AH14: =ROUNDDOWN(W14/22,0) -> #VALUE! | AL14: 円 | AN14: C
I15: 22 | AC15: 22
A17: ３．介護助成金（互助組合）：給料日額（【A】又は給付上限額の低い方）から一日あたりの勤務時間を除して、取得時間から算出。また、取得期間に係る
B18: 掛金相当額を加算する。
B20: （１）給料日額相当額
C21: A | E21: =AF7 -> 0 | I21: 円 | J21: ÷ | K21: 7時間45分 | O21: × | P21: =基礎情報入力シート!N9*基礎情報入力シート!N10 -> 0 | T21: 時間 | V21: ＝ | W21: =ROUNDDOWN(E21/7.75*P21,0) -> 0 | AA21: 円 | AC21: D
B24: （２）共済掛金相当額
C25: B | E25: =N14 -> 0 | I25: 円 | J25: ÷ | K25: 7時間45分 | O25: × | P25: =基礎情報入力シート!N9*基礎情報入力シート!N10 -> 0 | T25: 時間 | V25: ＝ | W25: =ROUNDDOWN(E25/7.75*P25,0) -> 0 | AA25: 円 | AC25: E
B28: （３）互助掛金相当額
C29: C | E29: =AH14 -> #VALUE! | I29: 円 | J29: ÷ | K29: 7時間45分 | O29: × | P29: =基礎情報入力シート!N9*基礎情報入力シート!N10 -> 0 | T29: 時間 | V29: ＝ | W29: =ROUNDDOWN(E29/7.75*P29,0) -> #VALUE! | AA29: 円 | AC29: F
B32: （４）介護助成金
C33: D | E33: =W21 -> 0 | I33: 円 | J33: + | K33: E | M33: =W25 -> 0 | Q33: 円 | R33: + | S33: F | U33: =W29 -> #VALUE! | Y33: 円 | Z33: ＝ | AA33: =E33+M33+U33 -> #VALUE! | AE33: 円 | AG33: 介護助成金

Sheet 時間単位_短時間
A1: 介護助成金計算書
A4: １．掛金相当額（１日当たりの金額）
B6: （１）共済掛金相当額（円未満切り捨て）
C7: =SUM(基礎情報入力シート!V13:X17) -> 0 | G7: 円 | H7: × | I7: 1 | M7: ＝ | N7: =ROUNDDOWN(C7/22,0) -> 0 | R7: 円 | T7: A
I8: 22
A10: ２．介護助成金（互助組合）：定額「７００円」及び取得時間から算出。また、取得時間に係る掛金相当額を加算する
B12: （１）介護助成金相当額
C13: 700 | G13: 円 | H13: × | I13: =基礎情報入力シート!N9*基礎情報入力シート!N10 -> 0 | M13: 時間 | O13: ＝ | P13: =C13*I13 -> 0 | T13: 円 | V13: B
B16: （２）掛金相当額
C17: A | E17: =N7 -> 0 | I17: 円 | J17: ÷ | K17: 7時間45分 | O17: × | P17: =基礎情報入力シート!N9*基礎情報入力シート!N10 -> 0 | T17: 時間 | V17: ＝ | W17: =ROUNDDOWN(E17/7.75*P17,0) -> 0 | AA17: 円 | AC17: C
B20: （３）介護助成金
C21: B | E21: =P13 -> 0 | I21: 円 | J21: ＋ | K21: C | M21: =W17 -> 0 | Q21: 円 | R21: ＝ | S21: =E21+M21 -> 0 | W21: 円 | Y21: 介護助成金

Sheet 掛金率等計算シート
B1: =COLUMN() -> 2 | C1: =COLUMN() -> 3 | D1: =COLUMN() -> 4 | E1: =COLUMN() -> 5 | F1: =COLUMN() -> 6 | G1: =COLUMN() -> 7 | H1: =COLUMN() -> 8 | I1: =COLUMN() -> 9 | ... K1: =COLUMN() -> 11
A2: 検索値 | B2: 年 | C2: 月 | D2: 長期掛金率 | E2: 退職等掛金率 | F2: 介護掛金率 | G2: 短期掛金率 | H2: 福祉掛金率 | I2: 子ども掛金率 | J2: 互助掛金率 | K2: 手当金給付上限 | L2: 年齢計算基準月 | M2: 年齢計算基準日
A3: =B3&C3 -> 54 | B3: 5 | C3: 4 | D3: 91.5 | E3: 7.5 | F3: 8 | G3: 46.6 | H3: 1.41 | I3: 0 | J3: 6 | K3: 15266 | L3: 1 | M3: 31
A4: =B4&C4 -> 55 | B4: 5 | C4: 5 | D4: 91.5 | E4: 7.5 | F4: 8 | G4: 46.6 | H4: 1.41 | I4: 0 | J4: 6 | K4: 15266 | L4: 2 | M4: 28
A5: =B5&C5 -> 56 | B5: 5 | C5: 6 | D5: 91.5 | E5: 7.5 | F5: 8 | G5: 46.6 | H5: 1.41 | I5: 0 | J5: 6 | K5: 15266 | L5: 3 | M5: 31
A6: =B6&C6 -> 57 | B6: 5 | C6: 7 | D6: 91.5 | E6: 7.5 | F6: 8 | G6: 46.6 | H6: 1.41 | I6: 0 | J6: 6 | K6: 15266 | L6: 4 | M6: 30
A7: =B7&C7 -> 58 | B7: 5 | C7: 8 | D7: 91.5 | E7: 7.5 | F7: 8 | G7: 46.6 | H7: 1.41 | I7: 0 | J7: 6 | K7: 15513 | L7: 5 | M7: 31
A8: =B8&C8 -> 59 | B8: 5 | C8: 9 | D8: 91.5 | E8: 7.5 | F8: 8 | G8: 46.6 | H8: 1.41 | I8: 0 | J8: 6 | K8: 15513 | L8: 6 | M8: 30
A9: =B9&C9 -> 510 | B9: 5 | C9: 10 | D9: 91.5 | E9: 7.5 | F9: 8 | G9: 46.6 | H9: 1.41 | I9: 0 | J9: 6 | K9: 15513 | L9: 7 | M9: 31
A10: =B10&C10 -> 511 | B10: 5 | C10: 11 | D10: 91.5 | E10: 7.5 | F10: 8 | G10: 46.6 | H10: 1.41 | I10: 0 | J10: 6 | K10: 15513 | L10: 8 | M10: 31
A11: =B11&C11 -> 512 | B11: 5 | C11: 12 | D11: 91.5 | E11: 7.5 | F11: 8 | G11: 46.6 | H11: 1.41 | I11: 0 | J11: 6 | K11: 15513 | L11: 9 | M11: 30
A12: =B12&C12 -> 61 | B12: 6 | C12: 1 | D12: 91.5 | E12: 7.5 | F12: 8 | G12: 46.6 | H12: 1.41 | I12: 0 | J12: 6 | K12: 15513 | L12: 10 | M12: 31
A13: =B13&C13 -> 62 | B13: 6 | C13: 2 | D13: 91.5 | E13: 7.5 | F13: 8 | G13: 46.6 | H13: 1.41 | I13: 0 | J13: 6 | K13: 15513 | L13: 11 | M13: 30
A14: =B14&C14 -> 63 | B14: 6 | C14: 3 | D14: 91.5 | E14: 7.5 | F14: 8 | G14: 46.6 | H14: 1.41 | I14: 0 | J14: 6 | K14: 15513 | L14: 12 | M14: 31
A15: =B15&C15 -> 64 | B15: 6 | C15: 4 | D15: 91.5 | E15: 7.5 | F15: 7.96 | G15: 46.6 | H15: 1.41 | I15: 0 | J15: 7 | K15: 15513
A16: =B16&C16 -> 65 | B16: 6 | C16: 5 | D16: 91.5 | E16: 7.5 | F16: 7.96 | G16: 46.6 | H16: 1.41 | I16: 0 | J16: 7 | K16: 15513
A17: =B17&C17 -> 66 | B17: 6 | C17: 6 | D17: 91.5 | E17: 7.5 | F17: 7.96 | G17: 46.6 | H17: 1.41 | I17: 0 | J17: 7 | K17: 15513
A18: =B18&C18 -> 67 | B18: 6 | C18: 7 | D18: 91.5 | E18: 7.5 | F18: 7.96 | G18: 46.6 | H18: 1.41 | I18: 0 | J18: 7 | K18: 15513
A19: =B19&C19 -> 68 | B19: 6 | C19: 8 | D19: 91.5 | E19: 7.5 | F19: 7.96 | G19: 46.6 | H19: 1.41 | I19: 0 | J19: 7 | K19: 15778
A20: =B20&C20 -> 69 | B20: 6 | C20: 9 | D20: 91.5 | E20: 7.5 | F20: 7.96 | G20: 46.6 | H20: 1.41 | I20: 0 | J20: 7 | K20: 15778
A21: =B21&C21 -> 610 | B21: 6 | C21: 10 | D21: 91.5 | E21: 7.5 | F21: 7.96 | G21: 46.6 | H21: 1.41 | I21: 0 | J21: 7 | K21: 15778
A22: =B22&C22 -> 611 | B22: 6 | C22: 11 | D22: 91.5 | E22: 7.5 | F22: 7.96 | G22: 46.6 | H22: 1.41 | I22: 0 | J22: 7 | K22: 15778
A23: =B23&C23 -> 612 | B23: 6 | C23: 12 | D23: 91.5 | E23: 7.5 | F23: 7.96 | G23: 46.6 | H23: 1.41 | I23: 0 | J23: 7 | K23: 15778
A24: =B24&C24 -> 71 | B24: 7 | C24: 1 | D24: 91.5 | E24: 7.5 | F24: 7.96 | G24: 46.6 | H24: 1.41 | I24: 0 | J24: 7 | K24: 15778
A25: =B25&C25 -> 72 | B25: 7 | C25: 2 | D25: 91.5 | E25: 7.5 | F25: 7.96 | G25: 46.6 | H25: 1.41 | I25: 0 | J25: 7 | K25: 15778
A26: =B26&C26 -> 73 | B26: 7 | C26: 3 | D26: 91.5 | E26: 7.5 | F26: 7.96 | G26: 46.6 | H26: 1.41 | I26: 0 | J26: 7 | K26: 15778
... A50: =B50&C50 -> 93 | B50: 9 | C50: 3 | D50: 91.5 | E50: 7.5 | F50: 7.88 | G50: 46.6 | H50: 1.41 | I50: 1.15 | J50: 7 | K50: 16646
