Workbook

Sheet 基礎情報入力シート
A1: ○傷病手当金計算書基礎情報入力シート
A3: 組合員基本情報入力（黄色セル入力必須）
A4: 組合員番号 | O4: 氏名 | AC4: 生年月日（※）
A5: 所属コード | O5: 所属名
A6: 休職（10割）開始年月日（※） | AE6: （※）…西暦入力（例：1900/1/31）
A7: 休職（8割）開始年月日（※）
A8: 休職（0割）開始年月日（※）
A10: 8割休職中の減額された1か月分の給料等の情報を入力してください | AC10: 左記以外に休職中に支給される手当等の名称及び支給額を入力してください
A11: ※8割休職時に支給されない手当は除くこと
A12: 給料等の算出基礎情報入力（該当箇所のみ入力）
A13: 給料月額 | L13: 円 | O13: 扶養手当 | Z13: 円 | AC13: 名称 | AI13: 金額
A14: 給料の調整額 | L14: 円 | O14: 地域手当 | Z14: 円 | AN14: 円
A15: 教職調整額 | L15: 円 | O15: 住居手当 | Z15: 円 | AN15: 円
O16: 寒冷地手当 | Z16: 円 | AN16: 円
A18: 直近過去1年間の標準報酬月額を入力してください | AC18: 支給開始時の提出書類
A19: =IFERROR(TEXT(EDATE($O$7,-11),"ggge年ｍ月"),"") | L19: 円 | O19: =IFERROR(TEXT(EDATE($O$7,-5),"ggge年ｍ月"),"") | Z19: 円 | AC19: 請求書＿様式P37
A20: =IFERROR(TEXT(EDATE($O$7,-10),"ggge年ｍ月"),"") | L20: 円 | O20: =IFERROR(TEXT(EDATE($O$7,-4),"ggge年ｍ月"),"") | Z20: 円 | AC20: 意見書＿様式P38
A21: =IFERROR(TEXT(EDATE($O$7,-9),"ggge年ｍ月"),"") | L21: 円 | O21: =IFERROR(TEXT(EDATE($O$7,-3),"ggge年ｍ月"),"") | Z21: 円 | AC21: 出勤状況が分かるもの
A22: =IFERROR(TEXT(EDATE($O$7,-8),"ggge年ｍ月"),"") | L22: 円 | O22: =IFERROR(TEXT(EDATE($O$7,-2),"ggge年ｍ月"),"") | Z22: 円 | AC22: 基礎情報入力シート
A23: =IFERROR(TEXT(EDATE($O$7,-7),"ggge年ｍ月"),"") | L23: 円 | O23: =IFERROR(TEXT(EDATE($O$7,-1),"ggge年ｍ月"),"") | Z23: 円
A24: =IFERROR(TEXT(EDATE($O$7,-6),"ggge年ｍ月"),"") | L24: 円 | O24: =IFERROR(TEXT(EDATE($O$7,0),"ggge年ｍ月"),"") -> 明治33年1月 | Z24: 円
A26: 休職8割期間中の支給対象日数に係る傷病手当金支給該当有無
A27: 20日 | F27: =IFERROR(試算シート!H29,"") -> 支給対象 | K27: 21日 | P27: =IFERROR(試算シート!Y29,"") -> 支給対象 | U27: 22日 | Z27: =IFERROR(試算シート!AP29,"") -> 支給対象 | AE27: 23日 | AJ27: =IFERROR(試算シート!BG29,"") -> 支給対象
A29: =IF(AND(F27="支給対象外",P27="支給対象外",Z27="支給対象外",AJ27="支給対象外"), "休職0割期間になった際に、傷病手当金を請求してください", IF(AND(F27="支給対象",P27="支給対象",Z27="支給対象",AJ27="支給対象"), "休職8割期間になった際に、支給対象となりますので傷病手当金を請求してください", IF(AND(F27="",P27="",Z27="",AJ27=""), "給料等の情報を入力してください", "休職8割期間の支給対象日数が" & IF(F27="支給対象","「20日」","") & IF(P27="支給対象","「21日」","") & IF(Z27="支給対象","「22日」","") & IF(AJ27="支給対象","「23日」","") & "の月が支給対象となりますので傷病手当金を請求してください" ))) -> 休職8割期間になった際に、支給対象となりますので傷病手当金を請求してください
A32: ※留意事項
A33: ・入力された給料等に応じて自動計算されます。給与情報等を確認の上、給料等は、8割支給時の情報を入力ください。
A34: 注）月途中に10割休職から8割休職に移行した場合、支給割合を混在した給与等の入力は不可です
A35: ・待機期間及び支給開始日等を確認するため、休職の際の「診断書」の提出を求める場合があります。
A36: ・傷病手当金に係る給付日額は支給開始日の属する月以前の直近の継続した12月間の標準報酬月額を使用します。
A37: ・給与及び標準報酬月額等により試算シートの結果と異なる場合があります。予めご了承ください。

Sheet 試算シート
B1: 休職8割期間に係る傷病手当金試算シート
B2: ※このシートには手を加えないでください。正しく計算されなくなります。
B4: 支給額算定調書
B6: （1）休職8割期間に係る報酬月額の算出
C7: 報酬①（日々の勤務に対して支給されると考えられるもの）
C8: 給料月額 | Q8: 給料の調整額 | AE8: 地域手当 | AS8: 報酬①の合計
C9: =基礎情報入力シート!$G$13 -> 0 | M9: 円 | O9: ＋ | Q9: =基礎情報入力シート!$G$14 -> 0 | AA9: 円 | AC9: ＋ | AE9: =基礎情報入力シート!$U$14 -> 0 | AO9: 円 | AQ9: ＝ | AS9: =C9+Q9+AE9 -> 0 | BC9: 円 | BE9: A
C10: 報酬②（報酬①以外のもの）
C11: 教職調整額 | S11: 左記以外手当等合計額 | AI11: 報酬②の合計
C12: =基礎情報入力シート!$G$15 -> 0 | O12: 円 | Q12: ＋ | S12: =基礎情報入力シート!U13+基礎情報入力シート!U15+基礎情報入力シート!U16+基礎情報入力シート!AI14+基礎情報入力シート!AI15+基礎情報入力シート!AI16 -> 0 | AE12: 円 | AG12: ＝ | AI12: =C12+S12 -> 0 | AS12: 円 | AU12: B
B14: （2）各支給対象日数（月別要勤務日数）に係る報酬の日額を算出
B15: 日数 | H15: ２０日 | Y15: ２１日 | AP15: ２２日 | BG15: ２３日
B16: 報酬① | H16: A | J16: ÷ | L16: 20 | N16: =ROUNDDOWN(AS9/20,2) -> 0 | T16: 円 | V16: C1 | Y16: A | AA16: ÷ | AC16: 21 | AE16: =ROUNDDOWN(AS9/21,2) -> 0 | AK16: 円 | AM16: D1 | AP16: A | AR16: ÷ | AT16: 22 | AV16: =ROUNDDOWN(AS9/22,2) -> 0 | BB16: 円 | BD16: E1 | BG16: A | BI16: ÷ | BK16: 23 | BM16: =ROUNDDOWN(AS9/23,2) -> 0 | BS16: 円 | BU16: F1
B17: 報酬② | H17: B | J17: ÷ | L17: 22 | N17: =ROUNDDOWN(AI12/22,2) -> 0 | T17: 円 | V17: C2 | Y17: B | AA17: ÷ | AC17: 22 | AE17: =ROUNDDOWN(AI12/22,2) -> 0 | AK17: 円 | AM17: D2 | AP17: B | AR17: ÷ | AT17: 22 | AV17: =ROUNDDOWN(AI12/22,2) -> 0 | BB17: 円 | BD17: E2 | BG17: B | BI17: ÷ | BK17: 22 | BM17: =ROUNDDOWN(AI12/22,2) -> 0 | BS17: 円 | BU17: F2
B18: 合計 | H18: C1 | J18: + | L18: C2 | N18: =ROUNDDOWN(N16+N17,0) -> 0 | T18: 円 | V18: C3 | Y18: D1 | AA18: + | AC18: D2 | AE18: =ROUNDDOWN(AE16+AE17,0) -> 0 | AK18: 円 | AM18: D3 | AP18: E1 | AR18: + | AT18: E2 | AV18: =ROUNDDOWN(AV16+AV17,0) -> 0 | BB18: 円 | BD18: E3 | BG18: F1 | BI18: + | BK18: F2 | BM18: =ROUNDDOWN(BM16+BM17,0) -> 0 | BS18: 円 | BU18: F3
B20: （3）休業給付金の日額の算出
D21: 標準報酬月額 | AB21: 標準報酬日額（10円未満四捨五入）
C22: （ | D22: =AVERAGE(基礎情報入力シート!G19:K24, 基礎情報入力シート!U19:V24) -> #DIV/0! | N22: ） | O22: 円 | Q22: × | S22: （ | T22: 1/22 | Y22: ） | Z22: ＝ | AB22: =IF(D22="","",ROUND(D22/22,-1)) -> #DIV/0! | AL22: 円
D23: 標準報酬日額 | T23: 支給割合 | AB23: 給付日額（1円未満四捨五入）
C24: （ | D24: =$AB$22 -> #DIV/0! | N24: ） | O24: 円 | Q24: × | S24: （ | T24: 2/3 | Y24: ） | Z24: ＝ | AB24: =IFERROR(ROUND(D24*2/3,0),"") | AL24: 円 | AN24: G
B26: （4）各支給対象日数（月別要勤務日数）に係る報酬の日額と給付日額が、「報酬の日額」＜「給付日額」の場合、支給対象（開始）となる
B27: 日数 | H27: ２０日 | Y27: ２１日 | AP27: ２２日 | BG27: ２３日
B28: 比較 | H28: C3 | J28: =$N$18 -> 0 | O28: =IF(J28<S28,"＜","＞") -> ＜ | Q28: G | S28: =$AB$24 | Y28: D3 | AA28: =$AE$18 -> 0 | AF28: =IF(AA28<AJ28,"＜","＞") -> ＜ | AH28: G | AJ28: =$AB$24 | AP28: E3 | AR28: =$AV$18 -> 0 | AW28: =IF(AR28<BA28,"＜","＞") -> ＜ | AY28: G | BA28: =$AB$24 | BG28: F3 | BI28: =$BM$18 -> 0 | BN28: =IF(BI28<BR28,"＜","＞") -> ＜ | BP28: G | BR28: =$AB$24
B29: 結果 | H29: =IF(J28<S28,"支給対象","支給対象外") -> 支給対象 | Y29: =IF(AA28<AJ28,"支給対象","支給対象外") -> 支給対象 | AP29: =IF(AR28<BA28,"支給対象","支給対象外") -> 支給対象 | BG29: =IF(BI28<BR28,"支給対象","支給対象外") -> 支給対象
B31: （5）各支給対象日数（月別要勤務日数）に係る支給額の決定
B32: 支給対象日数 | L32: 給付日額 | AF32: 控除（報酬）額 | AZ32: 支給額
B34: ２０日 | L34: （ | M34: G | O34: =$AB$24 | U34: 円 | W34: × | Y34: 20 | AA34: 日 | AC34: ） | AD34: - | AF34: （ | AG34: C3 | AI34: =$J$28 -> 0 | AO34: 円 | AQ34: × | AS34: 20 | AU34: 日 | AW34: ） | AX34: ＝ | AZ34: =IF(H29="支給対象外",0,(O34*Y34)-(AI34*AS34)) -> #VALUE! | BH34: 円
B36: ２1日 | L36: （ | M36: G | O36: =$AB$24 | U36: 円 | W36: × | Y36: 21 | AA36: 日 | AC36: ） | AD36: - | AF36: （ | AG36: D3 | AI36: =$AA$28 -> 0 | AO36: 円 | AQ36: × | AS36: 21 | AU36: 日 | AW36: ） | AX36: ＝ | AZ36: =IF(Y29="支給対象外",0,(O36*Y36)-(AI36*AS36)) -> #VALUE! | BH36: 円
B38: ２２日 | L38: （ | M38: G | O38: =$AB$24 | U38: 円 | W38: × | Y38: 22 | AA38: 日 | AC38: ） | AD38: - | AF38: （ | AG38: E3 | AI38: =$AR$28 -> 0 | AO38: 円 | AQ38: × | AS38: 22 | AU38: 日 | AW38: ） | AX38: ＝ | AZ38: =IF(AP29="支給対象外",0,(O38*Y38)-(AI38*AS38)) -> #VALUE! | BH38: 円
B40: ２３日 | L40: （ | M40: G | O40: =$AB$24 | U40: 円 | W40: × | Y40: 23 | AA40: 日 | AC40: ） | AD40: - | AF40: （ | AG40: F3 | AI40: =$BI$28 -> 0 | AO40: 円 | AQ40: × | AS40: 23 | AU40: 日 | AW40: ） | AX40: ＝ | AZ40: =IF(BG29="支給対象外",0,(O40*Y40)-(AI40*AS40)) -> #VALUE! | BH40: 円
