Workbook

Sheet 入力フォーム
A1: ① | B1: 所属コード | F1: =ASC(UPPER(MID(D1,1,5)))
A2: ② | B2: 会員番号(組合員証番号) | F2: =ASC(UPPER(MID(D2,1,6)))
A3: ③ | B3: 貸付種別 | F3: =RIGHT(D3,2)
A4: ④ | B4: 貸付番号 | F4: =ASC(UPPER(MID(D4,1,6)))
A5: ⑥ | B5: 給料月額（給料額＋教職調整額）
A6: ⑦ | B6: 償還猶予残額（育休等で償還猶予を受けていた時のみ入力）
A8: ⑧ | C8: 生活
C9: 育休
C10: 物品
C11: 住宅
C12: 普通
C13: 結婚
C14: 教育
C15: 償還合計 | D15: =SUM(D8:D14) -> 0 | E15: =計算用!B26
C17: 給料による制限 | D17: =計算用!B5 -> 0
C19: 一繰後の償還合計 | D19: =SUM(計算用!C15,計算用!B24:B24) -> #VALUE!
D21: 2027年1月末時点
A22: ⑨ | B22: 1月末時点の残り回数
A23: ⑩ | B23: 1月末時点の残高
A25: ⑬ | B25: 一繰後の希望する償還回数 | E25: =計算用!B23
A26: ⑭ | B26: 一部繰上償還額 | E26: =計算用!B22 -> 未償還元金以内にしてください！
A28: 申出書に記入する一部繰上償還後の毎月償還額 | D28: =計算用!B24 -> 0 | E28: =計算用!B25 -> #VALUE!
A30: 実際の納付額 | D30: =計算用!B27 -> 0

Sheet 互助一部繰上償還申出書
I2: 一 部 繰 上 償 還 申 出 書
A6: 互助 | C6: カードNo.
A7: 1 | B7: 2 | C7: 3 | E7: 5
A8: 0 | B8: 2 | C8: 5 | D8: 2 | E8: 2 | P8: 所属コード | U8: 会員番号（共済組合員証番号）
U9: 7 | Z9: 12
P10: =IF(LEN(入力フォーム!$F$1)<4,"",IF(LEN(入力フォーム!$F$1)=4,"",MID(入力フォーム!$F$1,1,1))) | Q10: =IF(LEN(入力フォーム!$F$1)<4,"",IF(LEN(入力フォーム!$F$1)=4,MID(入力フォーム!$F$1,1,1),MID(入力フォーム!$F$1,2,1))) | R10: =IF(LEN(入力フォーム!$F$1)<4,"",IF(LEN(入力フォーム!$F$1)=4,MID(入力フォーム!$F$1,2,1),MID(入力フォーム!$F$1,3,1))) | S10: =IF(LEN(入力フォーム!$F$1)<4,"",IF(LEN(入力フォーム!$F$1)=4,MID(入力フォーム!$F$1,3,1),MID(入力フォーム!$F$1,4,1))) | T10: =IF(LEN(入力フォーム!$F$1)<4,"",IF(LEN(入力フォーム!$F$1)=4,MID(入力フォーム!$F$1,4,1),MID(入力フォーム!$F$1,5,1))) | U10: =IF(LEN(入力フォーム!$F$2)<6,"",MID(入力フォーム!$F$2,1,1)) | V10: =IF(LEN(入力フォーム!$F$2)<6,"",MID(入力フォーム!$F$2,2,1)) | W10: =IF(LEN(入力フォーム!$F$2)<6,"",MID(入力フォーム!$F$2,3,1)) | X10: =IF(LEN(入力フォーム!$F$2)<6,"",MID(入力フォーム!$F$2,4,1)) | Y10: =IF(LEN(入力フォーム!$F$2)<6,"",MID(入力フォーム!$F$2,5,1)) | Z10: =IF(LEN(入力フォーム!$F$2)<6,"",MID(入力フォーム!$F$2,6,1))
A11: 一部繰上償還する貸付種別 | S11: 種別 | U11: 貸付番号 | AB11: 再鑑
A13: 生活（８１） 物品購入（８５） 住宅（８８） 結婚（９５） 教育（９９） | S13: 14 | T13: 15 | U13: 16 | Z13: 21
S14: =MID(入力フォーム!$F$3,1,1) | T14: =MID(入力フォーム!$F$3,2,1) | U14: =IF(LEN(入力フォーム!$F$4)<=4,"",IF(LEN(入力フォーム!$F$4)=5,0,MID(入力フォーム!$F$4,1,1))) | V14: =IF(LEN(入力フォーム!$F$4)<=4,"",IF(LEN(入力フォーム!$F$4)=5,MID(入力フォーム!$F$4,1,1),MID(入力フォーム!$F$4,2,1))) | W14: =IF(LEN(入力フォーム!$F$4)<=4,"",IF(LEN(入力フォーム!$F$4)=5,MID(入力フォーム!$F$4,2,1),MID(入力フォーム!$F$4,3,1))) | X14: =IF(LEN(入力フォーム!$F$4)<=4,"",IF(LEN(入力フォーム!$F$4)=5,MID(入力フォーム!$F$4,3,1),MID(入力フォーム!$F$4,4,1))) | Y14: =IF(LEN(入力フォーム!$F$4)<=4,"",IF(LEN(入力フォーム!$F$4)=5,MID(入力フォーム!$F$4,4,1),MID(入力フォーム!$F$4,5,1))) | Z14: =IF(LEN(入力フォーム!$F$4)<=4,"",IF(LEN(入力フォーム!$F$4)=5,MID(入力フォーム!$F$4,5,1),MID(入力フォーム!$F$4,6,1)))
A15: 区分 | C15: （ 月末現在） | I15: 一部繰上償還額 | Q15: 一部繰上償還後の償還方法
C16: 未償還回数 | F16: 未償還元金① | I16: （未償還元金取崩額）② | Q16: 償還回数③ | T16: 一回の償還額④
A17: 償還 | C17: =計算用!B17 -> 0 | F17: =計算用!B19 -> 0 | I17: 22 | P17: 29 | Q17: 30 | S17: 32 | T17: 33 | Z17: 39 | AB17: 審査
I18: 0 | J18: =IF(LEN(入力フォーム!$D$26)<7,0,MID(入力フォーム!$D$26,1,1)) -> 0 | K18: =IF(LEN(入力フォーム!$D$26)<6,0,IF(LEN(入力フォーム!$D$26)=7,MID(入力フォーム!$D$26,2,1),MID(入力フォーム!$D$26,1,1))) -> 0 | L18: =IF(LEN(入力フォーム!$D$26)<5,0,IF(LEN(入力フォーム!$D$26)=7,MID(入力フォーム!$D$26,3,1),IF(LEN(入力フォーム!$D$26)=6,MID(入力フォーム!$D$26,2,1),MID(入力フォーム!$D$26,1,1)))) -> 0 | M18: =IF(LEN(入力フォーム!$D$26)<4,0,IF(LEN(入力フォーム!$D$26)=7,MID(入力フォーム!$D$26,4,1),IF(LEN(入力フォーム!$D$26)=6,MID(入力フォーム!$D$26,3,1),IF(LEN(入力フォーム!$D$26)=5,MID(入力フォーム!$D$26,2,1),MID(入力フォーム!$D$26,1,1))))) -> 0 | N18: =IF(LEN(入力フォーム!$D$26)<3,0,IF(LEN(入力フォーム!$D$26)=7,MID(入力フォーム!$D$26,5,1),IF(LEN(入力フォーム!$D$26)=6,MID(入力フォーム!$D$26,4,1),IF(LEN(入力フォーム!$D$26)=5,MID(入力フォーム!$D$26,3,1),IF(LEN(入力フォーム!$D$26)=4,MID(入力フォーム!$D$26,2,1),MID(入力フォーム!$D$26,1,1)))))) -> 0 | O18: =IF(LEN(入力フォーム!$D$26)<2,0,IF(LEN(入力フォーム!$D$26)=7,MID(入力フォーム!$D$26,6,1),IF(LEN(入力フォーム!$D$26)=6,MID(入力フォーム!$D$26,5,1),IF(LEN(入力フォーム!$D$26)=5,MID(入力フォーム!$D$26,4,1),IF(LEN(入力フォーム!$D$26)=4,MID(入力フォーム!$D$26,3,1),IF(LEN(入力フォーム!$D$26)=3,MID(入力フォーム!$D$26,2,1),MID(入力フォーム!$D$26,1,1))))))) -> 0 | P18: =IF(AND(入力フォーム!D26=0,入力フォーム!D26=""),0,RIGHT(入力フォーム!D26,1)) -> 0 | Q18: =IF(LEN(入力フォーム!D25)<3,0,MID(入力フォーム!D25,1,1)) -> 0 | R18: =IF(LEN(入力フォーム!D25)<1,0,IF(LEN(入力フォーム!D25)=3,MID(入力フォーム!D25,2,1),IF(LEN(入力フォーム!D25)=2,MID(入力フォーム!D25,1,1),0))) -> 0 | S18: =IF(AND(入力フォーム!D26=0,入力フォーム!D26=""),0,RIGHT(入力フォーム!D25,1)) -> 0 | T18: 0 | U18: =IF(LEN(入力フォーム!$D$28)<6,0,IF(LEN(入力フォーム!$D$28)=6,MID(入力フォーム!$D$28,1,1),0)) -> 0 | V18: =IF(LEN(入力フォーム!$D$28)<5,0,IF(LEN(入力フォーム!$D$28)=6,MID(入力フォーム!$D$28,2,1),IF(LEN(入力フォーム!$D$28)=5,MID(入力フォーム!$D$28,1,1),0))) -> 0 | W18: =IF(LEN(入力フォーム!$D$28)<4,0,IF(LEN(入力フォーム!$D$28)=6,MID(入力フォーム!$D$28,3,1),IF(LEN(入力フォーム!$D$28)=5,MID(入力フォーム!$D$28,2,1),IF(LEN(入力フォーム!$D$28)=4,MID(入力フォーム!$D$28,1,1),0)))) -> 0 | X18: =IF(LEN(入力フォーム!$D$28)<3,0,IF(LEN(入力フォーム!$D$28)=6,MID(入力フォーム!$D$28,4,1),IF(LEN(入力フォーム!$D$28)=5,MID(入力フォーム!$D$28,3,1),IF(LEN(入力フォーム!$D$28)=4,MID(入力フォーム!$D$28,2,1),IF(LEN(入力フォーム!$D$28)=3,MID(入力フォーム!$D$28,1,1),0))))) -> 0 | Y18: =IF(LEN(入力フォーム!$D$28)<2,0,IF(LEN(入力フォーム!$D$28)=6,MID(入力フォーム!$D$28,5,1),IF(LEN(入力フォーム!$D$28)=5,MID(入力フォーム!$D$28,4,1),IF(LEN(入力フォーム!$D$28)=4,MID(入力フォーム!$D$28,3,1),IF(LEN(入力フォーム!$D$28)=3,MID(入力フォーム!$D$28,2,1),IF(LEN(入力フォーム!$D$28)=2,MID(入力フォーム!$D$28,1,1),0)))))) -> 0 | Z18: =RIGHT(入力フォーム!$D$28) -> 0
I19: 40 | P19: 47 | Q19: 48 | S19: 50 | T19: 51 | Z19: 57
I20: 0 | J20: 0 | K20: 0 | L20: 0 | M20: 0 | N20: 0 | O20: 0 | P20: 0 | Q20: 0 | R20: 0 | S20: 0 | T20: 0 | U20: 0 | V20: 0 | W20: 0 | X20: 0 | Y20: 0 | Z20: 0
A22: （一財）岡山県教育職員互助組合 | J22: 給付及び貸付規程第４２条 | R22: に基づき、借受中の貸付金を
J23: 退職互助規程第２４条
A24: 一部繰上償還したいので申し出ます。
A26: なお、償還猶予残がある場合は、それを加えて償還します。
T28: 年 | W28: 月 | Z28: 日
A30: （一財）岡山県教育職員互助組合理事長 殿
A32: 申出人（自署） | C32: 所属所名 | G32: （TEL)
C33: 現在地 | G33: 〒
C34: 現住所 | G34: 〒 （TEL)
C35: 職名 | M35: 氏名
B37: ◎一部繰上償還についての留意事項
B38: （１） 申し出月は、６月又は１２月。納付月は、７月又は１月。
B39: （２） 未償還元金①は、本人保管の償還表（最新のもの）返済年月が７月又は１月の欄を記入。
B40: （３） 一部繰上償還額②は、１０万円以上。
B41: （４） 一回の償還額④は、一部繰上償還後の未償還元金（①－②）に償還回数③に応じた
B42: 賦金率を乗じて得た額（円未満四捨五入）。
B43: （５） 償還回数③は、未償還回数の範囲内で設定のこと。
B44: （６） 一部繰上償還後は、翌月（８月又は２月）から償還額が変更になります。

Sheet 計算用
A1: 貸付種別の入力 | B1: =VALUE(入力フォーム!F3) -> #VALUE! | C1: 生活81、物品85、住宅88、退互結婚92、退互結婚93、結婚95、退互大学96、退互大学97、教育99、退互普通91、海派83、育休84、生活住宅89
A2: 一繰月の月末時点の未償還回数（毎月償還部分） | B2: =入力フォーム!D22 -> 0
A3: 一繰月の月末時点の未償還元金（毎月償還部分） | B3: =入力フォーム!D23 -> 0
A4: カット後の給料額＋教職調整額 | B4: =入力フォーム!D5 -> 0
A5: 10分の３ | B5: =TRUNC(B4*3/10) -> 0
A6: 猶予額 | B6: =入力フォーム!D6 -> 0
A7: 借受中の貸付金の一回当たりの償還額 | B7: 毎月 (入力用) | C7: 毎月 (給料3/10)
A8: 生活 | B8: =入力フォーム!D8 -> 0 | C8: =IF(OR($B$1=81,$B$1=83,$B$1=89),0,$B8) -> #VALUE!
A9: 育休 | B9: =入力フォーム!D9 -> 0 | C9: =IF($B$1=84,0,$B9) -> #VALUE!
A10: 物品 | B10: =入力フォーム!D10 -> 0 | C10: =IF($B$1=85,0,$B10) -> #VALUE!
A11: 住宅 | B11: =入力フォーム!D11 -> 0 | C11: =IF($B$1=88,0,$B11) -> #VALUE!
A12: 普通 | B12: =入力フォーム!D12 -> 0 | C12: =IF($B$1=91,0,$B12) -> #VALUE!
A13: 結婚 | B13: =入力フォーム!D13 -> 0 | C13: =IF(OR($B$1=92,$B$1=93,$B$1=94,$B$1=95),0,$B13) -> #VALUE!
A14: 教育 | B14: =入力フォーム!D14 -> 0 | C14: =IF(OR($B$1=96,$B$1=97,$B$1=98,$B$1=99),0,$B14) -> #VALUE!
A15: 合計 | B15: =SUM(B8:B14) -> 0 | C15: =SUM(C8:C14) -> #VALUE!
A17: 一繰月の月末時点の未償還回数（毎月償還部分） | B17: =B2 -> 0
A18: 一繰する貸付金の償還額 | B18: =IF(OR(B1=81,B1=83,B1=89),B8,IF(B1=84,B9,IF(B1=85,B10,IF(B1=88,B11,IF(OR(B1=92,B1=93,B1=94,B1=95),B13,IF(OR(B1=96,B1=97,B1=98,B1=99),B14,IF(B1=91,B12,""))))))) -> #VALUE!
A19: 一繰月の月末時点の未償還元金（毎月償還部分） | B19: =B3 -> 0
A20: 一部繰上償還額（毎月償還部分） | B20: =入力フォーム!D26 -> 0
A21: 希望する償還回数（毎月償還部分） | B21: =入力フォーム!D25 -> 0
A22: 毎月償還のみの最低額の判定 | B22: =IF(B19-B20<=0,"未償還元金以内にしてください！",IF(B20<100000,"１０万円以上にしてください！","")) -> 未償還元金以内にしてください！
A23: 毎月償還の償還回数の判定 | B23: =IF(B17<B21,"償還回数は増やせません！",IF(AND(0<B20,B21=0),"償還回数を入力してください！",IF(AND(B20=0,0<B21),"一部繰上償還額を入力してください！","")))
A24: 一部繰上償還後の毎月償還額 | B24: =IF(B20=0,0,IF(OR(B1=81,B1=83,B1=84,B1=87,B1=89),ROUND((B19-B20)*VLOOKUP(B21,賦金率表!A4:E363,2,0),0),ROUND((B19-B20)*VLOOKUP(B21,賦金率表!A4:E363,5,0),0))) -> 0
A25: 給料月額の3/10を判定（一繰後） | B25: =IF(ISERROR(SUM(B24:B24)),"",IF(B5<B24+C15,"償還合計は給料月額の１０分の３以内でお願いします!","")) -> #VALUE!
A26: 給料月額の3/10を判定（一繰前の入力時） | B26: =IF(B5<B15,"給料月額の10分の3超です!","")
A27: 実際の納付額 | B27: =+B20+B6 -> 0
B31: 0
B32: 0
B33: =IF(OR(B31=1,B32=2),"ok",0) -> 0

Sheet 賦金率表
B1: 生活貸付(81,83,84,87,89) | E1: 全貸付
B2: 0.013 | C2: 月利 | D2: =ROUNDDOWN(+B2/12,6) -> 0.001083 | E2: 0.013 | F2: 月利 | G2: =ROUNDDOWN(+E2/12,6) -> 0.001083
A3: 回数 | B3: 賦金率(毎月) | E3: 賦金率(毎月)
A4: 1 | B4: =ROUND(D$2*(1+D$2)^$A4/((1+D$2)^$A4-1),10) -> 1.001083 | E4: =ROUND(G$2*(1+G$2)^$A4/((1+G$2)^$A4-1),10) -> 1.001083
A5: 2 | B5: =ROUND(D$2*(1+D$2)^$A5/((1+D$2)^$A5-1),10) -> 0.5008124 | E5: =ROUND(G$2*(1+G$2)^$A5/((1+G$2)^$A5-1),10) -> 0.5008124
A6: 3 | B6: =ROUND(D$2*(1+D$2)^$A6/((1+D$2)^$A6-1),10) -> 0.33405559 | E6: =ROUND(G$2*(1+G$2)^$A6/((1+G$2)^$A6-1),10) -> 0.33405559
A7: 4 | B7: =ROUND(D$2*(1+D$2)^$A7/((1+D$2)^$A7-1),10) -> 0.25067724 | E7: =ROUND(G$2*(1+G$2)^$A7/((1+G$2)^$A7-1),10) -> 0.25067724
A8: 5 | B8: =ROUND(D$2*(1+D$2)^$A8/((1+D$2)^$A8-1),10) -> 0.20065027 | E8: =ROUND(G$2*(1+G$2)^$A8/((1+G$2)^$A8-1),10) -> 0.20065027
A9: 6 | B9: =ROUND(D$2*(1+D$2)^$A9/((1+D$2)^$A9-1),10) -> 0.16729899 | E9: =ROUND(G$2*(1+G$2)^$A9/((1+G$2)^$A9-1),10) -> 0.16729899
A10: 7 | B10: =ROUND(D$2*(1+D$2)^$A10/((1+D$2)^$A10-1),10) -> 0.14347667 | E10: =ROUND(G$2*(1+G$2)^$A10/((1+G$2)^$A10-1),10) -> 0.14347667
A11: 8 | B11: =ROUND(D$2*(1+D$2)^$A11/((1+D$2)^$A11-1),10) -> 0.12560996 | E11: =ROUND(G$2*(1+G$2)^$A11/((1+G$2)^$A11-1),10) -> 0.12560996
A12: 9 | B12: =ROUND(D$2*(1+D$2)^$A12/((1+D$2)^$A12-1),10) -> 0.11171365 | E12: =ROUND(G$2*(1+G$2)^$A12/((1+G$2)^$A12-1),10) -> 0.11171365
A13: 10 | B13: =ROUND(D$2*(1+D$2)^$A13/((1+D$2)^$A13-1),10) -> 0.10059662 | E13: =ROUND(G$2*(1+G$2)^$A13/((1+G$2)^$A13-1),10) -> 0.10059662
A14: 11 | B14: =ROUND(D$2*(1+D$2)^$A14/((1+D$2)^$A14-1),10) -> 0.091500884 | E14: =ROUND(G$2*(1+G$2)^$A14/((1+G$2)^$A14-1),10) -> 0.091500884
A15: 12 | B15: =ROUND(D$2*(1+D$2)^$A15/((1+D$2)^$A15-1),10) -> 0.083921122 | E15: =ROUND(G$2*(1+G$2)^$A15/((1+G$2)^$A15-1),10) -> 0.083921122
... A363: 360 | B363: =ROUND(D$2*(1+D$2)^$A363/((1+D$2)^$A363-1),10) -> 0.0033558606 | E363: =ROUND(G$2*(1+G$2)^$A363/((1+G$2)^$A363-1),10) -> 0.0033558606
