Workbook
Name \a: #REF!
Name \b: #REF!
Name \c: #REF!
Name \d: #REF!
Name \e: #REF!
Name Print_Area_MI: #REF!

Sheet 様式
H1: 療養費・一部負担金払戻金（共済） | Q1: 請求書
H3: 家族療養費・同附加金（共済）
H5: 高額療養費（共済） | T5: =+IF(T7="","",J14&" "&G12)
H7: 療養補助金（互助） | T7: =+IFERROR(VLOOKUP(メンテ!B43,メンテ!A79:B80,2,0),"")
A9: =ROW()-8 -> 1 | B9: 記号番号 | H9: 公立岡山
A10: =ROW()-8 -> 2 | B10: 組合員氏名
A11: =ROW()-8 -> 3 | B11: 療養者氏名
A12: =ROW()-8 -> 4 | B12: 療養者 生年月日 | G12: =IF(J13="","",メンテ!C34)
A13: =ROW()-8 -> 5 | B13: 療養期間 | P13: ～
A14: =ROW()-8 -> 6 | B14: 療養日時点の住民票がある市町村
A15: =ROW()-8 -> 7 | B15: 入院／通院
A16: =ROW()-8 -> 8 | B16: 医療機関名
A17: =ROW()-8 -> 9 | B17: 医療機関住所
A18: =ROW()-8 -> 10 | B18: 請求する理由
A19: =ROW()-8 -> 11 | B19: =+IF(J18=メンテ!A63,"購入した装具の種類","※ 購入した装具の種類") -> ※ 購入した装具の種類
A20: =ROW()-8 -> 12 | B20: 療養に要した費用 | G20: =IFERROR("上限："&VLOOKUP(J19,メンテ!A50:B58,2,0),"")
A21: =ROW()-8 -> 13 | B21: ※ 療養費 家族療養費 | G21: =IF(J18=メンテ!A66,"",IF(J20="","",メンテ!D41)) | K21: 円 | L21: =+A21+1 -> 14 | M21: ※ 一部負担金払戻金 家族療養費附加金 | R21: =IF(COUNTIF(メンテ２!B3:B30,様式!J14)<1,"",IF(J18=メンテ!A66,"",IF(J20="","",メンテ!D45))) | W21: 円
A22: =+L21+1 -> 15 | B22: ※ 療養補助金 | G22: =IF(COUNTIF(メンテ２!B3:B30,様式!J14)<1,"",IF(J18=メンテ!A66,"",IF(J20="","",IF(メンテ!A76=1,"",メンテ!D47)))) | K22: 円 | L22: =+A22+1 -> 16 | M22: ※ 高額療養費 | W22: 円
A23: =+L22+1 -> 17 | B23: 公務災害・通勤災害 非該当 の確認 公務災害・通勤災害に 該当 する場合、療養費等の支給対象外となります。 | L23: =+IF(P23=メンテ!A71,"※該当の場合は請求対象外です。","")
A24: =+A23+1 -> 18 | B24: 傷病名
A25: =+A24+1 -> 19 | B25: 傷病の原因
A26: =+A25+1 -> 20 | B26: 初診年月日 | L26: =+A26+1 -> 21 | M26: 所属所コード
A28: =+L26+1 -> 22 | B28: 所属所名 | L28: =+A28+1 -> 23 | M28: 所属所住所
A30: 上記のとおり請求します。 | N30: 所属所受付印 | S30: 支部（互助組合）受付印
A31: 公立学校共済組合岡山支部長 殿
A32: （一財）岡山県教育職員互助組合理事長 殿
B33: 令和 | D33: 年 | F33: 月 | H33: 日
A34: 組合員（会員）住所
A36: 組合員（会員）氏名
A38: ※欄は記入しないこと | N38: ※区分 | P38: 保険医療機関 ・ 保険薬局 ・ その他

Sheet メンテ
A1: 受診年月日 | B1: =+様式!J13 -> 0
B2: 年 | C2: 月
B3: =+YEAR(B1) -> 1900 | C3: =+MONTH(B1) -> 1
A4: 受診年月日の4/1 | B4: 年
B5: =+IF(AND(C3>=4,C3<=12),B3,B3-1) -> 1899
B6: =+DATE(B5,4,1) -> 693688
A7: 生年月日 | B7: =+様式!J12 -> 0
A8: 年齢 | B8: =IF(B6-B7<0,0,DATEDIF(B7,B6,"y")) -> 1899
A9: 学年 | B9: =+VLOOKUP(B8,B15:C28,2) -> その他
A10: ７０歳になる年月日 | B10: =DATE(YEAR(B7)+70,MONTH(B7),DAY(B7)) -> 25568
A11: ７０歳になる年月日の翌月１日 | B11: =+DATE(YEAR(B10),MONTH(B10)+1,1) -> 25569
B14: 4/1時点年齢 | C14: 学年
B15: 0 | C15: 未就学
B16: 6 | C16: 小学１年
B17: 7 | C17: 小学２年
B18: 8 | C18: 小学３年
B19: 9 | C19: 小学４年
B20: 10 | C20: 小学５年
B21: 11 | C21: 小学６年
B22: 12 | C22: 中学１年
B23: 13 | C23: 中学２年
B24: 14 | C24: 中学３年
B25: 15 | C25: 高校１年
B26: 16 | C26: 高校２年
... B28: 18 | C28: その他
C30: 入院
C31: 通院
A33: 市町村 | B33: 年齢 | C33: 学年
A34: =+様式!J14 -> 0 | B34: =+B8 -> 1899 | C34: =+B9 -> その他 | D34: =+C34&様式!J15 -> その他
A35: =+MATCH(A34,メンテ２!B3:B29,0) -> #N/A | D35: =IFERROR(MATCH(D34,メンテ２!C2:AB2,0),"")
D37: =+様式!J20 -> 0 | F37: 療養に要した費用
D39: =+IF(D37>I39,I39,D37) -> 0 | F39: 計算のベース | H39: 上限額 | I39: =IF(様式!J18=メンテ!A63,VLOOKUP(様式!J19,メンテ!A50:B59,2,0),100000000) -> 100000000
B41: =IF(B9=C15,0.8,IF(様式!J13<メンテ!B11,0.7,0.8)) -> 0.7 | D41: =+ROUNDDOWN(D39*B41,0) -> 0 | F41: 療養費
B42: =+IF(B41=0.8,0.2,0.3) -> 0.3 | D42: =+D39*B42 -> 0 | F42: 自己負担額（こども助成前）
A43: 負担割合 | B43: =IFERROR(INDEX(メンテ２!C3:AB29,メンテ!A35,メンテ!D35),IF(メンテ!C34=メンテ!C15,0.2,IF(メンテ!B11<様式!J13,0.2,0.3))) -> 0.3 | D43: =+D39*B43 -> 0 | F43: 自己負担額（こども助成後）
D45: =IF(ROUNDDOWN(D43-25000,-2)>0,ROUNDDOWN(D43-25000,-2),0) -> 0 | F45: 療養費付加金（自己負担額-25,000円)(100円未満切り捨て）
D47: =IF(IF(D45<0,ROUNDDOWN(D43-3000,-2),ROUNDDOWN(D43-D45-3000,-2))>0,IF(D45<0,ROUNDDOWN(D43-3000,-2),ROUNDDOWN(D43-D45-3000,-2)),0) -> 0 | F47: 療養費補助金（自己負担額-療養費附加金-3000円）(100円未満切り捨て）
A49: 装具の上限額
A50: めがね（弱視用） | B50: =38200*1.06 -> 40492 | D50: =+IF(様式!$J$18=メンテ!$A$63,メンテ!A50,"")
A51: 弾性ストッキング1着（片足用以外） | B51: 28000 | D51: =+IF(様式!$J$18=メンテ!$A$63,メンテ!A51,"")
A52: 弾性ストッキング1着（片足用） | B52: 25000 | D52: =+IF(様式!$J$18=メンテ!$A$63,メンテ!A52,"")
A53: 弾性スリーブ1着 | B53: 16000 | D53: =+IF(様式!$J$18=メンテ!$A$63,メンテ!A53,"")
A54: 弾性グローブ1着 | B54: 15000 | D54: =+IF(様式!$J$18=メンテ!$A$63,メンテ!A54,"")
A55: 弾性ストッキング2着（片足用以外） | B55: =+B51*2 -> 56000 | D55: =+IF(様式!$J$18=メンテ!$A$63,メンテ!A55,"")
A56: 弾性ストッキング2着（片足用） | B56: =+B52*2 -> 50000 | D56: =+IF(様式!$J$18=メンテ!$A$63,メンテ!A56,"")
A57: 弾性スリーブ2着 | B57: =+B53*2 -> 32000 | D57: =+IF(様式!$J$18=メンテ!$A$63,メンテ!A57,"")
A58: 弾性グローブ2着 | B58: =+B54*2 -> 30000 | D58: =+IF(様式!$J$18=メンテ!$A$63,メンテ!A58,"")
A59: その他 | B59: 10000000 | D59: =+IF(様式!$J$18=メンテ!$A$63,メンテ!A59,"")
A62: 請求する理由
A63: 治療用装具購入のため
A64: 全額負担（10割）したため
A65: 柔道整復師・あん摩・マッサージ・はり・きゅうの施術を受けたため
A66: その他（生血の使用、基準看護以外の看護 等）
A71: 該当
A72: 非該当
A74: 組合員番号をＲかｒの場合には１を表示
A75: ※１の場合、療養費補助金はゼロ表示になる
A76: =IFERROR(FIND("R",様式!J9,1),IFERROR(FIND("r",様式!J9,1),0)) -> 0
A79: 0 | B79: 自己負担なし
A80: 0.1 | B80: 自己負担１割
A82: 療養期間の計算
A83: 療養日数
A84: =+様式!Q13-様式!J13 -> 0
A85: 岡山市津山市の改定日
A86: 45292
A87: 岡山市と玉野市の改定日
A88: 45200
A89: 倉敷市と早島町の改定日
A90: 45108
A91: 真庭市の改定日
A92: 45078
A93: 総社市の改定日
A94: 45017
A95: 赤磐市の改定日
A96: 45474
A97: 笠岡市の改定日
A98: 46113

Sheet メンテ２
A1: 自己負担率 | C1: 1 | D1: 2 | E1: 3 | F1: 4 | G1: 5 | H1: 6 | I1: 7 | J1: 8 | K1: 9 | L1: 10 | M1: 11 | N1: 12 | O1: 13 | P1: 14 | Q1: 15 | R1: 16 | S1: 17 | T1: 18 | U1: 19 | V1: 20 | W1: 21 | X1: 22 | Y1: 23 | Z1: 24 | AA1: 25 | AB1: 26
C2: =+メンテ!$C$15&メンテ!$C$30 -> 未就学入院 | D2: =+メンテ!$C$16&メンテ!$C$30 -> 小学１年入院 | E2: =+メンテ!$C$17&メンテ!$C$30 -> 小学２年入院 | F2: =+メンテ!$C$18&メンテ!$C$30 -> 小学３年入院 | G2: =+メンテ!$C$19&メンテ!$C$30 -> 小学４年入院 | H2: =+メンテ!$C$20&メンテ!$C$30 -> 小学５年入院 | I2: =+メンテ!$C$21&メンテ!$C$30 -> 小学６年入院 | J2: =+メンテ!$C$22&メンテ!$C$30 -> 中学１年入院 | K2: =+メンテ!$C$23&メンテ!$C$30 -> 中学２年入院 | L2: =+メンテ!$C$24&メンテ!$C$30 -> 中学３年入院 | M2: =+メンテ!$C$25&メンテ!$C$30 -> 高校１年入院 | N2: =+メンテ!$C$26&メンテ!$C$30 -> 高校２年入院 | O2: =+メンテ!$C$27&メンテ!$C$30 -> 高校３年入院 | P2: =+メンテ!$C$15&メンテ!$C$31 -> 未就学通院 | Q2: =+メンテ!$C$16&メンテ!$C$31 -> 小学１年通院 | R2: =+メンテ!$C$17&メンテ!$C$31 -> 小学２年通院 | S2: =+メンテ!$C$18&メンテ!$C$31 -> 小学３年通院 | T2: =+メンテ!$C$19&メンテ!$C$31 -> 小学４年通院 | U2: =+メンテ!$C$20&メンテ!$C$31 -> 小学５年通院 | V2: =+メンテ!$C$21&メンテ!$C$31 -> 小学６年通院 | W2: =+メンテ!$C$22&メンテ!$C$31 -> 中学１年通院 | X2: =+メンテ!$C$23&メンテ!$C$31 -> 中学２年通院 | Y2: =+メンテ!$C$24&メンテ!$C$31 -> 中学３年通院 | Z2: =+メンテ!$C$25&メンテ!$C$31 -> 高校１年通院 | AA2: =+メンテ!$C$26&メンテ!$C$31 -> 高校２年通院 | AB2: =+メンテ!$C$27&メンテ!$C$31 -> 高校３年通院
B3: 岡山市 | C3: 0 | D3: 0 | E3: 0 | F3: 0 | G3: 0 | H3: 0 | I3: 0 | J3: 0 | K3: 0 | L3: 0 | M3: =+IF(様式!J13<メンテ!A88,0.3,0) -> 0.3 | N3: =+IF(様式!J13<メンテ!A88,0.3,0) -> 0.3 | O3: =+IF(様式!J13<メンテ!A88,0.3,0) -> 0.3 | P3: 0 | Q3: =+IF(様式!J13<メンテ!A86,0.1,0) -> 0.1 | R3: =+IF(様式!J13<メンテ!A86,0.1,0) -> 0.1 | S3: =+IF(様式!J13<メンテ!A86,0.1,0) -> 0.1 | T3: =+IF(様式!J13<メンテ!A86,0.1,0) -> 0.1 | U3: =+IF(様式!J13<メンテ!A86,0.1,0) -> 0.1 | V3: =+IF(様式!J13<メンテ!A86,0.1,0) -> 0.1 | W3: =+IF(様式!J13<メンテ!A86,0.3,0.1) -> 0.3 | X3: =+IF(様式!J13<メンテ!A86,0.3,0.1) -> 0.3 | Y3: =+IF(様式!J13<メンテ!A86,0.3,0.1) -> 0.3 | Z3: =+IF(様式!J13<メンテ!A86,0.3,0.1) -> 0.3 | AA3: =+IF(様式!J13<メンテ!A86,0.3,0.1) -> 0.3 | AB3: =+IF(様式!J13<メンテ!A86,0.3,0.1) -> 0.3 | AE3: R8.4.1更新
B4: 倉敷市 | C4: 0 | D4: 0 | E4: 0 | F4: 0 | G4: 0 | H4: 0 | I4: 0 | J4: 0 | K4: 0 | L4: 0 | M4: 0.3 | N4: 0.3 | O4: 0.3 | P4: 0 | Q4: 0 | R4: 0 | S4: 0 | T4: 0 | U4: 0 | V4: 0 | W4: =+IF(様式!$J$13<メンテ!$A$90,0.3,0) -> 0.3 | X4: =+IF(様式!$J$13<メンテ!$A$90,0.3,0) -> 0.3 | Y4: =+IF(様式!$J$13<メンテ!$A$90,0.3,0) -> 0.3 | Z4: 0.3 | AA4: 0.3 | AB4: 0.3 | AE4: R6.7.1更新
B5: 津山市 | C5: 0 | D5: 0 | E5: 0 | F5: 0 | G5: 0 | H5: 0 | I5: 0 | J5: 0 | K5: 0 | L5: 0 | M5: =+IF(様式!J13<メンテ!A86,0.3,0) -> 0.3 | N5: =+IF(様式!J13<メンテ!A86,0.3,0) -> 0.3 | O5: =+IF(様式!J13<メンテ!A86,0.3,0) -> 0.3 | P5: 0 | Q5: 0 | R5: 0 | S5: 0 | T5: 0 | U5: 0 | V5: 0 | W5: 0 | X5: 0 | Y5: 0 | Z5: =+IF(様式!J13<メンテ!A86,0.3,0) -> 0.3 | AA5: =+IF(様式!J13<メンテ!A86,0.3,0) -> 0.3 | AB5: =+IF(様式!J13<メンテ!A86,0.3,0) -> 0.3 | AE5: R6.1.1更新
B6: 玉野市 | C6: 0 | D6: 0 | E6: 0 | F6: 0 | G6: 0 | H6: 0 | I6: 0 | J6: 0 | K6: 0 | L6: 0 | M6: =+IF(様式!$J$13<メンテ!$A$88,0.3,0) -> 0.3 | N6: =+IF(様式!$J$13<メンテ!$A$88,0.3,0) -> 0.3 | O6: =+IF(様式!$J$13<メンテ!$A$88,0.3,0) -> 0.3 | P6: 0 | Q6: 0 | R6: 0 | S6: 0 | T6: 0 | U6: 0 | V6: 0 | W6: 0 | X6: 0 | Y6: 0 | Z6: =+IF(様式!$J$13<メンテ!$A$88,0.3,0) -> 0.3 | AA6: =+IF(様式!$J$13<メンテ!$A$88,0.3,0) -> 0.3 | AB6: =+IF(様式!$J$13<メンテ!$A$88,0.3,0) -> 0.3 | AE6: R5.10.1更新
B7: 笠岡市 | C7: 0 | D7: 0 | E7: 0 | F7: 0 | G7: 0 | H7: 0 | I7: 0 | J7: 0 | K7: 0 | L7: 0 | M7: 0 | N7: 0 | O7: 0 | P7: 0 | Q7: 0 | R7: 0 | S7: 0 | T7: 0 | U7: 0 | V7: 0 | W7: 0 | X7: 0 | Y7: 0 | Z7: 0 | AA7: 0 | AB7: 0 | AE7: R5.7.1更新
B8: 井原市 | C8: 0 | D8: 0 | E8: 0 | F8: 0 | G8: 0 | H8: 0 | I8: 0 | J8: 0 | K8: 0 | L8: 0 | M8: 0 | N8: 0 | O8: 0 | P8: 0 | Q8: 0 | R8: 0 | S8: 0 | T8: 0 | U8: 0 | V8: 0 | W8: 0 | X8: 0 | Y8: 0 | Z8: 0 | AA8: 0 | AB8: 0 | AE8: R5.6.1更新
B9: 総社市 | C9: 0 | D9: 0 | E9: 0 | F9: 0 | G9: 0 | H9: 0 | I9: 0 | J9: =+IF(様式!$J$13<メンテ!$A$94,0.1,0) -> 0.1 | K9: =+IF(様式!$J$13<メンテ!$A$94,0.1,0) -> 0.1 | L9: =+IF(様式!$J$13<メンテ!$A$94,0.1,0) -> 0.1 | M9: 0.3 | N9: 0.3 | O9: 0.3 | P9: 0 | Q9: 0 | R9: 0 | S9: 0 | T9: 0 | U9: 0 | V9: 0 | W9: =+IF(様式!$J$13<メンテ!$A$94,0.1,0) -> 0.1 | X9: =+IF(様式!$J$13<メンテ!$A$94,0.1,0) -> 0.1 | Y9: =+IF(様式!$J$13<メンテ!$A$94,0.1,0) -> 0.1 | Z9: 0.3 | AA9: 0.3 | AB9: 0.3 | AE9: R5.4.1更新
B10: 高梁市 | C10: 0 | D10: 0 | E10: 0 | F10: 0 | G10: 0 | H10: 0 | I10: 0 | J10: 0 | K10: 0 | L10: 0 | M10: 0 | N10: 0 | O10: 0 | P10: 0 | Q10: 0 | R10: 0 | S10: 0 | T10: 0 | U10: 0 | V10: 0 | W10: 0 | X10: 0 | Y10: 0 | Z10: 0 | AA10: 0 | AB10: 0
B11: 新見市 | C11: 0 | D11: 0 | E11: 0 | F11: 0 | G11: 0 | H11: 0 | I11: 0 | J11: 0 | K11: 0 | L11: 0 | M11: 0 | N11: 0 | O11: 0 | P11: 0 | Q11: 0 | R11: 0 | S11: 0 | T11: 0 | U11: 0 | V11: 0 | W11: 0 | X11: 0 | Y11: 0 | Z11: 0 | AA11: 0 | AB11: 0
B12: 備前市 | C12: 0 | D12: 0 | E12: 0 | F12: 0 | G12: 0 | H12: 0 | I12: 0 | J12: 0 | K12: 0 | L12: 0 | M12: 0 | N12: 0 | O12: 0 | P12: 0 | Q12: 0 | R12: 0 | S12: 0 | T12: 0 | U12: 0 | V12: 0 | W12: 0 | X12: 0 | Y12: 0 | Z12: 0 | AA12: 0 | AB12: 0
B13: 瀬戸内市 | C13: 0 | D13: 0 | E13: 0 | F13: 0 | G13: 0 | H13: 0 | I13: 0 | J13: 0 | K13: 0 | L13: 0 | M13: 0 | N13: 0 | O13: 0 | P13: 0 | Q13: 0 | R13: 0 | S13: 0 | T13: 0 | U13: 0 | V13: 0 | W13: 0 | X13: 0 | Y13: 0 | Z13: 0 | AA13: 0 | AB13: 0
B14: 赤磐市 | C14: 0 | D14: 0 | E14: 0 | F14: 0 | G14: 0 | H14: 0 | I14: 0 | J14: 0 | K14: 0 | L14: 0 | M14: =+IF(様式!$J$13<メンテ!$A$96,0.1,0) -> 0.1 | N14: =+IF(様式!$J$13<メンテ!$A$96,0.1,0) -> 0.1 | O14: =+IF(様式!$J$13<メンテ!$A$96,0.1,0) -> 0.1 | P14: 0 | Q14: 0 | R14: 0 | S14: 0 | T14: 0 | U14: 0 | V14: 0 | W14: 0 | X14: 0 | Y14: 0 | Z14: =+IF(様式!$J$13<メンテ!$A$96,0.1,0) -> 0.1 | AA14: =+IF(様式!$J$13<メンテ!$A$96,0.1,0) -> 0.1 | AB14: =+IF(様式!$J$13<メンテ!$A$96,0.1,0) -> 0.1
B15: 真庭市 | C15: 0 | D15: 0 | E15: 0 | F15: 0 | G15: 0 | H15: 0 | I15: 0 | J15: 0 | K15: 0 | L15: 0 | M15: =+IF(様式!$J$13<メンテ!$A$92,0.3,0) -> 0.3 | N15: =+IF(様式!$J$13<メンテ!$A$92,0.3,0) -> 0.3 | O15: =+IF(様式!$J$13<メンテ!$A$92,0.3,0) -> 0.3 | P15: 0 | Q15: 0 | R15: 0 | S15: 0 | T15: 0 | U15: 0 | V15: 0 | W15: 0 | X15: 0 | Y15: 0 | Z15: =+IF(様式!$J$13<メンテ!$A$92,0.3,0) -> 0.3 | AA15: =+IF(様式!$J$13<メンテ!$A$92,0.3,0) -> 0.3 | AB15: =+IF(様式!$J$13<メンテ!$A$92,0.3,0) -> 0.3
B16: 美作市 | C16: 0 | D16: 0 | E16: 0 | F16: 0 | G16: 0 | H16: 0 | I16: 0 | J16: 0 | K16: 0 | L16: 0 | M16: 0 | N16: 0 | O16: 0 | P16: 0 | Q16: 0 | R16: 0 | S16: 0 | T16: 0 | U16: 0 | V16: 0 | W16: 0 | X16: 0 | Y16: 0 | Z16: 0 | AA16: 0 | AB16: 0
B17: 浅口市 | C17: 0 | D17: 0 | E17: 0 | F17: 0 | G17: 0 | H17: 0 | I17: 0 | J17: 0 | K17: 0 | L17: 0 | M17: 0 | N17: 0 | O17: 0 | P17: 0 | Q17: 0 | R17: 0 | S17: 0 | T17: 0 | U17: 0 | V17: 0 | W17: 0 | X17: 0 | Y17: 0 | Z17: 0 | AA17: 0 | AB17: 0
B18: 和気町 | C18: 0 | D18: 0 | E18: 0 | F18: 0 | G18: 0 | H18: 0 | I18: 0 | J18: 0 | K18: 0 | L18: 0 | M18: 0 | N18: 0 | O18: 0 | P18: 0 | Q18: 0 | R18: 0 | S18: 0 | T18: 0 | U18: 0 | V18: 0 | W18: 0 | X18: 0 | Y18: 0 | Z18: 0 | AA18: 0 | AB18: 0
B19: 早島町 | C19: 0 | D19: 0 | E19: 0 | F19: 0 | G19: 0 | H19: 0 | I19: 0 | J19: 0 | K19: 0 | L19: 0 | M19: =+IF(様式!$J$13<メンテ!$A$90,0.3,0) -> 0.3 | N19: =+IF(様式!$J$13<メンテ!$A$90,0.3,0) -> 0.3 | O19: =+IF(様式!$J$13<メンテ!$A$90,0.3,0) -> 0.3 | P19: 0 | Q19: 0 | R19: 0 | S19: 0 | T19: 0 | U19: 0 | V19: 0 | W19: 0 | X19: 0 | Y19: 0 | Z19: =+IF(様式!$J$13<メンテ!$A$90,0.3,0) -> 0.3 | AA19: =+IF(様式!$J$13<メンテ!$A$90,0.3,0) -> 0.3 | AB19: =+IF(様式!$J$13<メンテ!$A$90,0.3,0) -> 0.3
B20: 里庄町 | C20: 0 | D20: 0 | E20: 0 | F20: 0 | G20: 0 | H20: 0 | I20: 0 | J20: 0 | K20: 0 | L20: 0 | M20: 0 | N20: 0 | O20: 0 | P20: 0 | Q20: 0 | R20: 0 | S20: 0 | T20: 0 | U20: 0 | V20: 0 | W20: 0 | X20: 0 | Y20: 0 | Z20: 0 | AA20: 0 | AB20: 0
B21: 矢掛町 | C21: 0 | D21: 0 | E21: 0 | F21: 0 | G21: 0 | H21: 0 | I21: 0 | J21: 0 | K21: 0 | L21: 0 | M21: 0 | N21: 0 | O21: 0 | P21: 0 | Q21: 0 | R21: 0 | S21: 0 | T21: 0 | U21: 0 | V21: 0 | W21: 0 | X21: 0 | Y21: 0 | Z21: 0 | AA21: 0 | AB21: 0
B22: 新庄村 | C22: 0 | D22: 0 | E22: 0 | F22: 0 | G22: 0 | H22: 0 | I22: 0 | J22: 0 | K22: 0 | L22: 0 | M22: 0 | N22: 0 | O22: 0 | P22: 0 | Q22: 0 | R22: 0 | S22: 0 | T22: 0 | U22: 0 | V22: 0 | W22: 0 | X22: 0 | Y22: 0 | Z22: 0 | AA22: 0 | AB22: 0
B23: 鏡野町 | C23: 0 | D23: 0 | E23: 0 | F23: 0 | G23: 0 | H23: 0 | I23: 0 | J23: 0 | K23: 0 | L23: 0 | M23: 0 | N23: 0 | O23: 0 | P23: 0 | Q23: 0 | R23: 0 | S23: 0 | T23: 0 | U23: 0 | V23: 0 | W23: 0 | X23: 0 | Y23: 0 | Z23: 0 | AA23: 0 | AB23: 0
B24: 勝央町 | C24: 0 | D24: 0 | E24: 0 | F24: 0 | G24: 0 | H24: 0 | I24: 0 | J24: 0 | K24: 0 | L24: 0 | M24: 0 | N24: 0 | O24: 0 | P24: 0 | Q24: 0 | R24: 0 | S24: 0 | T24: 0 | U24: 0 | V24: 0 | W24: 0 | X24: 0 | Y24: 0 | Z24: 0 | AA24: 0 | AB24: 0
B25: 奈義町 | C25: 0 | D25: 0 | E25: 0 | F25: 0 | G25: 0 | H25: 0 | I25: 0 | J25: 0 | K25: 0 | L25: 0 | M25: 0 | N25: 0 | O25: 0 | P25: 0 | Q25: 0 | R25: 0 | S25: 0 | T25: 0 | U25: 0 | V25: 0 | W25: 0 | X25: 0 | Y25: 0 | Z25: 0 | AA25: 0 | AB25: 0
B26: 西粟倉村 | C26: 0 | D26: 0 | E26: 0 | F26: 0 | G26: 0 | H26: 0 | I26: 0 | J26: 0 | K26: 0 | L26: 0 | M26: 0 | N26: 0 | O26: 0 | P26: 0 | Q26: 0 | R26: 0 | S26: 0 | T26: 0 | U26: 0 | V26: 0 | W26: 0 | X26: 0 | Y26: 0 | Z26: 0 | AA26: 0 | AB26: 0
B27: 久米南町 | C27: 0 | D27: 0 | E27: 0 | F27: 0 | G27: 0 | H27: 0 | I27: 0 | J27: 0 | K27: 0 | L27: 0 | M27: 0 | N27: 0 | O27: 0 | P27: 0 | Q27: 0 | R27: 0 | S27: 0 | T27: 0 | U27: 0 | V27: 0 | W27: 0 | X27: 0 | Y27: 0 | Z27: 0 | AA27: 0 | AB27: 0
B28: 美咲町 | C28: 0 | D28: 0 | E28: 0 | F28: 0 | G28: 0 | H28: 0 | I28: 0 | J28: 0 | K28: 0 | L28: 0 | M28: 0 | N28: 0 | O28: 0 | P28: 0 | Q28: 0 | R28: 0 | S28: 0 | T28: 0 | U28: 0 | V28: 0 | W28: 0 | X28: 0 | Y28: 0 | Z28: 0 | AA28: 0 | AB28: 0
B29: 吉備中央町 | C29: 0 | D29: 0 | E29: 0 | F29: 0 | G29: 0 | H29: 0 | I29: 0 | J29: 0 | K29: 0 | L29: 0 | M29: 0 | N29: 0 | O29: 0 | P29: 0 | Q29: 0 | R29: 0 | S29: 0 | T29: 0 | U29: 0 | V29: 0 | W29: 0 | X29: 0 | Y29: 0 | Z29: 0 | AA29: 0 | AB29: 0
B30: 他県
