Workbook

Sheet 繰下げ試算シート
B2: 老齢基礎年金・老齢厚生年金 の 繰下げ試算シート
C4: ー 繰下げ試算シートの注意点 ー
C5: 在職支給停止を考慮した試算結果ではありません。試算結果は年金の決定額（見込）です。 在職中の方は、在職支給停止（年金が一部または全額支給停止）に該当し、実際の支給額が試算結果よりも少額になる可能性があります。 在職支給停止に該当した部分は、繰下げによる増額の対象外です。退職後に改めて支給されることもありませんので、ご注意ください。
B7: 誕生月の下旬に届いた「ねんきん定期便」の「老齢年金の種類と見込額（１年間の受取見込額）」の「65歳～」を確認して入力してください。
B9: 受給開始年齢 | E9: 65歳～ | I9: 繰下げ試算結果はこちらです。
B10: （１）国民年金 | E10: 老齢基礎年金 | J10: 老齢基礎年金 | M10: 老齢厚生年金 | P10: 経過的職域加算額 | S10: 合計
G11: 円 | I11: 66歳 | J11: =ROUND(E11*(1+0.007*12),0) -> 0 | L11: 円 | M11: =ROUND(SUM(F13:F16,F19:F20)*(1+0.007*12),0) -> 0 | O11: 円 | P11: =ROUND((F17+F21)*(1+0.007*12),0) -> 0 | R11: 円 | S11: =SUM(J11,M11,P11) -> 0 | U11: 円
B12: （２）厚生年金保険 | E12: 老齢厚生年金
C13: 一般厚生年金期間 | E13: （報酬比例部分） | G13: 円 | I13: 67歳 | J13: =ROUND(E11*(1+0.007*24),0) -> 0 | L13: 円 | M13: =ROUND(SUM(F13:F16,F19:F20)*(1+0.007*24),0) -> 0 | O13: 円 | P13: =ROUND((F17+F21)*(1+0.007*24),0) -> 0 | R13: 円 | S13: =SUM(J13,M13,P13) -> 0 | U13: 円
E14: （経過的加算部分） | G14: 円
C15: 公務員厚生年金期間 （国家公務員・地方公務員） | E15: （報酬比例部分） | G15: 円 | I15: 68歳 | J15: =ROUND(E11*(1+0.007*36),0) -> 0 | L15: 円 | M15: =ROUND(SUM(F13:F16,F19:F20)*(1+0.007*36),0) -> 0 | O15: 円 | P15: =ROUND((F17+F21)*(1+0.007*36),0) -> 0 | R15: 円 | S15: =SUM(J15,M15,P15) -> 0 | U15: 円
E16: （経過的加算部分） | G16: 円
E17: （経過的職域加算額 （共済年金）） ※一般組合員は、全額支給停止になります。 | G17: 円 | I17: 69歳 | J17: =ROUND(E11*(1+0.007*48),0) -> 0 | L17: 円 | M17: =ROUND(SUM(F13:F16,F19:F20)*(1+0.007*48),0) -> 0 | O17: 円 | P17: =ROUND((F17+F21)*(1+0.007*48),0) -> 0 | R17: 円 | S17: =SUM(J17,M17,P17) -> 0 | U17: 円
C19: 私学共済厚生年金期間 （私立学校の教職員） | E19: （報酬比例部分） | G19: 円 | I19: 70歳 | J19: =ROUND(E11*(1+0.007*60),0) -> 0 | L19: 円 | M19: =ROUND(SUM(F13:F16,F19:F20)*(1+0.007*60),0) -> 0 | O19: 円 | P19: =ROUND((F17+F21)*(1+0.007*60),0) -> 0 | R19: 円 | S19: =SUM(J19,M19,P19) -> 0 | U19: 円
E20: （経過的加算部分） | G20: 円
E21: （経過的職域加算額 （共済年金）） | G21: 円 | I21: 75歳 | J21: =ROUND(E11*(1+0.007*120),0) -> 0 | L21: 円 | M21: =ROUND(SUM(F13:F16,F19:F20)*(1+0.007*120),0) -> 0 | O21: 円 | P21: =ROUND((F17+F21)*(1+0.007*120),0) -> 0 | R21: 円 | S21: =SUM(J21,M21,P21) -> 0 | U21: 円
B22: （１）と（２）の合計 | E22: =SUM(E11,F13:F21) -> 0 | G22: 円
B24: ※試算には、加給年金額は含まれていません。（該当する場合は、別途加算（配偶者：約39万/年・子：約22万/年）されます。）
B26: この結果は、作成日時点における法令等に基づくものであって、将来にわたって保障されるものではありません。 本シートでの結果は参考値であり、実際の支給額と異なる場合があります。
B27: ー 繰下げを行う際の注意点 ー
C28: ① 繰下げの申し出は、66歳の誕生日以後、原則75歳（昭和27年4月1日以前に生まれた方は70歳）に達するまで、１カ月単位で行うことができます。 申し出た月の翌月分から繰り下げた月数１カ月当たり0.7％を増額した年金を受けることが出来ます。 ただし、65歳から繰下げの申出をするまでの間の年金の支給はありません。（加給年金額も支給されません。） ② 他の実施機関の老齢厚生年金を受給できる場合は、同時に繰り下げる必要があります。 ③ 老齢基礎年金は、同時に繰り下げる必要はありません。異なる時期に請求する場合は、それぞれに申出が必要です。 ④ 他の公的年金を受給している場合は、繰下げの申出ができません（老齢基礎年金、障害基礎年金は除きます）。
B33: 【 一般組合員として公立学校共済組合岡山支部に在職中の方が繰下げ請求を行う場合は、福利課年金班（086-226-7605）までご連絡ください。 】

Sheet 受給開始年齢別の年金受給累計額（参考）
A2: 受給開始年齢別の年金受給累計額（参考）
C3: ※ 加給年金額や在職支給停止は考慮していませんので、ご注意ください。
O5: （単位：円）
C6: 65歳 | E6: 66歳 | G6: 67歳 | I6: 68歳 | K6: 69歳 | M6: 70歳 | O6: 75歳
A7: 65 | B7: =繰下げ試算シート!$E$22 -> 0 | C7: =B7 -> 0
A8: 66 | B8: =繰下げ試算シート!$E$22 -> 0 | C8: =C7+B8 -> 0 | D8: =繰下げ試算シート!$S$11 -> 0 | E8: =D8 -> 0
A9: 67 | B9: =繰下げ試算シート!$E$22 -> 0 | C9: =C8+B9 -> 0 | D9: =繰下げ試算シート!$S$11 -> 0 | E9: =E8+D9 -> 0 | F9: =繰下げ試算シート!$S$13 -> 0 | G9: =F9 -> 0
A10: 68 | B10: =繰下げ試算シート!$E$22 -> 0 | C10: =C9+B10 -> 0 | D10: =繰下げ試算シート!$S$11 -> 0 | E10: =E9+D10 -> 0 | F10: =繰下げ試算シート!$S$13 -> 0 | G10: =F10+G9 -> 0 | H10: =繰下げ試算シート!$S$15 -> 0 | I10: =H10 -> 0
A11: 69 | B11: =繰下げ試算シート!$E$22 -> 0 | C11: =C10+B11 -> 0 | D11: =繰下げ試算シート!$S$11 -> 0 | E11: =E10+D11 -> 0 | F11: =繰下げ試算シート!$S$13 -> 0 | G11: =F11+G10 -> 0 | H11: =繰下げ試算シート!$S$15 -> 0 | I11: =H11+I10 -> 0 | J11: =繰下げ試算シート!$S$17 -> 0 | K11: =J11 -> 0
A12: 70 | B12: =繰下げ試算シート!$E$22 -> 0 | C12: =C11+B12 -> 0 | D12: =繰下げ試算シート!$S$11 -> 0 | E12: =E11+D12 -> 0 | F12: =繰下げ試算シート!$S$13 -> 0 | G12: =F12+G11 -> 0 | H12: =繰下げ試算シート!$S$15 -> 0 | I12: =H12+I11 -> 0 | J12: =繰下げ試算シート!$S$17 -> 0 | K12: =J12+K11 -> 0 | L12: =繰下げ試算シート!$S$19 -> 0 | M12: =L12 -> 0
A13: 71 | B13: =繰下げ試算シート!$E$22 -> 0 | C13: =C12+B13 -> 0 | D13: =繰下げ試算シート!$S$11 -> 0 | E13: =E12+D13 -> 0 | F13: =繰下げ試算シート!$S$13 -> 0 | G13: =F13+G12 -> 0 | H13: =繰下げ試算シート!$S$15 -> 0 | I13: =H13+I12 -> 0 | J13: =繰下げ試算シート!$S$17 -> 0 | K13: =J13+K12 -> 0 | L13: =繰下げ試算シート!$S$19 -> 0 | M13: =L13+M12 -> 0
A14: 72 | B14: =繰下げ試算シート!$E$22 -> 0 | C14: =C13+B14 -> 0 | D14: =繰下げ試算シート!$S$11 -> 0 | E14: =E13+D14 -> 0 | F14: =繰下げ試算シート!$S$13 -> 0 | G14: =F14+G13 -> 0 | H14: =繰下げ試算シート!$S$15 -> 0 | I14: =H14+I13 -> 0 | J14: =繰下げ試算シート!$S$17 -> 0 | K14: =J14+K13 -> 0 | L14: =繰下げ試算シート!$S$19 -> 0 | M14: =L14+M13 -> 0
A15: 73 | B15: =繰下げ試算シート!$E$22 -> 0 | C15: =C14+B15 -> 0 | D15: =繰下げ試算シート!$S$11 -> 0 | E15: =E14+D15 -> 0 | F15: =繰下げ試算シート!$S$13 -> 0 | G15: =F15+G14 -> 0 | H15: =繰下げ試算シート!$S$15 -> 0 | I15: =H15+I14 -> 0 | J15: =繰下げ試算シート!$S$17 -> 0 | K15: =J15+K14 -> 0 | L15: =繰下げ試算シート!$S$19 -> 0 | M15: =L15+M14 -> 0
A16: 74 | B16: =繰下げ試算シート!$E$22 -> 0 | C16: =C15+B16 -> 0 | D16: =繰下げ試算シート!$S$11 -> 0 | E16: =E15+D16 -> 0 | F16: =繰下げ試算シート!$S$13 -> 0 | G16: =F16+G15 -> 0 | H16: =繰下げ試算シート!$S$15 -> 0 | I16: =H16+I15 -> 0 | J16: =繰下げ試算シート!$S$17 -> 0 | K16: =J16+K15 -> 0 | L16: =繰下げ試算シート!$S$19 -> 0 | M16: =L16+M15 -> 0
A17: 75 | B17: =繰下げ試算シート!$E$22 -> 0 | C17: =C16+B17 -> 0 | D17: =繰下げ試算シート!$S$11 -> 0 | E17: =E16+D17 -> 0 | F17: =繰下げ試算シート!$S$13 -> 0 | G17: =F17+G16 -> 0 | H17: =繰下げ試算シート!$S$15 -> 0 | I17: =H17+I16 -> 0 | J17: =繰下げ試算シート!$S$17 -> 0 | K17: =J17+K16 -> 0 | L17: =繰下げ試算シート!$S$19 -> 0 | M17: =L17+M16 -> 0 | N17: =繰下げ試算シート!$S$21 -> 0 | O17: =N17 -> 0
A18: 76 | B18: =繰下げ試算シート!$E$22 -> 0 | C18: =C17+B18 -> 0 | D18: =繰下げ試算シート!$S$11 -> 0 | E18: =E17+D18 -> 0 | F18: =繰下げ試算シート!$S$13 -> 0 | G18: =F18+G17 -> 0 | H18: =繰下げ試算シート!$S$15 -> 0 | I18: =H18+I17 -> 0 | J18: =繰下げ試算シート!$S$17 -> 0 | K18: =J18+K17 -> 0 | L18: =繰下げ試算シート!$S$19 -> 0 | M18: =L18+M17 -> 0 | N18: =繰下げ試算シート!$S$21 -> 0 | O18: =O17+N18 -> 0
A19: 77 | B19: =繰下げ試算シート!$E$22 -> 0 | C19: =C18+B19 -> 0 | D19: =繰下げ試算シート!$S$11 -> 0 | E19: =E18+D19 -> 0 | F19: =繰下げ試算シート!$S$13 -> 0 | G19: =F19+G18 -> 0 | H19: =繰下げ試算シート!$S$15 -> 0 | I19: =H19+I18 -> 0 | J19: =繰下げ試算シート!$S$17 -> 0 | K19: =J19+K18 -> 0 | L19: =繰下げ試算シート!$S$19 -> 0 | M19: =L19+M18 -> 0 | N19: =繰下げ試算シート!$S$21 -> 0 | O19: =O18+N19 -> 0
A20: 78 | B20: =繰下げ試算シート!$E$22 -> 0 | C20: =C19+B20 -> 0 | D20: =繰下げ試算シート!$S$11 -> 0 | E20: =E19+D20 -> 0 | F20: =繰下げ試算シート!$S$13 -> 0 | G20: =F20+G19 -> 0 | H20: =繰下げ試算シート!$S$15 -> 0 | I20: =H20+I19 -> 0 | J20: =繰下げ試算シート!$S$17 -> 0 | K20: =J20+K19 -> 0 | L20: =繰下げ試算シート!$S$19 -> 0 | M20: =L20+M19 -> 0 | N20: =繰下げ試算シート!$S$21 -> 0 | O20: =O19+N20 -> 0
A21: 79 | B21: =繰下げ試算シート!$E$22 -> 0 | C21: =C20+B21 -> 0 | D21: =繰下げ試算シート!$S$11 -> 0 | E21: =E20+D21 -> 0 | F21: =繰下げ試算シート!$S$13 -> 0 | G21: =F21+G20 -> 0 | H21: =繰下げ試算シート!$S$15 -> 0 | I21: =H21+I20 -> 0 | J21: =繰下げ試算シート!$S$17 -> 0 | K21: =J21+K20 -> 0 | L21: =繰下げ試算シート!$S$19 -> 0 | M21: =L21+M20 -> 0 | N21: =繰下げ試算シート!$S$21 -> 0 | O21: =O20+N21 -> 0
A22: 80 | B22: =繰下げ試算シート!$E$22 -> 0 | C22: =C21+B22 -> 0 | D22: =繰下げ試算シート!$S$11 -> 0 | E22: =E21+D22 -> 0 | F22: =繰下げ試算シート!$S$13 -> 0 | G22: =F22+G21 -> 0 | H22: =繰下げ試算シート!$S$15 -> 0 | I22: =H22+I21 -> 0 | J22: =繰下げ試算シート!$S$17 -> 0 | K22: =J22+K21 -> 0 | L22: =繰下げ試算シート!$S$19 -> 0 | M22: =L22+M21 -> 0 | N22: =繰下げ試算シート!$S$21 -> 0 | O22: =O21+N22 -> 0
A23: 81 | B23: =繰下げ試算シート!$E$22 -> 0 | C23: =C22+B23 -> 0 | D23: =繰下げ試算シート!$S$11 -> 0 | E23: =E22+D23 -> 0 | F23: =繰下げ試算シート!$S$13 -> 0 | G23: =F23+G22 -> 0 | H23: =繰下げ試算シート!$S$15 -> 0 | I23: =H23+I22 -> 0 | J23: =繰下げ試算シート!$S$17 -> 0 | K23: =J23+K22 -> 0 | L23: =繰下げ試算シート!$S$19 -> 0 | M23: =L23+M22 -> 0 | N23: =繰下げ試算シート!$S$21 -> 0 | O23: =O22+N23 -> 0
A24: 82 | B24: =繰下げ試算シート!$E$22 -> 0 | C24: =C23+B24 -> 0 | D24: =繰下げ試算シート!$S$11 -> 0 | E24: =E23+D24 -> 0 | F24: =繰下げ試算シート!$S$13 -> 0 | G24: =F24+G23 -> 0 | H24: =繰下げ試算シート!$S$15 -> 0 | I24: =H24+I23 -> 0 | J24: =繰下げ試算シート!$S$17 -> 0 | K24: =J24+K23 -> 0 | L24: =繰下げ試算シート!$S$19 -> 0 | M24: =L24+M23 -> 0 | N24: =繰下げ試算シート!$S$21 -> 0 | O24: =O23+N24 -> 0
A25: 83 | B25: =繰下げ試算シート!$E$22 -> 0 | C25: =C24+B25 -> 0 | D25: =繰下げ試算シート!$S$11 -> 0 | E25: =E24+D25 -> 0 | F25: =繰下げ試算シート!$S$13 -> 0 | G25: =F25+G24 -> 0 | H25: =繰下げ試算シート!$S$15 -> 0 | I25: =H25+I24 -> 0 | J25: =繰下げ試算シート!$S$17 -> 0 | K25: =J25+K24 -> 0 | L25: =繰下げ試算シート!$S$19 -> 0 | M25: =L25+M24 -> 0 | N25: =繰下げ試算シート!$S$21 -> 0 | O25: =O24+N25 -> 0
A26: 84 | B26: =繰下げ試算シート!$E$22 -> 0 | C26: =C25+B26 -> 0 | D26: =繰下げ試算シート!$S$11 -> 0 | E26: =E25+D26 -> 0 | F26: =繰下げ試算シート!$S$13 -> 0 | G26: =F26+G25 -> 0 | H26: =繰下げ試算シート!$S$15 -> 0 | I26: =H26+I25 -> 0 | J26: =繰下げ試算シート!$S$17 -> 0 | K26: =J26+K25 -> 0 | L26: =繰下げ試算シート!$S$19 -> 0 | M26: =L26+M25 -> 0 | N26: =繰下げ試算シート!$S$21 -> 0 | O26: =O25+N26 -> 0
A27: 85 | B27: =繰下げ試算シート!$E$22 -> 0 | C27: =C26+B27 -> 0 | D27: =繰下げ試算シート!$S$11 -> 0 | E27: =E26+D27 -> 0 | F27: =繰下げ試算シート!$S$13 -> 0 | G27: =F27+G26 -> 0 | H27: =繰下げ試算シート!$S$15 -> 0 | I27: =H27+I26 -> 0 | J27: =繰下げ試算シート!$S$17 -> 0 | K27: =J27+K26 -> 0 | L27: =繰下げ試算シート!$S$19 -> 0 | M27: =L27+M26 -> 0 | N27: =繰下げ試算シート!$S$21 -> 0 | O27: =O26+N27 -> 0
A28: 86 | B28: =繰下げ試算シート!$E$22 -> 0 | C28: =C27+B28 -> 0 | D28: =繰下げ試算シート!$S$11 -> 0 | E28: =E27+D28 -> 0 | F28: =繰下げ試算シート!$S$13 -> 0 | G28: =F28+G27 -> 0 | H28: =繰下げ試算シート!$S$15 -> 0 | I28: =H28+I27 -> 0 | J28: =繰下げ試算シート!$S$17 -> 0 | K28: =J28+K27 -> 0 | L28: =繰下げ試算シート!$S$19 -> 0 | M28: =L28+M27 -> 0 | N28: =繰下げ試算シート!$S$21 -> 0 | O28: =O27+N28 -> 0
A29: 87 | B29: =繰下げ試算シート!$E$22 -> 0 | C29: =C28+B29 -> 0 | D29: =繰下げ試算シート!$S$11 -> 0 | E29: =E28+D29 -> 0 | F29: =繰下げ試算シート!$S$13 -> 0 | G29: =F29+G28 -> 0 | H29: =繰下げ試算シート!$S$15 -> 0 | I29: =H29+I28 -> 0 | J29: =繰下げ試算シート!$S$17 -> 0 | K29: =J29+K28 -> 0 | L29: =繰下げ試算シート!$S$19 -> 0 | M29: =L29+M28 -> 0 | N29: =繰下げ試算シート!$S$21 -> 0 | O29: =O28+N29 -> 0
... A42: 100 | B42: =繰下げ試算シート!$E$22 -> 0 | C42: =C41+B42 -> 0 | D42: =繰下げ試算シート!$S$11 -> 0 | E42: =E41+D42 -> 0 | F42: =繰下げ試算シート!$S$13 -> 0 | G42: =F42+G41 -> 0 | H42: =繰下げ試算シート!$S$15 -> 0 | I42: =H42+I41 -> 0 | J42: =繰下げ試算シート!$S$17 -> 0 | K42: =J42+K41 -> 0 | L42: =繰下げ試算シート!$S$19 -> 0 | M42: =L42+M41 -> 0 | N42: =繰下げ試算シート!$S$21 -> 0 | O42: =O41+N42 -> 0

Sheet ねんきん定期便見本
A2: 【50歳以上の方に届くねんきん定期便の見本】
