Workbook

Sheet 繰上げ試算シート
B2: 老齢基礎年金・老齢厚生年金 の 繰上げ試算シート
B4: １．年金受給中の組合員種別を選択してください。 | M4: 退職後に年金受給の場合→ 退職 再任用フルタイムで働きながら年金受給の場合→ 一般組合員 再任用短時間で働きながら年金受給の場合 → 短期組合員
B6: ２．生年月日の該当する方を選択してください。
B8: ３．誕生月の下旬に届いた「ねんきん定期便」の「老齢年金の種類と見込額」の「65歳～」を確認して入力してください。
B10: 受給開始年齢 | E10: 65歳～ | I10: 繰上げ試算結果はこちらです。
B11: （１）国民年金 | E11: 老齢基礎年金 | J11: 老齢基礎年金 | M11: 老齢厚生年金 | P11: 経過的職域加算額 | S11: 合計
G12: 円 | I12: 60歳 | J12: =ROUND(E12*(1-IF(G6="昭和37年4月1日以前",0.005,0.004)*60),0) -> 0 | L12: 円 | M12: =ROUND(SUM(F14:F17,F20:F21)*(1-IF(G6="昭和37年4月1日以前",0.005,0.004)*60),0) -> 0 | O12: 円 | P12: =ROUND((IF(G4="一般組合員",,F18)+F22)*(1-IF(G6="昭和37年4月1日以前",0.005,0.004)*60),0) -> 0 | R12: 円 | S12: =SUM(J12,M12,P12) -> 0 | U12: 円
B13: （２）厚生年金保険 | E13: 老齢厚生年金
C14: 一般厚生年金期間 | E14: （報酬比例部分） | G14: 円 | I14: 61歳 | J14: =ROUND(E12*(1-IF(G6="昭和37年4月1日以前",0.005,0.004)*48),0) -> 0 | L14: 円 | M14: =ROUND(SUM(F14:F17,F20:F21)*(1-IF(G6="昭和37年4月1日以前",0.005,0.004)*48),0) -> 0 | O14: 円 | P14: =ROUND((IF(G4="一般組合員",,F18)+F22)*(1-IF(G6="昭和37年4月1日以前",0.005,0.004)*48),0) -> 0 | R14: 円 | S14: =SUM(J14,M14,P14) -> 0 | U14: 円
E15: （経過的加算部分） | G15: 円
C16: 公務員厚生年金期間 （国家公務員・地方公務員） | E16: （報酬比例部分） | G16: 円 | I16: 62歳 | J16: =ROUND(E12*(1-IF(G6="昭和37年4月1日以前",0.005,0.004)*36),0) -> 0 | L16: 円 | M16: =ROUND(SUM(F14:F17,F20:F21)*(1-IF(G6="昭和37年4月1日以前",0.005,0.004)*36),0) -> 0 | O16: 円 | P16: =ROUND((IF(G4="一般組合員",,F18)+F22)*(1-IF(G6="昭和37年4月1日以前",0.005,0.004)*36),0) -> 0 | R16: 円 | S16: =SUM(J16,M16,P16) -> 0 | U16: 円
E17: （経過的加算部分） | G17: 円
E18: （経過的職域加算額 （共済年金）） ※一般組合員は、全額支給停止になります。 | G18: 円 | I18: 63歳 | J18: =ROUND(E12*(1-IF(G6="昭和37年4月1日以前",0.005,0.004)*24),0) -> 0 | L18: 円 | M18: =ROUND(SUM(F14:F17,F20:F21)*(1-IF(G6="昭和37年4月1日以前",0.005,0.004)*24),0) -> 0 | O18: 円 | P18: =ROUND((IF(G4="一般組合員",,F18)+F22)*(1-IF(G6="昭和37年4月1日以前",0.005,0.004)*24),0) -> 0 | R18: 円 | S18: =SUM(J18,M18,P18) -> 0 | U18: 円
C20: 私学共済厚生年金期間 （私立学校の教職員） | E20: （報酬比例部分） | G20: 円 | I20: 64歳 | J20: =ROUND(E12*(1-IF(G6="昭和37年4月1日以前",0.005,0.004)*12),0) -> 0 | L20: 円 | M20: =ROUND(SUM(F14:F17,F20:F21)*(1-IF(G6="昭和37年4月1日以前",0.005,0.004)*12),0) -> 0 | O20: 円 | P20: =ROUND((IF(G4="一般組合員",,F18)+F22)*(1-IF(G6="昭和37年4月1日以前",0.005,0.004)*12),0) -> 0 | R20: 円 | S20: =SUM(J20,M20,P20) -> 0 | U20: 円
E21: （経過的加算部分） | G21: 円
E22: （経過的職域加算額 （共済年金）） | G22: 円 | I22: 65歳 | J22: =E12 -> 0 | L22: 円 | M22: =SUM(F14:F17,F20:F21) -> 0 | O22: 円 | P22: =IF(G4="一般組合員",,F18)+F22 -> 0 | R22: 円 | S22: =SUM(J22,M22,P22) -> 0 | U22: 円
B23: （１）と（２）の合計 | E23: =SUM(E12,F14:F22) -> 0 | G23: 円
F25: ※ 老齢厚生年金の在職支給停止を考慮した試算結果ではありません。試算結果は年金の決定額（見込）です。 在職中の方は、在職支給停止（年金が一部または全額支給停止）に該当し、実際の支給額が試算結果よりも少額になる可能性があります。 ※ 試算には、加給年金額は含まれていません。（該当する場合は、別途加算（配偶者：約40万/年・子：約23万/年）されます。）
B27: この結果は、作成日時点における法令等に基づくものであって、将来にわたって保障されるものではありません。 本シートでの結果は参考値であり、実際の支給額と異なる場合があります。
B28: ー 繰上げを行う際の注意点 ー
C29: ① 年金額は繰り上げた月数１カ月当たり0.4％（昭和37年4月1日以前に生まれた方は0.5％）が減額され、減額は生涯続きます。請求を行った翌月分から支給されます。 ② 老齢基礎年金、他の実施期間の老齢厚生年金および退職共済年金（経過的職域加算額）も、同時に繰上げ請求する必要があります。（全て減額支給されます。） ③ 在職中でも請求できますが、全額または一部支給停止になる可能性があります。（老齢基礎年金は支給停止されません。） ④ 事後重症による障害厚生（共済）年金の請求ができなくなります。
B34: 【 一般組合員として公立学校共済組合岡山支部に在職中の方が繰上げ請求を行う場合は、福利課年金班（086-226-7605）までご連絡ください。 】

Sheet 受給開始年齢別の累計額（参考）
A2: 繰上受給開始年齢別の年金受給累計額（参考）
C3: ※ 加給年金額や在職支給停止は考慮していませんので、ご注意ください。
M5: （単位：円）
C6: 60歳 | E6: 61歳 | G6: 62歳 | I6: 63歳 | K6: 64歳 | M6: 65歳
A7: 60 | B7: =繰上げ試算シート!$S$12 -> 0 | C7: =SUM(B7) -> 0
A8: 61 | B8: =繰上げ試算シート!$S$12 -> 0 | C8: =SUM(B8+C7) -> 0 | D8: =繰上げ試算シート!$S$14 -> 0 | E8: =D8 -> 0
A9: 62 | B9: =繰上げ試算シート!$S$12 -> 0 | C9: =SUM(B9+C8) -> 0 | D9: =繰上げ試算シート!$S$14 -> 0 | E9: =E8+D9 -> 0 | F9: =繰上げ試算シート!$S$16 -> 0 | G9: =F9 -> 0
A10: 63 | B10: =繰上げ試算シート!$S$12 -> 0 | C10: =SUM(B10+C9) -> 0 | D10: =繰上げ試算シート!$S$14 -> 0 | E10: =E9+D10 -> 0 | F10: =繰上げ試算シート!$S$16 -> 0 | G10: =F10+G9 -> 0 | H10: =繰上げ試算シート!$S$18 -> 0 | I10: =H10 -> 0
A11: 64 | B11: =繰上げ試算シート!$S$12 -> 0 | C11: =SUM(B11+C10) -> 0 | D11: =繰上げ試算シート!$S$14 -> 0 | E11: =E10+D11 -> 0 | F11: =繰上げ試算シート!$S$16 -> 0 | G11: =F11+G10 -> 0 | H11: =繰上げ試算シート!$S$18 -> 0 | I11: =H11+I10 -> 0 | J11: =繰上げ試算シート!$S$20 -> 0 | K11: =J11 -> 0
A12: 65 | B12: =繰上げ試算シート!$S$12 -> 0 | C12: =SUM(B12+C11) -> 0 | D12: =繰上げ試算シート!$S$14 -> 0 | E12: =E11+D12 -> 0 | F12: =繰上げ試算シート!$S$16 -> 0 | G12: =F12+G11 -> 0 | H12: =繰上げ試算シート!$S$18 -> 0 | I12: =H12+I11 -> 0 | J12: =繰上げ試算シート!$S$20 -> 0 | K12: =J12+K11 -> 0 | L12: =繰上げ試算シート!$S$22 -> 0 | M12: =L12 -> 0
A13: 66 | B13: =繰上げ試算シート!$S$12 -> 0 | C13: =SUM(B13+C12) -> 0 | D13: =繰上げ試算シート!$S$14 -> 0 | E13: =E12+D13 -> 0 | F13: =繰上げ試算シート!$S$16 -> 0 | G13: =F13+G12 -> 0 | H13: =繰上げ試算シート!$S$18 -> 0 | I13: =H13+I12 -> 0 | J13: =繰上げ試算シート!$S$20 -> 0 | K13: =J13+K12 -> 0 | L13: =繰上げ試算シート!$S$22 -> 0 | M13: =L13+M12 -> 0
A14: 67 | B14: =繰上げ試算シート!$S$12 -> 0 | C14: =SUM(B14+C13) -> 0 | D14: =繰上げ試算シート!$S$14 -> 0 | E14: =E13+D14 -> 0 | F14: =繰上げ試算シート!$S$16 -> 0 | G14: =F14+G13 -> 0 | H14: =繰上げ試算シート!$S$18 -> 0 | I14: =H14+I13 -> 0 | J14: =繰上げ試算シート!$S$20 -> 0 | K14: =J14+K13 -> 0 | L14: =繰上げ試算シート!$S$22 -> 0 | M14: =L14+M13 -> 0
A15: 68 | B15: =繰上げ試算シート!$S$12 -> 0 | C15: =SUM(B15+C14) -> 0 | D15: =繰上げ試算シート!$S$14 -> 0 | E15: =E14+D15 -> 0 | F15: =繰上げ試算シート!$S$16 -> 0 | G15: =F15+G14 -> 0 | H15: =繰上げ試算シート!$S$18 -> 0 | I15: =H15+I14 -> 0 | J15: =繰上げ試算シート!$S$20 -> 0 | K15: =J15+K14 -> 0 | L15: =繰上げ試算シート!$S$22 -> 0 | M15: =L15+M14 -> 0
A16: 69 | B16: =繰上げ試算シート!$S$12 -> 0 | C16: =SUM(B16+C15) -> 0 | D16: =繰上げ試算シート!$S$14 -> 0 | E16: =E15+D16 -> 0 | F16: =繰上げ試算シート!$S$16 -> 0 | G16: =F16+G15 -> 0 | H16: =繰上げ試算シート!$S$18 -> 0 | I16: =H16+I15 -> 0 | J16: =繰上げ試算シート!$S$20 -> 0 | K16: =J16+K15 -> 0 | L16: =繰上げ試算シート!$S$22 -> 0 | M16: =L16+M15 -> 0
A17: 70 | B17: =繰上げ試算シート!$S$12 -> 0 | C17: =SUM(B17+C16) -> 0 | D17: =繰上げ試算シート!$S$14 -> 0 | E17: =E16+D17 -> 0 | F17: =繰上げ試算シート!$S$16 -> 0 | G17: =F17+G16 -> 0 | H17: =繰上げ試算シート!$S$18 -> 0 | I17: =H17+I16 -> 0 | J17: =繰上げ試算シート!$S$20 -> 0 | K17: =J17+K16 -> 0 | L17: =繰上げ試算シート!$S$22 -> 0 | M17: =L17+M16 -> 0
A18: 71 | B18: =繰上げ試算シート!$S$12 -> 0 | C18: =SUM(B18+C17) -> 0 | D18: =繰上げ試算シート!$S$14 -> 0 | E18: =E17+D18 -> 0 | F18: =繰上げ試算シート!$S$16 -> 0 | G18: =F18+G17 -> 0 | H18: =繰上げ試算シート!$S$18 -> 0 | I18: =H18+I17 -> 0 | J18: =繰上げ試算シート!$S$20 -> 0 | K18: =J18+K17 -> 0 | L18: =繰上げ試算シート!$S$22 -> 0 | M18: =L18+M17 -> 0
A19: 72 | B19: =繰上げ試算シート!$S$12 -> 0 | C19: =SUM(B19+C18) -> 0 | D19: =繰上げ試算シート!$S$14 -> 0 | E19: =E18+D19 -> 0 | F19: =繰上げ試算シート!$S$16 -> 0 | G19: =F19+G18 -> 0 | H19: =繰上げ試算シート!$S$18 -> 0 | I19: =H19+I18 -> 0 | J19: =繰上げ試算シート!$S$20 -> 0 | K19: =J19+K18 -> 0 | L19: =繰上げ試算シート!$S$22 -> 0 | M19: =L19+M18 -> 0
A20: 73 | B20: =繰上げ試算シート!$S$12 -> 0 | C20: =SUM(B20+C19) -> 0 | D20: =繰上げ試算シート!$S$14 -> 0 | E20: =E19+D20 -> 0 | F20: =繰上げ試算シート!$S$16 -> 0 | G20: =F20+G19 -> 0 | H20: =繰上げ試算シート!$S$18 -> 0 | I20: =H20+I19 -> 0 | J20: =繰上げ試算シート!$S$20 -> 0 | K20: =J20+K19 -> 0 | L20: =繰上げ試算シート!$S$22 -> 0 | M20: =L20+M19 -> 0
A21: 74 | B21: =繰上げ試算シート!$S$12 -> 0 | C21: =SUM(B21+C20) -> 0 | D21: =繰上げ試算シート!$S$14 -> 0 | E21: =E20+D21 -> 0 | F21: =繰上げ試算シート!$S$16 -> 0 | G21: =F21+G20 -> 0 | H21: =繰上げ試算シート!$S$18 -> 0 | I21: =H21+I20 -> 0 | J21: =繰上げ試算シート!$S$20 -> 0 | K21: =J21+K20 -> 0 | L21: =繰上げ試算シート!$S$22 -> 0 | M21: =L21+M20 -> 0
A22: 75 | B22: =繰上げ試算シート!$S$12 -> 0 | C22: =SUM(B22+C21) -> 0 | D22: =繰上げ試算シート!$S$14 -> 0 | E22: =E21+D22 -> 0 | F22: =繰上げ試算シート!$S$16 -> 0 | G22: =F22+G21 -> 0 | H22: =繰上げ試算シート!$S$18 -> 0 | I22: =H22+I21 -> 0 | J22: =繰上げ試算シート!$S$20 -> 0 | K22: =J22+K21 -> 0 | L22: =繰上げ試算シート!$S$22 -> 0 | M22: =L22+M21 -> 0
A23: 76 | B23: =繰上げ試算シート!$S$12 -> 0 | C23: =SUM(B23+C22) -> 0 | D23: =繰上げ試算シート!$S$14 -> 0 | E23: =E22+D23 -> 0 | F23: =繰上げ試算シート!$S$16 -> 0 | G23: =F23+G22 -> 0 | H23: =繰上げ試算シート!$S$18 -> 0 | I23: =H23+I22 -> 0 | J23: =繰上げ試算シート!$S$20 -> 0 | K23: =J23+K22 -> 0 | L23: =繰上げ試算シート!$S$22 -> 0 | M23: =L23+M22 -> 0
A24: 77 | B24: =繰上げ試算シート!$S$12 -> 0 | C24: =SUM(B24+C23) -> 0 | D24: =繰上げ試算シート!$S$14 -> 0 | E24: =E23+D24 -> 0 | F24: =繰上げ試算シート!$S$16 -> 0 | G24: =F24+G23 -> 0 | H24: =繰上げ試算シート!$S$18 -> 0 | I24: =H24+I23 -> 0 | J24: =繰上げ試算シート!$S$20 -> 0 | K24: =J24+K23 -> 0 | L24: =繰上げ試算シート!$S$22 -> 0 | M24: =L24+M23 -> 0
... A47: 100 | B47: =繰上げ試算シート!$S$12 -> 0 | C47: =SUM(B47+C46) -> 0 | D47: =繰上げ試算シート!$S$14 -> 0 | E47: =E46+D47 -> 0 | F47: =繰上げ試算シート!$S$16 -> 0 | G47: =F47+G46 -> 0 | H47: =繰上げ試算シート!$S$18 -> 0 | I47: =H47+I46 -> 0 | J47: =繰上げ試算シート!$S$20 -> 0 | K47: =J47+K46 -> 0 | L47: =繰上げ試算シート!$S$22 -> 0 | M47: =L47+M46 -> 0

Sheet ねんきん定期便見本
A2: 【50歳以上の方に届くねんきん定期便の見本】
