Workbook

Sheet 入力箇所_出産後
A1: 共済・互助に関する「組合員本人（男性）の被扶養者で配偶者の出産後の手続き」について
A3: なお、このファイルは、ブラウザ上（インターネット画面）では、入力・印刷が
A4: 適正に行えませんので、ExcelがインストールされたPC等へダウンロードしてご利用願います。
A6: ＜このファイルの使い方＞
A7: 1 | B7: 以下の「太枠セル」の項目を入力する。 （印刷用シートに入力内容が反映します。）
B8: ↓
A9: 2 | B9: 「印刷用」シートを紙に出力する。 （所属所へファイル送信し、所属所で紙出力も可）
B10: ↓
A11: 3 | B11: 出力様式に 「所属受付印・所属所長の記名・押印」 し、福利課あて提出する。
B12: （添付書類が必要な場合、あわせて提出）
A16: 入力項目
A17: 0 | B17: この手続の入力日（西暦入力） 例：2000/01/01 yyyy/mm/dd形式で入力
B18: 46113 | C18: 入力は西暦、表示は和暦となります
A19: 1 | B19: 組合員番号 例：K00000、500000、Y00000
B20: K12345
A21: 2 | B21: 組合員氏名
B22: テスト 太郎
A23: 3 | B23: 組合員住所 例：○○市□□1-1 マンション101
B24: ○○市□□1-1 マンション101
A25: 4 | B25: 組合員の資格取得日 例：2000/01/01 yyyy/mm/dd形式で入力
B26: 43922
A27: 5 | B27: 所属所名 例：○○学校
B28: ○○学校
A29: 6 | B29: 所属所住所 例：○○市□□1-2
B30: ○○市□□1-2
A31: 7 | B31: （任意項目 空白可） 出産予定日（西暦入力） 例：2000/01/01 yyyy/mm/dd形式で入力
C32: 入力は西暦、表示は和暦となります
A33: 8 | B33: 出産日（西暦入力） 例：2000/01/01 yyyy/mm/dd形式で入力
B34: 46143 | C34: 入力は西暦、表示は和暦となります
B35: （No9～16は、出産者が被扶養者の場合のみ入力 「家族出産費・同附加金」への入力)
A36: 9 | B36: 出産した被扶養者の氏名
A38: 10 | B38: 出産した被扶養者の生年月日 例：2000/01/01 yyyy/mm/dd形式で入力
A40: 11 | B40: 出産した被扶養者の認定年月日 例：2000/01/01 yyyy/mm/dd形式で入力
A42: 12 | B42: 出産児数 を選択（死産・流産含む）
A44: 13 | B44: 出産児の氏名 （多胎の場合、氏名を連記してください。例：岡山花子、岡山次郎）
B45: 〇〇 〇〇
A46: 14 | B46: 出産児の組合員との続柄を選択 （多胎の場合、続柄を連記してください。例：長女、次女）
A48: 15 | B48: 被扶養者が出産した医療機関名
B49: 〇〇病院
A50: 16 | B50: 医療機関への支払を選択
...

Sheet 印刷用_出産後
A1: あなたの提出書類等
B3: 以下に表示された「様式」と「添付書類」を所属所経由で送付願います。
B4: ・ | C4: 様式の太枠に記入（所属所長の記名・押印・所属所受付）後、福利課あて提出してください。
B5: ・ | C5: このファイルを所属所へ送信し、所属所で紙媒体に出力することでも差し支えありません。
A7: 1 | B7: 提出書類 （所属所経由で提出するもの）
B8: =IF(C8="","","・") | C8: =IF(入力箇所_出産後!B51="","","家族出産費・同附加金請求書")
B9: ・ | C9: 育児休業等掛金免除申出書／育児休業（支援）手当金請求書
B10: =IF(C10="","","・") | C10: =IF(入力箇所_出産後!B110="猶予希望","償還猶予申出書（共済・互助）","")
A12: 2 | B12: 添付書類 （コピーによる提出可）
B13: ■出産費関係
B14: =IF(入力箇所_出産後!B54="","なし",入力箇所_出産後!B54) -> なし
B15: =入力箇所_出産後!B55
B17: ■「育児休業支援手当金関係
B18: =入力箇所_出産後!B100 -> なし
B19: =入力箇所_出産後!B101
B21: =入力箇所_出産後!B102
A27: 3 | B27: 連絡事項
A28: （1）保育補助用品について
B29: ■補助用品：候補品の中から出生児一人につき１点贈呈、出産後、以下から申請願います。 情報誌：出産者一人につき１セット贈呈、用品申請後、送付します。 ■対象者：「組合員（男性）で被扶養者である配偶者（女性）が出産した者」 （配偶者がいわゆる健康保険上の被扶養者でない場合は対象外） ※なお、夫婦とも組合員の場合、出産者（女性）のマイページから申請をお願いします。 ■申請先：HP「おかやま教職員福利厚生ネット」 ＞ マイページ（ログイン）＞ 事業申込－その他 ＞ 保育補助用品（当年度）申請フォーム から https://www.okayamafukurinet.jp/mypage/index.cgi?c=reception_form-1#anchor99 審査（出産の事実確認）後、申請月の翌月20日頃、指定業者から用品をお届けします。 ただし、審査に時間を要し、用品のお届けが申請月の翌々月となる場合があります。
A41: （2）積立預金について
B42: 産休中：積み立てを継続します。 育休中：育休開始月で自動解約となります。（手続不要） 払戻金：育休開始月の末日または翌月末日に、登録口座へ送金します。 再開 ：育休終了後に積み立てを希望される場合は、新規申し込みが必要です。
C48: 〒700-8570 | W48: ← 所属所で受付後、
C50: 岡山市北区内山下2-4-6 県庁西庁舎4F | W50: 提出用の宛名ラベル
D52: 岡山県教育庁福利課 | L52: 御中
G59: 出 産 費・同附加金（共済） | Z59: 請 求 書
G61: 家族出産費・同附加金（共済）
AA63: 直接支払制度を利用した場合は、右を○で囲ってください。→ | AB63: =入力箇所_出産後!B51 -> 0
A65: 組合員氏名 | F65: =入力箇所_出産後!B22 -> テスト 太郎 | N65: 組合員番号 | R65: 公立岡山 | S65: =入力箇所_出産後!B20 -> K12345 | Z65: 出産者 | AC65: 被扶養者である 家族
A66: 所属機関の名称及び所在地 | F66: =入力箇所_出産後!B30 -> ○○市□□1-2 | U66: 出産児数 死産・流産 を含む | Z66: =入力箇所_出産後!B43 -> 0 | AC66: 退職 区分 | AE66: 現 職
F67: =入力箇所_出産後!B28 -> ○○学校
A68: 出産者氏名 | F68: =入力箇所_出産後!B37 -> 0 | N68: 組合員との 続柄 | R68: 本人 | U68: 出産者の 生年月日 | Z68: =入力箇所_出産後!B39 -> 0 | AG68: 性 別 | AH68: 男
A69: 出産児氏名 | F69: =入力箇所_出産後!B45 -> 〇〇 〇〇 | N69: 組合員との 続柄 | R69: =入力箇所_出産後!B47 -> 0 | U69: 出産年月日 | Z69: =入力箇所_出産後!B34 -> 46143 | AG69: 出産
A70: ※出産に 要した費用 | O70: 円 | P70: ※医療機関等へ支払う額 （給付から控除する額） | AI70: 円
A71: 出産の場所 | F71: =入力箇所_出産後!B49 -> 〇〇病院 | P71: 資格取得 年 月 日 | T71: =入力箇所_出産後!B26 -> 43922 | Z71: 資格喪失 年 月 日
A72: 請 求 金 額 | F72: 出産費・家族出産費 | R72: 同附加金 | V72: 出産者が被扶養者の場合は記入してください。
F73: 488,000円 | R73: 50000 | U73: 円 | V73: ・被扶養者認定年月日 | AC73: =入力箇所_出産後!B41 -> 0
A74: 該当しない 給付は抹消 のこと | F74: 500,000円（産科医療補償制度分） | V74: ・認定されて６ヶ月以内の出産の場合
F75: 直接支払制度利用の場合は、共済組合が 医療機関等へ支払う出産費等との差額 | V75: 認定前に加入していた医療保険制度名
F76: 〔 | P76: 円 | Q76: 〕 | W76: （ | AI76: ）
A77: 医師又は助産師 の証明 | AB77: （出産児数）
...

Sheet 別紙
F1: 別紙
B2: 【添付書類】
B3: パパママ育休プラス制度の適用を受ける者、育児休業支援手当金を請求する者は該当する要件に応じた
B4: 添付書類を併せて提出してください。（コピー可）
B6: 該当要件 | E6: 添付書類
D7: パパママ育休プラス | E7: ・配偶者の育児休業取得が分かる書類（※１）（申出書不可） | F7: ・世帯全員の住民票の写し（続柄の記載があり、かつ個人番号の記載が省略されたもの） | G7: ※１ 配偶者が公立学校共済組合岡山支部の場合は、添付不要です。 該当者は請求書の「配偶者の組合員番号」欄に配偶者の組合員番号を記入してください。 （なお、共済組合で育児休業・産後休業（休暇）の取得が確認できない場合は、追加で書類の提出を求める場合があります。）
B8: 育児休業支援手当金 | D8: 1 配偶者が育児休業を取得 | E8: ・配偶者の育児休業取得及び期間が分かる書類（※１）（申出書不可） | F8: ・世帯全員の住民票の写し（続柄の記載があり、かつ個人番号の記載が省略されたもの） | G8: ※１ 配偶者が公立学校共済組合岡山支部の場合は、添付不要です。 該当者は請求書の「配偶者の組合員番号」欄に配偶者の組合員番号を記入してください。 （なお、共済組合で育児休業・産後休業（休暇）の取得が確認できない場合は、追加で書類の提出を求める場合があります。） | H8: 以下に「配偶者の育児休業期間」を入力（育児休業支援手当金関係）
D9: 2 配偶者が産後休業（休暇）を取得 | E9: ・配偶者の産後休業・休暇取得が分かる書類（※１） | F9: ・世帯全員の住民票の写し（続柄の記載があり、かつ個人番号の記載が省略されたもの） | G9: ※１ 配偶者が公立学校共済組合岡山支部の場合は、添付不要です。 該当者は請求書の「配偶者の組合員番号」欄に配偶者の組合員番号を記入してください。 （なお、共済組合で育児休業・産後休業（休暇）の取得が確認できない場合は、追加で書類の提出を求める場合があります。） | H9: 以下に「配偶者の産後休暇期間」を入力（育児休業支援手当金関係）
D10: 3 配偶者が雇用保険法第5条第1項に規定する適用事業に雇用される労働者でない場合 | E10: ・世帯全員の住民票の写し（続柄の記載があるもの） | F10: ・配偶者の直近の所得証明書（※２） | G10: ※２ 給与収入がないことを確認します。所得証明書で給与収入が確認できる場合は、請求時点で給与収入がないことが分かる書類を添付してください。（退職が分かる書類等） | H10: 入力不要
D11: 4 配偶者のない者 | E11: ・組合員本人の戸籍謄本 | G11: ※ この件に該当する場合の添付書類の詳細は、事前に福利課給付班にお問い合わせください。 | H11: 入力不要
D12: 5 配偶者が子を養育するための休業をすることができない場合 | E12: ・世帯全員の住民票の写し（続柄の記載があり、かつ個人番号の記載が省略されたもの） | F12: 配偶者が育児休業を取得できないことを確認できる書類 | G12: ※ この件に該当する場合の添付書類の詳細は、事前に福利課給付班にお問い合わせください。 | H12: 入力不要
D13: 該当なし | E13: なし | H13: 入力不要
